BEGIN:VCALENDAR
VERSION:2.0
PRODID:-//UP BAR REVIEW - ECPv6.14.2//NONSGML v1.0//EN
CALSCALE:GREGORIAN
METHOD:PUBLISH
X-ORIGINAL-URL:https://upbarreview.com
X-WR-CALDESC:Events for UP BAR REVIEW
REFRESH-INTERVAL;VALUE=DURATION:PT1H
X-Robots-Tag:noindex
X-PUBLISHED-TTL:PT1H
BEGIN:VTIMEZONE
TZID:UTC
BEGIN:STANDARD
TZOFFSETFROM:+0000
TZOFFSETTO:+0000
TZNAME:UTC
DTSTART:20240101T000000
END:STANDARD
END:VTIMEZONE
BEGIN:VEVENT
DTSTART;TZID=UTC:20240710T113000
DTEND;TZID=UTC:20240710T133000
DTSTAMP:20260420T211136
CREATED:20240626T145344Z
LAST-MODIFIED:20240626T145554Z
UID:10000549-1720611000-1720618200@upbarreview.com
SUMMARY:Lunch on Ludington Music Series - Escanaba
DESCRIPTION:Take time in the middle of your day with friends and co-workers for music at Lunch on Ludington at the Escanaba Marketplace.\nThe Seth Brown Duo is performing on Wednesday\, July 3. Seth is a songwriter\, a modern day Tom Petty. Food vendors include For the Love of Cupcakes.\nThe rest of the schedule includes:\nJuly 10 Wingin’ ItJuly 17 John RomanJuly 24 Cash O’RileyJuly 31 House Blues BandAug. 7 Troy Graham\nBring or get a lunch\, we’ll provide the music.\nEscanaba has the longest small town downtown in Michigan\, jammed packed with unique shops\, great restaurants and dedicated businesses ready to welcome you. Take time for lunch\, enjoy some music and stop by a downtown business.\nStarts at 11:30 a.m. and goes to 1:30 p.m. at the corner of 15th and Ludington Streets. Rain or shine under the pavilion. Plus\, the Escanaba Farmers Market runs from 3 to 6 p.m. at the Marketplace.\nDowntown Escanaba is the place to be for the Lunch on Ludington music series on Wednesdays.
URL:https://upbarreview.com/event/lunch-on-ludington-music-series-cash-oriley/2024-07-10/
LOCATION:Escanaba Marketplace\, 1501 Ludington St\, Escanaba\, MI\, 49829
CATEGORIES:Menominee
END:VEVENT
BEGIN:VEVENT
DTSTART;TZID=UTC:20240710T150000
DTEND;TZID=UTC:20240710T180000
DTSTAMP:20260420T211136
CREATED:20240626T145913Z
LAST-MODIFIED:20240728T212922Z
UID:10000554-1720623600-1720634400@upbarreview.com
SUMMARY:Escanaba Farmers Market
DESCRIPTION:The Escanaba Farmers Market runs from 3 to 6 p.m. at the Marketplace on Wednesdays. Catch music from 11:30am-1:30pm beforehand. Come check it out!
URL:https://upbarreview.com/event/escanaba-farmers-market/2024-07-10/
LOCATION:Escanaba Marketplace\, 1501 Ludington St\, Escanaba\, MI\, 49829
CATEGORIES:Menominee
END:VEVENT
BEGIN:VEVENT
DTSTART;TZID=UTC:20240710T173000
DTEND;TZID=UTC:20240710T200000
DTSTAMP:20260420T211136
CREATED:20240626T194717Z
LAST-MODIFIED:20240628T184246Z
UID:10000858-1720632600-1720641600@upbarreview.com
SUMMARY:The Craft Cave - Mosaic Bird Bath - Marinette
DESCRIPTION:Mosaic bird bath/ tray 11 inches round. 2 part class\, design and glue at first class and come back for 2 nd class to grout. Class is 40$\, BYOB. Sign up is ONLY BY PHONE CALL. Call to sign up at 715-587-4643.
URL:https://upbarreview.com/event/the-craft-cave-mosaic-bird-bath-marinette/2024-07-10/
LOCATION:The Craft Cave\, 605 Main St.\, Marinette\, WI\, 54143\, United States
CATEGORIES:Menominee
END:VEVENT
BEGIN:VEVENT
DTSTART;TZID=UTC:20240710T180000
DTEND;TZID=UTC:20240710T200000
DTSTAMP:20260420T211136
CREATED:20240530T185035Z
LAST-MODIFIED:20240530T185035Z
UID:10000307-1720634400-1720641600@upbarreview.com
SUMMARY:Bands at Badger - Neon Detour
DESCRIPTION:Sponsored by: Stephenson National Bank and Trust & Lafortune Auto Body Inc.\n[☀️] Free Admission\n[☀️]  Bring your lawn chair\n[☀️]  Concessions open at 5pm\n[☀️]  Music is a variety of Oldies\, Country & Now
URL:https://upbarreview.com/event/bands-at-badger-neon-detour/
LOCATION:Badger Park\, 300 E Park Dr\, Peshtigo\, WI\, 54147
CATEGORIES:Menominee
END:VEVENT
END:VCALENDAR