BEGIN:VCALENDAR
VERSION:2.0
PRODID:-//UP BAR REVIEW - ECPv6.14.2//NONSGML v1.0//EN
CALSCALE:GREGORIAN
METHOD:PUBLISH
X-ORIGINAL-URL:https://upbarreview.com
X-WR-CALDESC:Events for UP BAR REVIEW
REFRESH-INTERVAL;VALUE=DURATION:PT1H
X-Robots-Tag:noindex
X-PUBLISHED-TTL:PT1H
BEGIN:VTIMEZONE
TZID:UTC
BEGIN:STANDARD
TZOFFSETFROM:+0000
TZOFFSETTO:+0000
TZNAME:UTC
DTSTART:20240101T000000
END:STANDARD
END:VTIMEZONE
BEGIN:VEVENT
DTSTART;TZID=UTC:20240707T080000
DTEND;TZID=UTC:20240707T170000
DTSTAMP:20260420T224424
CREATED:20240628T212447Z
LAST-MODIFIED:20240628T212447Z
UID:10000991-1720339200-1720371600@upbarreview.com
SUMMARY:Ironworks - Sunday Funday Live Music - Marinette
DESCRIPTION:Check it out! Live Music this Sunday at IRONWORKS! We have music every Sunday!
URL:https://upbarreview.com/event/ironworks-sunday-funday-live-music-marinette/2024-07-07/
LOCATION:Ironworks\, 1333 Main St.\, Marinette\, WI\, 54143\, United States
CATEGORIES:Menominee
END:VEVENT
BEGIN:VEVENT
DTSTART;TZID=UTC:20240707T100000
DTEND;TZID=UTC:20240707T140000
DTSTAMP:20260420T224424
CREATED:20240626T184723Z
LAST-MODIFIED:20240626T184723Z
UID:10000837-1720346400-1720360800@upbarreview.com
SUMMARY:Peshtigo Gun Club - Independence Day 50-Bird Lewis Shoot - Peshtigo
DESCRIPTION:50-bird Lewis event. One class per 10 shooters. Pays 60/40\, ties divide. High-gun option. Last squad out by 1:45pm. Open to the public.
URL:https://upbarreview.com/event/peshtigo-gun-club-independence-day-50-bird-lewis-shoot-peshtigo/
LOCATION:Peshtigo Gun Club\, W2803 Pheasant Farm Rd\, Peshtigo\, WI\, 54157
CATEGORIES:Menominee
END:VEVENT
BEGIN:VEVENT
DTSTART;TZID=UTC:20240707T140000
DTEND;TZID=UTC:20240707T160000
DTSTAMP:20260420T224424
CREATED:20240627T232807Z
LAST-MODIFIED:20240627T232807Z
UID:10000878-1720360800-1720368000@upbarreview.com
SUMMARY:Loopy's Bar & Grill - Live Music - Porterfield
DESCRIPTION:Join Nettle Hill for an afternoon at Loopy’s!
URL:https://upbarreview.com/event/loopys-bar-grill-live-music-porterfield/
LOCATION:Loopy’s Bar & Grill\, Loomis Rd\, Porterfield\, WI\, 54159
CATEGORIES:Menominee
END:VEVENT
BEGIN:VEVENT
DTSTART;TZID=UTC:20240707T140000
DTEND;TZID=UTC:20240707T180000
DTSTAMP:20260420T224424
CREATED:20240626T154304Z
LAST-MODIFIED:20240626T154304Z
UID:10000656-1720360800-1720375200@upbarreview.com
SUMMARY:Red\, White\, and BLOODYS - Escanaba
DESCRIPTION:Come finish off your Fourth of July weekend with us! Upper Hand Brewery will be here with Yopper Ale and Paddle Tail Lager\, Curious Pig will be parked outside with their delicious food and we will be making the Bloody Mary’s and Bloody Mary bar!! We will have Bloodys and Beer Bucket Specials and a prize wheel! Party starts at 2!
URL:https://upbarreview.com/event/red-white-and-bloodys-escanaba/
LOCATION:Upper Hand Brewery\, 3525 Airport Rd\, Escanaba\, WI\, 49829
CATEGORIES:Menominee
END:VEVENT
END:VCALENDAR