BEGIN:VCALENDAR
VERSION:2.0
PRODID:-//UP BAR REVIEW - ECPv6.14.2//NONSGML v1.0//EN
CALSCALE:GREGORIAN
METHOD:PUBLISH
X-WR-CALNAME:UP BAR REVIEW
X-ORIGINAL-URL:https://upbarreview.com
X-WR-CALDESC:Events for UP BAR REVIEW
REFRESH-INTERVAL;VALUE=DURATION:PT1H
X-Robots-Tag:noindex
X-PUBLISHED-TTL:PT1H
BEGIN:VTIMEZONE
TZID:UTC
BEGIN:STANDARD
TZOFFSETFROM:+0000
TZOFFSETTO:+0000
TZNAME:UTC
DTSTART:20240101T000000
END:STANDARD
END:VTIMEZONE
BEGIN:VEVENT
DTSTART;TZID=UTC:20240630T080000
DTEND;TZID=UTC:20240630T170000
DTSTAMP:20260421T000818
CREATED:20240628T212447Z
LAST-MODIFIED:20240628T212447Z
UID:10000990-1719734400-1719766800@upbarreview.com
SUMMARY:Ironworks - Sunday Funday Live Music - Marinette
DESCRIPTION:Check it out! Live Music this Sunday at IRONWORKS! We have music every Sunday!
URL:https://upbarreview.com/event/ironworks-sunday-funday-live-music-marinette/2024-06-30/
LOCATION:Ironworks\, 1333 Main St.\, Marinette\, WI\, 54143\, United States
CATEGORIES:Menominee
END:VEVENT
BEGIN:VEVENT
DTSTART;TZID=UTC:20240630T100000
DTEND;TZID=UTC:20240630T160000
DTSTAMP:20260421T000819
CREATED:20240626T133228Z
LAST-MODIFIED:20240626T133228Z
UID:10000544-1719741600-1719763200@upbarreview.com
SUMMARY:Art For All 2024
DESCRIPTION:Art for All is a one-day\, juried art show and sale held at the Great Lakes Memorial Marina Park along Menominee’s Historical Waterfront on Sunday\, June 30th from 10:00 a.m. to 4:00 p.m. CST This is a free community event\, now in it’s 28th year\, brings together dozens of artists from across the region.
URL:https://upbarreview.com/event/art-for-all-2024/
LOCATION:Great Lakes Memorial Marina Park\, 904 Doyle Dr\, Menominee\, MI\, 49858
CATEGORIES:Menominee
END:VEVENT
BEGIN:VEVENT
DTSTART;TZID=UTC:20240630T140000
DTEND;TZID=UTC:20240630T170000
DTSTAMP:20260421T000819
CREATED:20240626T154533Z
LAST-MODIFIED:20240626T154533Z
UID:10000657-1719756000-1719766800@upbarreview.com
SUMMARY:Safe Sax Solo - Peshtigo
DESCRIPTION:Featuring Michael Prusinsky on Vocals\, Saxophones & Percussion Fun!! Performing a variety of musical genres for your listening tastebuds:))
URL:https://upbarreview.com/event/safe-sax-solo-peshtigo/
LOCATION:Peshtigo Pub & Grill\, 350 Oconto Ave\, Peshtigo\, WI\, 54157
CATEGORIES:Menominee
END:VEVENT
BEGIN:VEVENT
DTSTART;TZID=UTC:20240630T140000
DTEND;TZID=UTC:20240630T180000
DTSTAMP:20260421T000819
CREATED:20240608T022036Z
LAST-MODIFIED:20240608T022036Z
UID:10000458-1719756000-1719770400@upbarreview.com
SUMMARY:Dome Lanes - Live Bands on The Patio - Kate Voss & The Sauce
DESCRIPTION:PLEASE SHARE!!MARK YOUR CALENDARS SUNDAY FUNDAY!!! Singing\, Dancing\, and more!!! KATE VOSS AND THE HOT SAUCE!!!Date: June 30thTime: 2PM – 6PM (Come early / stay late)Where: Dome LanesLink: https://www.bananasentertainment.com/…/sunday-june-30
URL:https://upbarreview.com/event/dome-lanes-live-bands-on-the-patio-kate-voss-the-sauce/
LOCATION:Dome Lanes\, 801 University Dr\, Marinette\, WI\, 54143\, United States
CATEGORIES:Menominee
END:VEVENT
END:VCALENDAR