BEGIN:VCALENDAR
VERSION:2.0
PRODID:-//UP BAR REVIEW - ECPv6.14.2//NONSGML v1.0//EN
CALSCALE:GREGORIAN
METHOD:PUBLISH
X-ORIGINAL-URL:https://upbarreview.com
X-WR-CALDESC:Events for UP BAR REVIEW
REFRESH-INTERVAL;VALUE=DURATION:PT1H
X-Robots-Tag:noindex
X-PUBLISHED-TTL:PT1H
BEGIN:VTIMEZONE
TZID:UTC
BEGIN:STANDARD
TZOFFSETFROM:+0000
TZOFFSETTO:+0000
TZNAME:UTC
DTSTART:20240101T000000
END:STANDARD
END:VTIMEZONE
BEGIN:VEVENT
DTSTART;TZID=UTC:20240626T080000
DTEND;TZID=UTC:20240626T170000
DTSTAMP:20260421T003407
CREATED:20240626T173854Z
LAST-MODIFIED:20240626T173854Z
UID:10000737-1719388800-1719421200@upbarreview.com
SUMMARY:4th of July - Crivitz
DESCRIPTION:Join us for our 4th of July festivities starting with a flag raising\, parade and then food and music in the park\, ending the night with a fireworks display!
URL:https://upbarreview.com/event/4th-of-july-crivitz/
LOCATION:Park Place Ln\, Crivitz\, WI\, 54114
CATEGORIES:Menominee
END:VEVENT
BEGIN:VEVENT
DTSTART;TZID=UTC:20240626T110000
DTEND;TZID=UTC:20240626T130000
DTSTAMP:20260421T003407
CREATED:20240529T235740Z
LAST-MODIFIED:20240529T235816Z
UID:10000161-1719399600-1719406800@upbarreview.com
SUMMARY:Cat County 95.1 FM - Weiner Wednesday
DESCRIPTION:Guess what’s back\, folks? It’s time to relish the return of WIENER WEDNESDAY!  Get ready for a sizzlin’ summer packed with hotdogs\, fun\, and fabulous prizes! We’re giving away 100 hotdogs at local businesses all summer long\, plus the chance to snag our exclusive WIENER WEDNESDAY shirts that are hotter than the grill itself!  Don’t be a weenie—swing by on Wednesdays from 11 am to 1 pm and join Cat Country 95.1 at the hottest spots in town! Let’s ketchup and celebrate the joy of Wieners from The Boys’ Burger Company  (Hotdogs served at Noon)
URL:https://upbarreview.com/event/cat-county-95-1-fm-weiner-wednesday-3/
LOCATION:Carquest Auto Parts
CATEGORIES:Menominee
END:VEVENT
BEGIN:VEVENT
DTSTART;TZID=UTC:20240626T193000
DTEND;TZID=UTC:20240626T210000
DTSTAMP:20260421T003407
CREATED:20240530T001257Z
LAST-MODIFIED:20240530T001257Z
UID:10000165-1719430200-1719435600@upbarreview.com
SUMMARY:Ironworks - Open Mic Night
DESCRIPTION:LIVE MUSIC every Wednesday night at 730pm\nOpen Mic\, bring yourself your friends and talent and jam with us!
URL:https://upbarreview.com/event/ironworks-open-mic-night-4/
LOCATION:Ironworks\, 1333 Main St.\, Marinette\, WI\, 54143\, United States
CATEGORIES:Menominee
END:VEVENT
END:VCALENDAR