BEGIN:VCALENDAR
VERSION:2.0
PRODID:-//UP BAR REVIEW - ECPv6.14.2//NONSGML v1.0//EN
CALSCALE:GREGORIAN
METHOD:PUBLISH
X-WR-CALNAME:UP BAR REVIEW
X-ORIGINAL-URL:https://upbarreview.com
X-WR-CALDESC:Events for UP BAR REVIEW
REFRESH-INTERVAL;VALUE=DURATION:PT1H
X-Robots-Tag:noindex
X-PUBLISHED-TTL:PT1H
BEGIN:VTIMEZONE
TZID:UTC
BEGIN:STANDARD
TZOFFSETFROM:+0000
TZOFFSETTO:+0000
TZNAME:UTC
DTSTART:20240101T000000
END:STANDARD
END:VTIMEZONE
BEGIN:VEVENT
DTSTART;TZID=UTC:20240620T150000
DTEND;TZID=UTC:20240620T190000
DTSTAMP:20260421T000818
CREATED:20240522T233356Z
LAST-MODIFIED:20240522T233356Z
UID:10000145-1718895600-1718910000@upbarreview.com
SUMMARY:The Waterfront Market - Menominee
DESCRIPTION:Stroll down Menominee’s Waterfront Market\, stretching from the Spies Public Library to Memorial Marina Park\, where vendors greet you with organic produce\, local art\, food trucks and live entertainment every Thursday from 3:00PM to 7:00PM. May 30. June 6\, 13\, 20\, 27. July 4\, 11\, 18\, 25. August 1\, 8\, 15.
URL:https://upbarreview.com/event/the-waterfront-market-menominee-4/
LOCATION:Spies Public Library\, 940 1st St.\, Menominee\, MI\, 49858
CATEGORIES:Menominee
END:VEVENT
BEGIN:VEVENT
DTSTART;TZID=UTC:20240620T173000
DTEND;TZID=UTC:20240620T200000
DTSTAMP:20260421T000818
CREATED:20240608T023951Z
LAST-MODIFIED:20240728T212639Z
UID:10000467-1718904600-1718913600@upbarreview.com
SUMMARY:Norway - Open Air Market
DESCRIPTION:Thursdays on Main street in downtown Norway
URL:https://upbarreview.com/event/norway-open-air-market/2024-06-20/
LOCATION:Norway\, MI
CATEGORIES:Menominee
END:VEVENT
BEGIN:VEVENT
DTSTART;TZID=UTC:20240620T180000
DTEND;TZID=UTC:20240620T200000
DTSTAMP:20260421T000818
CREATED:20240530T001549Z
LAST-MODIFIED:20240530T192121Z
UID:10000166-1718906400-1718913600@upbarreview.com
SUMMARY:Concerts in The Park - Bad Mother Truckers - Stephenson Island
DESCRIPTION:The Marinette Menominee Area Chamber of Commerce Presents Concerts in the Park!\nWe are excited for a summer full of LIVE MUSIC and we will be bringing you the best local talent around.\nBring your lawn chairs and blankets and join us for a fun summer of live music!\nPlease note that the event location will change between Stephenson Island and Menominee Bandshell\nTentative Schedule: (Subject to Change)Thursday Concert Schedule: (6p-8p)\nJune 20: The Bad Mother Truckers (Stephenson Island\, Marinette)June 27: Dirty Deuce (Menominee Bandshell)July 11: Ember (Stephenson Island\, Marinette)July 18: Jordan Blanchard (Menominee Bandshell)August 1: Fourth St. Soul (Stephenson Island\, Marinette)August 8: River Cities Big Band (Menominee Bandshell)
URL:https://upbarreview.com/event/stephenson-island-bad-mother-truckers-concerts-in-the-park/
LOCATION:Stephenson Island\, Marinette\, WI\, 54143
CATEGORIES:Menominee
END:VEVENT
BEGIN:VEVENT
DTSTART;TZID=UTC:20240620T180000
DTEND;TZID=UTC:20240620T200000
DTSTAMP:20260421T000818
CREATED:20240530T173848Z
LAST-MODIFIED:20240530T173848Z
UID:10000196-1718906400-1718913600@upbarreview.com
SUMMARY:Spirit House - Trivia Night!
DESCRIPTION:Join us for some trivia fun at Spirit House Thursdays 6pm – 8pm.\n\n\nFood: Bring your own OR Food Trucks are always on site!\n\n\nShow up and register your team before 6pm\, it’s free to play! We fill fast so arrive early to reserve your spot!\nNo phones or outside sources\, only those on your team can contribute.\nIncrease your collective brainpower by adding up to 6 team members (must be 21+)\nPrizes available for \n\n\nStruggling to find a team? Show up anyway and we’ll help connect you with others.\n\n\nIt’s free\, it’s fun…why not try something new?\n\n\n#trivianight #marinettemenominee #distillery
URL:https://upbarreview.com/event/spirit-house-trivia-night-4/
LOCATION:Spirit House\, 533 10th Ave\, Menominee\, MI 49858\, Menominee\, MI\, 49858\, United States
CATEGORIES:Menominee
END:VEVENT
BEGIN:VEVENT
DTSTART;TZID=UTC:20240620T183000
DTEND;TZID=UTC:20240620T200000
DTSTAMP:20260421T000818
CREATED:20240530T190522Z
LAST-MODIFIED:20240728T212249Z
UID:10000317-1718908200-1718913600@upbarreview.com
SUMMARY:Twin Bridge Waterski Team
DESCRIPTION:Pre-Shows Start at 6:30PM\n​Bring a lawn chair or a blanket for seating! \n​​Twin Bridge Ski Team Show Schedule  2024\nSat June 8th (rehearsal)\nThur June 13th (first Show)\nSat June 15th\nThur June 20st\nSat June 22th\nThur June 27th\nSat June 29th\nThur July 4th\nSat July 6th – Fireworks\nThur July 11th\nSat July 13th – Fireworks Rain date\nSun July 14th – Sponsor Show (Public Welcome)\nThur July 18th – No Show WI State\nSat July 20th – No Show WI State\nThur July 25th\nSat July 27th\nSun July 28th – Learn to Ski\nThur Aug 1st\nSat Aug 3rd – No Show\nThur Aug 8th\nSat Aug 10th – Last Show\nAug 17-18 Crandon Footstock
URL:https://upbarreview.com/event/twin-bridge-waterski-team/2024-06-20/
LOCATION:Boat Landing 3 Rd\, High Falls Flowage\, Stephenson\, WI\, 54114
CATEGORIES:Menominee
END:VEVENT
END:VCALENDAR