BEGIN:VCALENDAR
VERSION:2.0
PRODID:-//UP BAR REVIEW - ECPv6.14.2//NONSGML v1.0//EN
CALSCALE:GREGORIAN
METHOD:PUBLISH
X-ORIGINAL-URL:https://upbarreview.com
X-WR-CALDESC:Events for UP BAR REVIEW
REFRESH-INTERVAL;VALUE=DURATION:PT1H
X-Robots-Tag:noindex
X-PUBLISHED-TTL:PT1H
BEGIN:VTIMEZONE
TZID:UTC
BEGIN:STANDARD
TZOFFSETFROM:+0000
TZOFFSETTO:+0000
TZNAME:UTC
DTSTART:20240101T000000
END:STANDARD
END:VTIMEZONE
BEGIN:VEVENT
DTSTART;TZID=UTC:20240619T110000
DTEND;TZID=UTC:20240619T130000
DTSTAMP:20260421T001415
CREATED:20240529T234725Z
LAST-MODIFIED:20240529T235822Z
UID:10000160-1718794800-1718802000@upbarreview.com
SUMMARY:Cat County 95.1 FM - Weiner Wednesday
DESCRIPTION:Guess what’s back\, folks? It’s time to relish the return of WIENER WEDNESDAY!  Get ready for a sizzlin’ summer packed with hotdogs\, fun\, and fabulous prizes! We’re giving away 100 hotdogs at local businesses all summer long\, plus the chance to snag our exclusive WIENER WEDNESDAY shirts that are hotter than the grill itself!  Don’t be a weenie—swing by on Wednesdays from 11 am to 1 pm and join Cat Country 95.1 at the hottest spots in town! Let’s ketchup and celebrate the joy of Wieners from The Boys’ Burger Company  (Hotdogs served at Noon)
URL:https://upbarreview.com/event/cat-county-95-1-fm-weiner-wednesday-2/
LOCATION:Renes Health & Rehab Center Peshtigo East\, 701 Willow St\, Peshtigo\, WI\, 54157
CATEGORIES:Menominee
END:VEVENT
BEGIN:VEVENT
DTSTART;TZID=UTC:20240619T120000
DTEND;TZID=UTC:20240619T180000
DTSTAMP:20260421T001415
CREATED:20240430T001158Z
LAST-MODIFIED:20240430T001158Z
UID:10000125-1718798400-1718820000@upbarreview.com
SUMMARY:2024 Hodag Battle of the Bands Competition
DESCRIPTION:“The Four Seasons Island Resort and Frog Country 101.5 are partnering together to bring you Hodag Battle of the bands competition on Sunday\, May 19th. \nWe are looking for solo\, duo or even trio artists! There will be cash prizes and more! The winning band will go on to compete at the State Band Championship at the Hodag Country Music Festival in Rhinelander\, Friday July 12th. \nWe are super excited for our 2024 Hodag Line Up! Frog Country 101.5 WJNR will be broadcasting live at Hodag Battle of the Bands Competition May 19th starting at Noon!”
URL:https://upbarreview.com/event/2024-hodag-battle-of-the-bands-competition/
LOCATION:Four Seasons Island Resort\, 16800 Shoreline Dr\, Pembine\, WI\, 54156\, United States
CATEGORIES:Menominee
END:VEVENT
BEGIN:VEVENT
DTSTART;TZID=UTC:20240619T183000
DTEND;TZID=UTC:20240619T200000
DTSTAMP:20260421T001415
CREATED:20240530T012705Z
LAST-MODIFIED:20240530T023646Z
UID:10000179-1718821800-1718827200@upbarreview.com
SUMMARY:Crivitz Ski Cats Season Opener
DESCRIPTION:The Crivitz Ski Cats\nDivision 1 Show Ski Team\n62nd Year Season Opener Show\nWednesday\, June 19\, 2024\n6:30pm Preshow; 7:00pm Main Show
URL:https://upbarreview.com/event/crivitz-ski-cats-season-opener/
LOCATION:Lake Noquebay County Park\, W6188 County Rd GG\, Crivitz\, WI\, 54114
CATEGORIES:Menominee
END:VEVENT
BEGIN:VEVENT
DTSTART;TZID=UTC:20240619T193000
DTEND;TZID=UTC:20240619T210000
DTSTAMP:20260421T001415
CREATED:20240530T001209Z
LAST-MODIFIED:20240530T001209Z
UID:10000164-1718825400-1718830800@upbarreview.com
SUMMARY:Ironworks - Open Mic Night
DESCRIPTION:LIVE MUSIC every Wednesday night at 730pm\nOpen Mic\, bring yourself your friends and talent and jam with us!
URL:https://upbarreview.com/event/ironworks-open-mic-night-3/
LOCATION:Ironworks\, 1333 Main St.\, Marinette\, WI\, 54143\, United States
CATEGORIES:Menominee
END:VEVENT
END:VCALENDAR