BEGIN:VCALENDAR
VERSION:2.0
PRODID:-//UP BAR REVIEW - ECPv6.14.2//NONSGML v1.0//EN
CALSCALE:GREGORIAN
METHOD:PUBLISH
X-WR-CALNAME:UP BAR REVIEW
X-ORIGINAL-URL:https://upbarreview.com
X-WR-CALDESC:Events for UP BAR REVIEW
REFRESH-INTERVAL;VALUE=DURATION:PT1H
X-Robots-Tag:noindex
X-PUBLISHED-TTL:PT1H
BEGIN:VTIMEZONE
TZID:UTC
BEGIN:STANDARD
TZOFFSETFROM:+0000
TZOFFSETTO:+0000
TZNAME:UTC
DTSTART:20240101T000000
END:STANDARD
END:VTIMEZONE
BEGIN:VEVENT
DTSTART;TZID=UTC:20240701T190000
DTEND;TZID=UTC:20240701T210000
DTSTAMP:20260420T193215
CREATED:20240628T192046Z
LAST-MODIFIED:20240628T192046Z
UID:10000953-1719860400-1719867600@upbarreview.com
SUMMARY:South City Pub - SCP Speakeasy Night - Escanaba
DESCRIPTION:Join us Monday\, July 1st for a SCP style Speakeasy Night!!Must Enter through the back door only!!To be allowed to enter\, you must knock twice and say the password! If you don’t know the password\, you must do a dance to be allowed in.We will also leave the open sign off on the front that night as we are usually closed on Monday’s.Watch our facebook page all week for clues to the password!Or you could try your luck and ask one of our bartenders for the password!
URL:https://upbarreview.com/event/south-city-pub-scp-speakeasy-night-escanaba/
LOCATION:South City Pub\, 1117 Ludington St\, Escanaba\, MI\, 49829
CATEGORIES:Menominee
END:VEVENT
BEGIN:VEVENT
DTSTART;TZID=UTC:20240702T130000
DTEND;TZID=UTC:20240702T150000
DTSTAMP:20260420T193215
CREATED:20240626T151602Z
LAST-MODIFIED:20240626T151602Z
UID:10000635-1719925200-1719932400@upbarreview.com
SUMMARY:Art @ The Marketplace - Escanaba
DESCRIPTION:Move freely between art stations set up with age-appropriate projects. Instructors and volunteers will be around to guide students through the projects and families are encouraged to assist and enjoy in the project as well.\nThis is a free event for those toddler to 13 years. Learn more at bonifasarts.org.\nStop in at the Escanaba Marketplace for one or as many dates as you can come to. Dates: June 11\, 18\, 25\, July 2\, 9\, 16\, 23\, 30\, & Aug. 6 from 1 to 3 p.m.\n\n**The Escanaba Marketplace Summer Program is funded in part by the Michigan Arts and Culture Council through the Upper Peninsula Arts and Culture Alliance in partnership with the Escanaba Downtown Development Authority
URL:https://upbarreview.com/event/art-the-marketplace-escanaba/2024-07-02/
LOCATION:Escanaba Marketplace\, 1501 Ludington St\, Escanaba\, MI\, 49829
CATEGORIES:Menominee
END:VEVENT
BEGIN:VEVENT
DTSTART;TZID=UTC:20240703T113000
DTEND;TZID=UTC:20240703T133000
DTSTAMP:20260420T193215
CREATED:20240626T145344Z
LAST-MODIFIED:20240626T145554Z
UID:10000548-1720006200-1720013400@upbarreview.com
SUMMARY:Lunch on Ludington Music Series - Escanaba
DESCRIPTION:Take time in the middle of your day with friends and co-workers for music at Lunch on Ludington at the Escanaba Marketplace.\nThe Seth Brown Duo is performing on Wednesday\, July 3. Seth is a songwriter\, a modern day Tom Petty. Food vendors include For the Love of Cupcakes.\nThe rest of the schedule includes:\nJuly 10 Wingin’ ItJuly 17 John RomanJuly 24 Cash O’RileyJuly 31 House Blues BandAug. 7 Troy Graham\nBring or get a lunch\, we’ll provide the music.\nEscanaba has the longest small town downtown in Michigan\, jammed packed with unique shops\, great restaurants and dedicated businesses ready to welcome you. Take time for lunch\, enjoy some music and stop by a downtown business.\nStarts at 11:30 a.m. and goes to 1:30 p.m. at the corner of 15th and Ludington Streets. Rain or shine under the pavilion. Plus\, the Escanaba Farmers Market runs from 3 to 6 p.m. at the Marketplace.\nDowntown Escanaba is the place to be for the Lunch on Ludington music series on Wednesdays.
URL:https://upbarreview.com/event/lunch-on-ludington-music-series-cash-oriley/2024-07-03/
LOCATION:Escanaba Marketplace\, 1501 Ludington St\, Escanaba\, MI\, 49829
CATEGORIES:Menominee
END:VEVENT
BEGIN:VEVENT
DTSTART;TZID=UTC:20240703T120000
DTEND;TZID=UTC:20240703T230000
DTSTAMP:20260420T193215
CREATED:20240626T181150Z
LAST-MODIFIED:20240626T181150Z
UID:10000751-1720008000-1720047600@upbarreview.com
SUMMARY:21st and 21st Block Party - Escanaba
DESCRIPTION:Don’t you think about time for a good ole’ fashioned block party! Come swim\, listen to music\, dance in the street\, play some volleyball\, sit in the grass\, make your own fun. Bring your own snacks\, chairs and drinks\, come and go as you please. Sit Down Francis\, The Dust Bunnies be playing\, with more live music smashed in between!
URL:https://upbarreview.com/event/21st-and-21st-block-party-escanaba/
LOCATION:1912 21st Ave S\, Escanaba\, MI\, 49829
CATEGORIES:Menominee
END:VEVENT
BEGIN:VEVENT
DTSTART;TZID=UTC:20240703T150000
DTEND;TZID=UTC:20240703T173000
DTSTAMP:20260420T193215
CREATED:20240626T160243Z
LAST-MODIFIED:20240626T160243Z
UID:10000661-1720018800-1720027800@upbarreview.com
SUMMARY:Pierogi Rig Night Upper Hand Brewery - Escanaba
DESCRIPTION:Come enjoy Pierogis and beer with us!
URL:https://upbarreview.com/event/pierogi-rig-night-upper-hand-brewery-escanaba/
LOCATION:Upper Hand Brewery\, 3525 Airport Rd\, Escanaba\, WI\, 49829
CATEGORIES:Menominee
END:VEVENT
BEGIN:VEVENT
DTSTART;TZID=UTC:20240703T150000
DTEND;TZID=UTC:20240703T180000
DTSTAMP:20260420T193215
CREATED:20240626T145913Z
LAST-MODIFIED:20240728T212922Z
UID:10000553-1720018800-1720029600@upbarreview.com
SUMMARY:Escanaba Farmers Market
DESCRIPTION:The Escanaba Farmers Market runs from 3 to 6 p.m. at the Marketplace on Wednesdays. Catch music from 11:30am-1:30pm beforehand. Come check it out!
URL:https://upbarreview.com/event/escanaba-farmers-market/2024-07-03/
LOCATION:Escanaba Marketplace\, 1501 Ludington St\, Escanaba\, MI\, 49829
CATEGORIES:Menominee
END:VEVENT
BEGIN:VEVENT
DTSTART;TZID=UTC:20240704T120000
DTEND;TZID=UTC:20240704T210000
DTSTAMP:20260420T193215
CREATED:20240608T022922Z
LAST-MODIFIED:20240626T152442Z
UID:10000462-1720094400-1720126800@upbarreview.com
SUMMARY:Fourth of July in Menominee
DESCRIPTION:The City of Menominee warmly invites you to a family-friendly Independence Day Jubilee on First Street in Menominee\, Michigan. At dusk\, a fireworks show totaling $25\,000 from private donations will dazzle the City.\nNestled next to Menominee’s picturesque marina\, amenities include a children’s parade\, games for kids\, a giant inflatable slide\, a concert from the Michigan Shivers\, food trucks\, and over 30 farmers\, florists\, artists\, musicians\, and local entrepreneurs selling goods at Menominee’s thriving Waterfront Market. Food Stamps always accepted\n\n\nThe Bad Mother Truckers start at 2pm and play until 5pm.The Michigan Shivers start at 5:30 and play until dark. There are going to be some amazing fireworks following the live music.\nHappy Fourth of July!
URL:https://upbarreview.com/event/fourth-of-july-in-menominee/
LOCATION:Menominee Bandshell\, 1000 1st St\, Menominee\, MI\, 49858
CATEGORIES:Menominee
END:VEVENT
BEGIN:VEVENT
DTSTART;TZID=UTC:20240704T150000
DTEND;TZID=UTC:20240704T180000
DTSTAMP:20260420T193215
CREATED:20240626T184113Z
LAST-MODIFIED:20240626T184113Z
UID:10000832-1720105200-1720116000@upbarreview.com
SUMMARY:2nd Annual Safe & Sober 4th of July Bash - Menominee
DESCRIPTION:Look for the Purple Balloons! We will be having a cookout so\, come and bring a dish to share. We will have games and more! $5 suggested donation but no one will be turned away.
URL:https://upbarreview.com/event/2nd-annual-safe-sober-4th-of-july-bash-menominee/
LOCATION:Veteran Memorial Park\, 1219 1st St\, Menominee\, MI\, 49858
CATEGORIES:Menominee
END:VEVENT
BEGIN:VEVENT
DTSTART;TZID=UTC:20240704T150000
DTEND;TZID=UTC:20240704T190000
DTSTAMP:20260420T193215
CREATED:20240522T233636Z
LAST-MODIFIED:20240522T233636Z
UID:10000147-1720105200-1720119600@upbarreview.com
SUMMARY:The Waterfront Market - Menominee
DESCRIPTION:Stroll down Menominee’s Waterfront Market\, stretching from the Spies Public Library to Memorial Marina Park\, where vendors greet you with organic produce\, local art\, food trucks and live entertainment every Thursday from 3:00PM to 7:00PM. May 30. June 6\, 13\, 20\, 27. July 4\, 11\, 18\, 25. August 1\, 8\, 15.
URL:https://upbarreview.com/event/the-waterfront-market-menominee-6/
LOCATION:Spies Public Library\, 940 1st St.\, Menominee\, MI\, 49858
CATEGORIES:Menominee
END:VEVENT
BEGIN:VEVENT
DTSTART;TZID=UTC:20240704T173000
DTEND;TZID=UTC:20240704T200000
DTSTAMP:20260420T193216
CREATED:20240608T023951Z
LAST-MODIFIED:20240728T212639Z
UID:10000469-1720114200-1720123200@upbarreview.com
SUMMARY:Norway - Open Air Market
DESCRIPTION:Thursdays on Main street in downtown Norway
URL:https://upbarreview.com/event/norway-open-air-market/2024-07-04/
LOCATION:Norway\, MI
CATEGORIES:Menominee
END:VEVENT
BEGIN:VEVENT
DTSTART;TZID=UTC:20240704T180000
DTEND;TZID=UTC:20240704T200000
DTSTAMP:20260420T193216
CREATED:20240530T174122Z
LAST-MODIFIED:20240530T174122Z
UID:10000198-1720116000-1720123200@upbarreview.com
SUMMARY:Spirit House - Trivia Night!
DESCRIPTION:Join us for some trivia fun at Spirit House Thursdays 6pm – 8pm.\n\n\nFood: Bring your own OR Food Trucks are always on site!\n\n\nShow up and register your team before 6pm\, it’s free to play! We fill fast so arrive early to reserve your spot!\nNo phones or outside sources\, only those on your team can contribute.\nIncrease your collective brainpower by adding up to 6 team members (must be 21+)\nPrizes available for \n\n\nStruggling to find a team? Show up anyway and we’ll help connect you with others.\n\n\nIt’s free\, it’s fun…why not try something new?\n\n\n#trivianight #marinettemenominee #distillery
URL:https://upbarreview.com/event/spirit-house-trivia-night-6/
LOCATION:Spirit House\, 533 10th Ave\, Menominee\, MI 49858\, Menominee\, MI\, 49858\, United States
CATEGORIES:Menominee
END:VEVENT
BEGIN:VEVENT
DTSTART;TZID=UTC:20240704T183000
DTEND;TZID=UTC:20240704T200000
DTSTAMP:20260420T193216
CREATED:20240530T190522Z
LAST-MODIFIED:20240728T212249Z
UID:10000321-1720117800-1720123200@upbarreview.com
SUMMARY:Twin Bridge Waterski Team
DESCRIPTION:Pre-Shows Start at 6:30PM\n​Bring a lawn chair or a blanket for seating! \n​​Twin Bridge Ski Team Show Schedule  2024\nSat June 8th (rehearsal)\nThur June 13th (first Show)\nSat June 15th\nThur June 20st\nSat June 22th\nThur June 27th\nSat June 29th\nThur July 4th\nSat July 6th – Fireworks\nThur July 11th\nSat July 13th – Fireworks Rain date\nSun July 14th – Sponsor Show (Public Welcome)\nThur July 18th – No Show WI State\nSat July 20th – No Show WI State\nThur July 25th\nSat July 27th\nSun July 28th – Learn to Ski\nThur Aug 1st\nSat Aug 3rd – No Show\nThur Aug 8th\nSat Aug 10th – Last Show\nAug 17-18 Crandon Footstock
URL:https://upbarreview.com/event/twin-bridge-waterski-team/2024-07-04/
LOCATION:Boat Landing 3 Rd\, High Falls Flowage\, Stephenson\, WI\, 54114
CATEGORIES:Menominee
END:VEVENT
BEGIN:VEVENT
DTSTART;TZID=UTC:20240704T210000
DTEND;TZID=UTC:20240704T223000
DTSTAMP:20260420T193216
CREATED:20240628T235314Z
LAST-MODIFIED:20240826T231212Z
UID:10001004-1720126800-1720132200@upbarreview.com
SUMMARY:Cusacks - Karaoke - Marinette
DESCRIPTION:Karaoke at Cusaks every thursday 9PM!
URL:https://upbarreview.com/event/cusacks-karaoke-marinette/2024-07-04/
LOCATION:Cusack’s Pub\, 2206 Hall Ave\, Marinette\, WI\, 54143\, United States
CATEGORIES:Menominee
END:VEVENT
BEGIN:VEVENT
DTSTART;TZID=UTC:20240705T110000
DTEND;TZID=UTC:20240705T160000
DTSTAMP:20260420T193216
CREATED:20240626T150822Z
LAST-MODIFIED:20240626T150822Z
UID:10000615-1720177200-1720195200@upbarreview.com
SUMMARY:Escanaba Pop-Up Market
DESCRIPTION:The Escanaba Pop-UP Market will begin a new season on Friday\, June 14 at the Escanaba Marketplace. It’s an opportunity for vendors to sell their products and shoppers to enjoy a unique open-air market.\nSeveral vendors will be at the Pop-UP Market from 11 a.m. to 4 p.m.\nPop-up markets are temporary retail space typically used to introduce a new product\, gauge consumer interest or generate awareness for a product or cause.\nThe Escanaba Marketplace is located at 1501 Ludington Street. The Pop-UP Market is in addition to the Escanaba Farmers Market that is already underway this season. The Escanaba Farmers Market runs on Wednesdays from 3 to 6 p.m. and Saturdays from 9 a.m. to noon.
URL:https://upbarreview.com/event/escanaba-pop-up-market/2024-07-05/
LOCATION:Escanaba Marketplace\, 1501 Ludington St\, Escanaba\, MI\, 49829
CATEGORIES:Menominee
END:VEVENT
BEGIN:VEVENT
DTSTART;TZID=UTC:20240705T170000
DTEND;TZID=UTC:20240705T190000
DTSTAMP:20260420T193216
CREATED:20240627T232228Z
LAST-MODIFIED:20240627T232228Z
UID:10000874-1720198800-1720206000@upbarreview.com
SUMMARY:BDP Independence Day Celebration - Dunbar\, Pembine\, and Beecher
DESCRIPTION:Schedule of events so far\nFRIDAY NIGHT JULY 5th\n5:30 p.m. in Dunbar- atv/utv parade along Wisconsin avenue. ATVs entering the parade must have a patriotic theme and meet at 5:00 at Park and Ride on airport Ave.\n6pm in Dunbar- s’mores and campfire at Thermal Chaos\nSATURDAY JULY 6th\n10:00 a.m. till Noon – fishing tournament for kids 13 and under\, location at the Dunbar fishing pond\, prizes will be awarded\n2:00 p.m. craft show starts in Pembine.\n2pm -outdoor cook out at Winters Family Restaurant!\n4 to 8 car show at Pembine automotive. (First second third place trophies awarded for best of show) (To be voted on by visitors via ballot. Winners announced at the conclusion of wrestling match)\n5:30 -7:30 – Wrestling shows in Pembine\n6:00 Paul Family band at Winters Family Restaurant in Pembine\n5- 9pm Karaoke at Silver Dollar in Pembine\n?? Food trucks\n9:30 p.m. Fireworks spectacular (thank you to the towns of Beecher\, Pembine\, and Dunbar\, Winters Family Restaurant\, Lisa Hanson at Coldwell Banker Real Estate\, as well as private citizens who help sponsor the fireworks!)
URL:https://upbarreview.com/event/bdp-independence-day-celebration-dunbar-pembine-and-beecher/2024-07-05/
LOCATION:Multiple Locations
CATEGORIES:Menominee
END:VEVENT
BEGIN:VEVENT
DTSTART;TZID=UTC:20240705T180000
DTEND;TZID=UTC:20240705T200000
DTSTAMP:20260420T193216
CREATED:20240626T151245Z
LAST-MODIFIED:20240626T151245Z
UID:10000634-1720202400-1720209600@upbarreview.com
SUMMARY:Polka Party in The Park - Escanaba
DESCRIPTION:We are celebrating the Fourth of July with a polka party. The Patriotic Polka Party in the Park will be held July 5 at the Karas Bandshell in Escanaba’s Ludington Park. There is going to be dancing\, food and refreshments and\, of course\, polka music by The Mix of Pulaski\, Wisconsin. You can’t get more polka than that. It’s the Patriotic Polka Party in Park!\nYou don’t have to know how to polka to dance. And you don’t need to know polka music to have fun. All you have to do is go to the Patriotic Polka Party in the Park\, July 5. See what’s happening in Escanaba.
URL:https://upbarreview.com/event/polka-party-in-the-park-escanaba/
LOCATION:Karas Bandshell\, Loren W Jenkins Memorial Dr\, Escanaba\, MI\, 49829
CATEGORIES:Menominee
END:VEVENT
BEGIN:VEVENT
DTSTART;TZID=UTC:20240705T190000
DTEND;TZID=UTC:20240705T210000
DTSTAMP:20260420T193216
CREATED:20240626T181843Z
LAST-MODIFIED:20240626T181843Z
UID:10000753-1720206000-1720213200@upbarreview.com
SUMMARY:Gateway Bar & Grill - Smoke Road - Crivitz
DESCRIPTION:Come party with us in Crivitz at Gateway Bar and Grill!
URL:https://upbarreview.com/event/gateway-bar-grill-smoke-road-crivitz/
LOCATION:Gateway Bar & Grill\, 706 N U.S. Hwy 141\, Crivitz\, WI\, 54114
CATEGORIES:Menominee
END:VEVENT
BEGIN:VEVENT
DTSTART;TZID=UTC:20240705T190000
DTEND;TZID=UTC:20240705T210000
DTSTAMP:20260420T193216
CREATED:20240627T231833Z
LAST-MODIFIED:20240627T231833Z
UID:10000870-1720206000-1720213200@upbarreview.com
SUMMARY:Todd and Barb's Rapids Resort - Live Music - Silvercliff
DESCRIPTION:LIVE MUSIC
URL:https://upbarreview.com/event/todd-and-barbs-rapids-resort-live-music-silvercliff/2024-07-05/
LOCATION:Todd and Barb’s Rapids Resort\, W14703 CR-C\, Silvercliff\, WI\, 54104
CATEGORIES:Menominee
END:VEVENT
BEGIN:VEVENT
DTSTART;TZID=UTC:20240705T200000
DTEND;TZID=UTC:20240705T220000
DTSTAMP:20260420T193216
CREATED:20240626T191456Z
LAST-MODIFIED:20240626T191456Z
UID:10000840-1720209600-1720216800@upbarreview.com
SUMMARY:Island Resort Casino - Gone 2 Paradise\, The Ultimate Jimmy Buffet Tribute - Harris
DESCRIPTION:What’s a more appropriate way to kick off July than experiencing Margaritaville and a tropical state of mind? GONE 2 PARADISE\, the premier Jimmy Buffett Tribute Band has traveled the nation helping concertgoers do just that for 20 years celebrating the music of Jimmy! It’ll be the highlight of the summer as friends and fellow parrot heads gather for a night of music made famous by the great Jimmy Buffett.
URL:https://upbarreview.com/event/island-resort-casino-gone-2-paradise-the-ultimate-jimmy-buffet-tribute-harris/
LOCATION:Island Resort & Casino\, W 399 US-2\, Harris\, MI\, 49845\, United States
CATEGORIES:Menominee
END:VEVENT
BEGIN:VEVENT
DTSTART;TZID=UTC:20240706T080000
DTEND;TZID=UTC:20240706T150000
DTSTAMP:20260420T193216
CREATED:20240626T162313Z
LAST-MODIFIED:20240626T162313Z
UID:10000727-1720252800-1720278000@upbarreview.com
SUMMARY:Shop Local Support Local Market - Peshtigo
DESCRIPTION:The first Saturday of each month June thru October we are opening our doors with other local farmers\, crafters\, & vendors for the a special Shop Local Support Local Market from 8 til 3. We are excited for everyone to join us for this special event. Don’t forget to stop & visit all of us at Schwittay Harmony Market\, W4497 State Hwy 64\, Peshtigo (corner of County Rd DD & Hwy 64).\nIf you are interested in being a vendor for our first Saturday of the month event for July\, August\, September\, or October\, feel free to message our Facebook page\, email us at schwittayfarms@yahoo.com\, or call or text 920.980.5722.
URL:https://upbarreview.com/event/shop-local-support-local-market-peshtigo/2024-07-06/
LOCATION:Schwittay Harmony Market LLC\, W4497 WI-64\, Peshtigo\, WI\, 54157
CATEGORIES:Menominee
END:VEVENT
BEGIN:VEVENT
DTSTART;TZID=UTC:20240706T090000
DTEND;TZID=UTC:20240706T120000
DTSTAMP:20260420T193216
CREATED:20240530T023124Z
LAST-MODIFIED:20240826T230940Z
UID:10000213-1720256400-1720267200@upbarreview.com
SUMMARY:Menominee Historic Downtown Farmers' Market
DESCRIPTION:“The Menominee Historic Downtown Farmers’ Market will be held on Saturday mornings from 9am-12pm. \nThe Market will be located at 940 1st Street (Spies Public Library Parking Lot)”
URL:https://upbarreview.com/event/menominee-historic-downtown-farmers-market-4/2024-07-06/
LOCATION:Spies Public Library\, 940 1st St.\, Menominee\, MI\, 49858
CATEGORIES:Menominee
END:VEVENT
BEGIN:VEVENT
DTSTART;TZID=UTC:20240706T090000
DTEND;TZID=UTC:20240706T120000
DTSTAMP:20260420T193216
CREATED:20240626T150940Z
LAST-MODIFIED:20240728T212955Z
UID:10000625-1720256400-1720267200@upbarreview.com
SUMMARY:Escanaba Farmers Market
DESCRIPTION:The Escanaba Farmers Market runs on Wednesdays from 3 to 6 p.m. and Saturdays from 9 a.m. to noon.
URL:https://upbarreview.com/event/escanaba-farmers-market-2/2024-07-06/
LOCATION:Escanaba Marketplace\, 1501 Ludington St\, Escanaba\, MI\, 49829
CATEGORIES:Menominee
END:VEVENT
BEGIN:VEVENT
DTSTART;TZID=UTC:20240706T100000
DTEND;TZID=UTC:20240706T220000
DTSTAMP:20260420T193216
CREATED:20240626T154929Z
LAST-MODIFIED:20240626T154929Z
UID:10000659-1720260000-1720303200@upbarreview.com
SUMMARY:Independence Day Celebration - Wausaukee
DESCRIPTION:Craft show 10am\, Horse show 10am\, Live music starting at 2pm\, parade downtown at 1pm\, mini Rod pulls 5pm\, bounce house\, food/drinks and more!
URL:https://upbarreview.com/event/independence-day-celebration-wausaukee/
LOCATION:Wausauke Fairgrounds\, 6998 Fairgrounds Rd\, Wausaukee\, WI\, 54177
CATEGORIES:Menominee
END:VEVENT
BEGIN:VEVENT
DTSTART;TZID=UTC:20240706T100000
DTEND;TZID=UTC:20240706T220000
DTSTAMP:20260420T193216
CREATED:20240627T232228Z
LAST-MODIFIED:20240627T232228Z
UID:10000875-1720260000-1720303200@upbarreview.com
SUMMARY:BDP Independence Day Celebration - Dunbar\, Pembine\, and Beecher
DESCRIPTION:Schedule of events so far\nFRIDAY NIGHT JULY 5th\n5:30 p.m. in Dunbar- atv/utv parade along Wisconsin avenue. ATVs entering the parade must have a patriotic theme and meet at 5:00 at Park and Ride on airport Ave.\n6pm in Dunbar- s’mores and campfire at Thermal Chaos\nSATURDAY JULY 6th\n10:00 a.m. till Noon – fishing tournament for kids 13 and under\, location at the Dunbar fishing pond\, prizes will be awarded\n2:00 p.m. craft show starts in Pembine.\n2pm -outdoor cook out at Winters Family Restaurant!\n4 to 8 car show at Pembine automotive. (First second third place trophies awarded for best of show) (To be voted on by visitors via ballot. Winners announced at the conclusion of wrestling match)\n5:30 -7:30 – Wrestling shows in Pembine\n6:00 Paul Family band at Winters Family Restaurant in Pembine\n5- 9pm Karaoke at Silver Dollar in Pembine\n?? Food trucks\n9:30 p.m. Fireworks spectacular (thank you to the towns of Beecher\, Pembine\, and Dunbar\, Winters Family Restaurant\, Lisa Hanson at Coldwell Banker Real Estate\, as well as private citizens who help sponsor the fireworks!)
URL:https://upbarreview.com/event/bdp-independence-day-celebration-dunbar-pembine-and-beecher/2024-07-06/
LOCATION:Multiple Locations
CATEGORIES:Menominee
END:VEVENT
BEGIN:VEVENT
DTSTART;TZID=UTC:20240706T120000
DTEND;TZID=UTC:20240706T160000
DTSTAMP:20260420T193216
CREATED:20240319T001830Z
LAST-MODIFIED:20240319T001830Z
UID:10000047-1720267200-1720281600@upbarreview.com
SUMMARY:Forgotten Fire Winery - The Bad Mother Truckers
DESCRIPTION:This is what summer is all about!  Good times and good wine!  Come out for the summer concert series at Forgotten Fire  featuring The Bad Mother Truckers 
URL:https://upbarreview.com/event/forgotten-fire-winery-the-bad-mother-truckers-2/
LOCATION:Forgotten Fire Winery\, N2393 Schacht Road\, Marinette\, WI\, 54143\, United States
CATEGORIES:Menominee
END:VEVENT
BEGIN:VEVENT
DTSTART;TZID=UTC:20240706T180000
DTEND;TZID=UTC:20240706T213000
DTSTAMP:20260420T193216
CREATED:20240626T183522Z
LAST-MODIFIED:20240626T183522Z
UID:10000829-1720288800-1720301400@upbarreview.com
SUMMARY:Backyard Bash - Marinette
DESCRIPTION:7:00-7:45 Crown & Scepter8:00-8:45 Trash Pandas8:45-9:30 Our Last Vision(music times are tentative and subject to change)\nSaturday July 6thBYOB\, bring your own chairs/ tentsFireworks and bonfire following music!
URL:https://upbarreview.com/event/backyard-bash-marinette/
LOCATION:419 W Russell St\, Marinette\, WI\, 54143
CATEGORIES:Menominee
END:VEVENT
BEGIN:VEVENT
DTSTART;TZID=UTC:20240706T183000
DTEND;TZID=UTC:20240706T200000
DTSTAMP:20260420T193216
CREATED:20240530T190522Z
LAST-MODIFIED:20240728T212249Z
UID:10000322-1720290600-1720296000@upbarreview.com
SUMMARY:Twin Bridge Waterski Team
DESCRIPTION:Pre-Shows Start at 6:30PM\n​Bring a lawn chair or a blanket for seating! \n​​Twin Bridge Ski Team Show Schedule  2024\nSat June 8th (rehearsal)\nThur June 13th (first Show)\nSat June 15th\nThur June 20st\nSat June 22th\nThur June 27th\nSat June 29th\nThur July 4th\nSat July 6th – Fireworks\nThur July 11th\nSat July 13th – Fireworks Rain date\nSun July 14th – Sponsor Show (Public Welcome)\nThur July 18th – No Show WI State\nSat July 20th – No Show WI State\nThur July 25th\nSat July 27th\nSun July 28th – Learn to Ski\nThur Aug 1st\nSat Aug 3rd – No Show\nThur Aug 8th\nSat Aug 10th – Last Show\nAug 17-18 Crandon Footstock
URL:https://upbarreview.com/event/twin-bridge-waterski-team/2024-07-06/
LOCATION:Boat Landing 3 Rd\, High Falls Flowage\, Stephenson\, WI\, 54114
CATEGORIES:Menominee
END:VEVENT
BEGIN:VEVENT
DTSTART;TZID=UTC:20240706T200000
DTEND;TZID=UTC:20240706T220000
DTSTAMP:20260420T193216
CREATED:20240626T192101Z
LAST-MODIFIED:20240626T192101Z
UID:10000844-1720296000-1720303200@upbarreview.com
SUMMARY:Island Resort & Casino - Aeromyth: The Ultimate Aerosmith Experience - Harris
DESCRIPTION:The Ultimate Aerosmith Tribute Experience. AEROMYTH has achieved a level of success nearly unheard of in the Tribute community—with Gibson guitars ranking AEROMYTH among the top 10 tribute bands in the world.\nPaying their dues and honing their craft for well over a decade\, the band has performed countless shows. Touring internationally with venue’s ranging in size from clubs and theaters straight up to Dodger Stadium\, they have defined themselves through a combination of stellar live performance re-creations\, uncanny physical likeness and unparalleled musicianship. The bands only objective is very simply— “The suspension of disbelief while remaining true to the undeniable spirit of America’s greatest Rock band”. AEROMYTH continue to tour\, spreading the gospel of Aerosmith to multiple generations of fans (old & new) around the world.
URL:https://upbarreview.com/event/island-resort-casino-aeromyth-the-ultimate-aerosmith-experience-harris/
LOCATION:Island Resort & Casino\, W 399 US-2\, Harris\, MI\, 49845\, United States
CATEGORIES:Menominee
END:VEVENT
BEGIN:VEVENT
DTSTART;TZID=UTC:20240706T200000
DTEND;TZID=UTC:20240706T220000
DTSTAMP:20260420T193216
CREATED:20240627T231833Z
LAST-MODIFIED:20240627T231833Z
UID:10000871-1720296000-1720303200@upbarreview.com
SUMMARY:Todd and Barb's Rapids Resort - Live Music - Silvercliff
DESCRIPTION:LIVE MUSIC
URL:https://upbarreview.com/event/todd-and-barbs-rapids-resort-live-music-silvercliff/2024-07-06/
LOCATION:Todd and Barb’s Rapids Resort\, W14703 CR-C\, Silvercliff\, WI\, 54104
CATEGORIES:Menominee
END:VEVENT
BEGIN:VEVENT
DTSTART;TZID=UTC:20240706T203000
DTEND;TZID=UTC:20240706T223000
DTSTAMP:20260420T193216
CREATED:20240626T183118Z
LAST-MODIFIED:20240728T213120Z
UID:10000759-1720297800-1720305000@upbarreview.com
SUMMARY:The Ruins Adventure Mini Golf - Glow Golf - Oconto
DESCRIPTION:Every Saturday Night @ Dusk! Night golf with colorful lights\, music\, laughter! Get outside with friends and family – or date night! We have premium ice cream\, floats\, beer\, wine and selzers. Great places to sit\, relax and converse after your round. Starts at sunset (changes slightly over time. Ask Siri or Alexa when sunset it). Last game must start one hour before closing. Glow Gear to first 100 golfers! $8.75 includes tax! Do something different with a great vibe! See you Saturday! WEATHER PENDING – UPDATES ON FACEBOOK
URL:https://upbarreview.com/event/the-ruins-adventure-mini-golf-glow-golf-oconto/2024-07-06/
LOCATION:The Ruins Adventure Mini Golf\, 150 Howard Ln\, Oconto\, WI\, 54153
CATEGORIES:Menominee
END:VEVENT
END:VCALENDAR