BEGIN:VCALENDAR
VERSION:2.0
PRODID:-//UP BAR REVIEW - ECPv6.14.2//NONSGML v1.0//EN
CALSCALE:GREGORIAN
METHOD:PUBLISH
X-WR-CALNAME:UP BAR REVIEW
X-ORIGINAL-URL:https://upbarreview.com
X-WR-CALDESC:Events for UP BAR REVIEW
REFRESH-INTERVAL;VALUE=DURATION:PT1H
X-Robots-Tag:noindex
X-PUBLISHED-TTL:PT1H
BEGIN:VTIMEZONE
TZID:UTC
BEGIN:STANDARD
TZOFFSETFROM:+0000
TZOFFSETTO:+0000
TZNAME:UTC
DTSTART:20240101T000000
END:STANDARD
END:VTIMEZONE
BEGIN:VEVENT
DTSTART;TZID=UTC:20240606T190000
DTEND;TZID=UTC:20240606T223000
DTSTAMP:20260420T223745
CREATED:20240529T231837Z
LAST-MODIFIED:20240529T231837Z
UID:10000156-1717700400-1717713000@upbarreview.com
SUMMARY:All American Circus - Marinette Rec Center
DESCRIPTION:Coming to you in 2024… REAL. FAMILY. CIRCUS. \nThis year\, Oscar Garcia presents an ALL-NEW show\, perfect for the whole family\n PRE-SALE DISCOUNT DEALS: AllAmericanCircus.com/tour-dates/\nMake the most of our online special prices with tickets starting at $5 per person when you purchase a Family Saver (offer LIMITED and only available online\, so be quick)\nSHOW DETAILS: \n COMMUNITY REC CENTER – 2501 PIERCE AVE\n SHOWTIMESThursday\, June 6th | 7:00pm\nArrive early and enjoy a little extra circus fun at the kids fun zone before showtime \n BUY ONLINE & SAVE TODAY – AllAmericanCircus.com/tour-dates/ \nHave questions about the show?? Visit our FAQ’s allamericancircus.com/faq/ or feel free to message the page and we will get back to you \n‘INVITE’ your friends and family along by ‘SHARING’ this eventWe will see you soon 
URL:https://upbarreview.com/event/all-american-circus-marinette-rec-center/
LOCATION:Marinette Recreation Center\, 2501 Pierce Avenue\, Marinette\, WI\, 54143\, United States
CATEGORIES:Menominee
END:VEVENT
BEGIN:VEVENT
DTSTART;TZID=UTC:20240607T170000
DTEND;TZID=UTC:20240607T230000
DTSTAMP:20260420T223745
CREATED:20240530T003652Z
LAST-MODIFIED:20240530T003652Z
UID:10000169-1717779600-1717801200@upbarreview.com
SUMMARY:Copperfest - Oconto
DESCRIPTION:Date: June 7\, 2024 – June 9\, 2024 \nOconto Copperfest celebration at Copperfest/American Legion Post 74 Park will be June 7-9\, 2024. \nHighlights for this year’s festival include: \nEntertainment featuring: Mad Dog and Merrill\, Glen Girard Magician\, racing ducks and pigs\, pony rides\, Casady’s Critters\, kid’s games\, horseshoe and cornhole tournaments\, UTL wrestling\, car show\, vendor alley\, pie and ice cream social\, and plenty of food & refreshments. \nParade – Entries are now being accepted for the 2024 Copperfest parade on June 8. The start time is 10:00 a.m.\, and the lineup is on Farnsworth Ave between Chicago Street and Pecor Street. Please call 920 835-2647 to reserve your spot. \n  \nLineup is below: \nhttps://www.facebook.com/share/p/eDEQ9rJ6j7vvvKbH/ \n 
URL:https://upbarreview.com/event/copperfest-oconto/
LOCATION:Copperfest/American Legion Post 74 Park\, 709 Madison\, Oconto\, WI\, 54143
CATEGORIES:Menominee
END:VEVENT
BEGIN:VEVENT
DTSTART;TZID=UTC:20240607T173000
DTEND;TZID=UTC:20240607T193000
DTSTAMP:20260420T223745
CREATED:20240530T015612Z
LAST-MODIFIED:20240530T015612Z
UID:10000184-1717781400-1717788600@upbarreview.com
SUMMARY:Spirit House - Happy Finds Pop Up
DESCRIPTION:Happy Finds Pop Up Event \n✨EVENT ALERT✨ \nCome stop in for a drink at Spirit House and do a little shopping with Happy Finds!!!! 🥂 \nThe Creative Company by Amanda will be there for cute photo ops and maybe will have a chance to win a giveaway👀📸 \nDon’t miss out on the perfect Friday night!! \nCan’t wait to see you there!!✨ \nWhen? Friday\, June\, 7th @ 5:30-7:30pm\nWhere? Spirit House 533 10th Ave\, Menominee\, MI 49858
URL:https://upbarreview.com/event/spirit-house-happy-finds-pop-up/
LOCATION:Spirit House\, 533 10th Ave\, Menominee\, MI 49858\, Menominee\, MI\, 49858\, United States
CATEGORIES:Menominee
END:VEVENT
BEGIN:VEVENT
DTSTART;TZID=UTC:20240608T090000
DTEND;TZID=UTC:20240608T120000
DTSTAMP:20260420T223745
CREATED:20240530T022909Z
LAST-MODIFIED:20240530T022909Z
UID:10000189-1717837200-1717848000@upbarreview.com
SUMMARY:Menominee Historic Downtown Farmers' Market
DESCRIPTION:“The Menominee Historic Downtown Farmers’ Market will be held on Saturday mornings from 9am-12pm. \nThe Market will be located at 940 1st Street (Spies Public Library Parking Lot)”
URL:https://upbarreview.com/event/menominee-historic-downtown-farmers-market/
LOCATION:Spies Public Library\, 940 1st St.\, Menominee\, MI\, 49858
CATEGORIES:Menominee
END:VEVENT
BEGIN:VEVENT
DTSTART;TZID=UTC:20240608T090000
DTEND;TZID=UTC:20240608T140000
DTSTAMP:20260420T223745
CREATED:20240530T191142Z
LAST-MODIFIED:20240530T191142Z
UID:10000437-1717837200-1717855200@upbarreview.com
SUMMARY:Coleman - Front Porch Flea Market
DESCRIPTION:Front Porch Market Flea Market\n2nd Saturday of each Month May-Oct
URL:https://upbarreview.com/event/coleman-front-porch-flea-market/2024-06-08/
LOCATION:Front Porch Market\, W8897 County Road M\, Coleman\, WI\, 54112
CATEGORIES:Menominee
END:VEVENT
BEGIN:VEVENT
DTSTART;TZID=UTC:20240608T090000
DTEND;TZID=UTC:20240608T150000
DTSTAMP:20260420T223745
CREATED:20240530T013625Z
LAST-MODIFIED:20240530T013625Z
UID:10000181-1717837200-1717858800@upbarreview.com
SUMMARY:Strong Falls Bike & Brew - Athelstane
DESCRIPTION:“Marinette Area Mountain Bike Association is holding a bike & hike event. Strong Falls Trails have 12 miles of single track trails that will satisfy the beginner all the way up to the expert. The event and music are completely free! MAMBA will also have food\, beverages and mugs for sale to help raise funds for trail maintenance. Bring your bike\, sneakers and smiles!”
URL:https://upbarreview.com/event/strong-falls-bike-brew-athelstane/
LOCATION:Strong Falls Trail Head\, N13980 Harper Road\, Athestane\, WI\, 54114
CATEGORIES:Menominee
END:VEVENT
BEGIN:VEVENT
DTSTART;TZID=UTC:20240608T100000
DTEND;TZID=UTC:20240608T140000
DTSTAMP:20260420T223745
CREATED:20240522T234900Z
LAST-MODIFIED:20240522T234900Z
UID:10000152-1717840800-1717855200@upbarreview.com
SUMMARY:Marinette Farmers Market - Stephenson Island
DESCRIPTION:
URL:https://upbarreview.com/event/marinette-farmers-market-stephenson-island-3/
LOCATION:Stephenson Island\, Marinette\, WI\, 54143
CATEGORIES:Menominee
END:VEVENT
BEGIN:VEVENT
DTSTART;TZID=UTC:20240608T103000
DTEND;TZID=UTC:20240608T230000
DTSTAMP:20260420T223745
CREATED:20240530T004034Z
LAST-MODIFIED:20240530T004041Z
UID:10000170-1717842600-1717887600@upbarreview.com
SUMMARY:Copperfest - Oconto
DESCRIPTION:Date: June 7\, 2024 – June 9\, 2024 \nOconto Copperfest celebration at Copperfest/American Legion Post 74 Park will be June 7-9\, 2024. \nHighlights for this year’s festival include: \nEntertainment featuring: Mad Dog and Merrill\, Glen Girard Magician\, racing ducks and pigs\, pony rides\, Casady’s Critters\, kid’s games\, horseshoe and cornhole tournaments\, UTL wrestling\, car show\, vendor alley\, pie and ice cream social\, and plenty of food & refreshments. \nParade – Entries are now being accepted for the 2024 Copperfest parade on June 8. The start time is 10:00 a.m.\, and the lineup is on Farnsworth Ave between Chicago Street and Pecor Street. Please call 920 835-2647 to reserve your spot. \n  \nLineup is below: \nhttps://www.facebook.com/share/p/eDEQ9rJ6j7vvvKbH/
URL:https://upbarreview.com/event/copperfest-oconto-2/
LOCATION:Copperfest/American Legion Post 74 Park\, 709 Madison\, Oconto\, WI\, 54143
CATEGORIES:Menominee
END:VEVENT
BEGIN:VEVENT
DTSTART;TZID=UTC:20240608T120000
DTEND;TZID=UTC:20240608T133000
DTSTAMP:20260420T223745
CREATED:20240530T014228Z
LAST-MODIFIED:20240530T014228Z
UID:10000182-1717848000-1717853400@upbarreview.com
SUMMARY:Bergeson Farms Lawnmower Racing - Peshtigo
DESCRIPTION:” We have the schedule posted below and will be posting the updated rulebook soon! For the first race (June 8th) we will be having Ti Shep’s Layers of Flavor to kick off our race season this year\, so make sure you join us for some AMAZING food and some great racing! We look forward to seeing you all very soon!”
URL:https://upbarreview.com/event/bergeson-farms-lawnmower-racing-peshtigo/
LOCATION:Bergeson Farms\, N3166 Jandt Rd\, Peshtigo\, WI\, 54157
CATEGORIES:Menominee
END:VEVENT
BEGIN:VEVENT
DTSTART;TZID=UTC:20240609T100000
DTEND;TZID=UTC:20240609T140000
DTSTAMP:20260420T223745
CREATED:20240530T004144Z
LAST-MODIFIED:20240530T004144Z
UID:10000171-1717927200-1717941600@upbarreview.com
SUMMARY:Copperfest - Oconto
DESCRIPTION:Date: June 7\, 2024 – June 9\, 2024 \nOconto Copperfest celebration at Copperfest/American Legion Post 74 Park will be June 7-9\, 2024. \nHighlights for this year’s festival include: \nEntertainment featuring: Mad Dog and Merrill\, Glen Girard Magician\, racing ducks and pigs\, pony rides\, Casady’s Critters\, kid’s games\, horseshoe and cornhole tournaments\, UTL wrestling\, car show\, vendor alley\, pie and ice cream social\, and plenty of food & refreshments. \nParade – Entries are now being accepted for the 2024 Copperfest parade on June 8. The start time is 10:00 a.m.\, and the lineup is on Farnsworth Ave between Chicago Street and Pecor Street. Please call 920 835-2647 to reserve your spot. \n  \nLineup is below: \nhttps://www.facebook.com/share/p/eDEQ9rJ6j7vvvKbH/
URL:https://upbarreview.com/event/copperfest-oconto-3/
LOCATION:Copperfest/American Legion Post 74 Park\, 709 Madison\, Oconto\, WI\, 54143
CATEGORIES:Menominee
END:VEVENT
BEGIN:VEVENT
DTSTART;TZID=UTC:20240609T173000
DTEND;TZID=UTC:20240609T200000
DTSTAMP:20260420T223745
CREATED:20240608T014716Z
LAST-MODIFIED:20240608T014716Z
UID:10000452-1717954200-1717963200@upbarreview.com
SUMMARY:Ironworks - Live Music by Josh and Jared
DESCRIPTION:Come by for some live music!!!
URL:https://upbarreview.com/event/ironworks-live-music-by-josh-and-jared/
LOCATION:Ironworks\, 1333 Main St.\, Marinette\, WI\, 54143\, United States
CATEGORIES:Menominee
END:VEVENT
BEGIN:VEVENT
DTSTART;TZID=UTC:20240612T180000
DTEND;TZID=UTC:20240612T200000
DTSTAMP:20260420T223745
CREATED:20240530T013054Z
LAST-MODIFIED:20240530T013147Z
UID:10000180-1718215200-1718222400@upbarreview.com
SUMMARY:Bands At Badger - Peshtigo
DESCRIPTION:Sponsored by: Waupaca FoundryFree Admission Bring your lawn chair Concessions open at 5pm Music is a variety of Oldies\, Country & Now
URL:https://upbarreview.com/event/bands-at-badger/
LOCATION:Badger Park\, 300 E Park Dr\, Peshtigo\, WI\, 54147
CATEGORIES:Menominee
END:VEVENT
BEGIN:VEVENT
DTSTART;TZID=UTC:20240612T190000
DTEND;TZID=UTC:20240612T233000
DTSTAMP:20260420T223745
CREATED:20240302T144007Z
LAST-MODIFIED:20240318T232917Z
UID:10000024-1718218800-1718235000@upbarreview.com
SUMMARY:R&S Saddle Saloon - Afroman Live
DESCRIPTION:“Reid Stanton Promotions Presents Afroman & 906hammy live in Marinette\, WI\n$25 pre sale\n$30 at door\n$50 meet & greet”
URL:https://upbarreview.com/event/rs-saddle-saloon-afroman-live/
LOCATION:R&S Saddle Saloon\, 1719 Main St.\, Marinette\, MI\, 54143\, United States
CATEGORIES:Menominee
ORGANIZER;CN="R&S Saddle Saloon":MAILTO:rssaddlesaloon@gmail.com
END:VEVENT
BEGIN:VEVENT
DTSTART;TZID=UTC:20240612T193000
DTEND;TZID=UTC:20240612T210000
DTSTAMP:20260420T223746
CREATED:20240530T001134Z
LAST-MODIFIED:20240530T001134Z
UID:10000163-1718220600-1718226000@upbarreview.com
SUMMARY:Ironworks - Open Mic Night
DESCRIPTION:LIVE MUSIC every Wednesday night at 730pm\nOpen Mic\, bring yourself your friends and talent and jam with us!
URL:https://upbarreview.com/event/ironworks-open-mic-night-2/
LOCATION:Ironworks\, 1333 Main St.\, Marinette\, WI\, 54143\, United States
CATEGORIES:Menominee
END:VEVENT
BEGIN:VEVENT
DTSTART;TZID=UTC:20240613T133000
DTEND;TZID=UTC:20240613T220000
DTSTAMP:20260420T223746
CREATED:20240530T010157Z
LAST-MODIFIED:20240530T010157Z
UID:10000172-1718285400-1718316000@upbarreview.com
SUMMARY:Porterfield Country Music Festival
DESCRIPTION:Porterfield Country Music Festival 2024 – Thursday Lineup! \n\n\nKick off the festival with an amazing Thursday lineup that you won’t want to miss! \n\n\n Thursday\, June 13\, 2024\n Porterfield\, WI\n\n\nGet ready for a night of incredible performances:\n\n\n 1:30 PM – 2:30 PM: Neo Lives Country Band\n 3:30 PM – 5:00 PM: Over the Limit Country Band\n 6:00 PM – 7:30 PM: Outlaw’d\n 8:30 PM – 10:00 PM: Smoke Road
URL:https://upbarreview.com/event/porterfield-country-music-festival/
LOCATION:Porterfield Country Inc.\, W3525 Peters Rd.\, Marinette\, WI\, 54143
CATEGORIES:Menominee
END:VEVENT
BEGIN:VEVENT
DTSTART;TZID=UTC:20240613T150000
DTEND;TZID=UTC:20240613T190000
DTSTAMP:20260420T223746
CREATED:20240522T233229Z
LAST-MODIFIED:20240522T233229Z
UID:10000144-1718290800-1718305200@upbarreview.com
SUMMARY:The Waterfront Market - Menominee
DESCRIPTION:Stroll down Menominee’s Waterfront Market\, stretching from the Spies Public Library to Memorial Marina Park\, where vendors greet you with organic produce\, local art\, food trucks and live entertainment every Thursday from 3:00PM to 7:00PM. May 30. June 6\, 13\, 20\, 27. July 4\, 11\, 18\, 25. August 1\, 8\, 15.
URL:https://upbarreview.com/event/the-waterfront-market-menominee-3/
LOCATION:Spies Public Library\, 940 1st St.\, Menominee\, MI\, 49858
CATEGORIES:Menominee
END:VEVENT
BEGIN:VEVENT
DTSTART;TZID=UTC:20240613T173000
DTEND;TZID=UTC:20240613T200000
DTSTAMP:20260420T223746
CREATED:20240608T023951Z
LAST-MODIFIED:20240728T212639Z
UID:10000466-1718299800-1718308800@upbarreview.com
SUMMARY:Norway - Open Air Market
DESCRIPTION:Thursdays on Main street in downtown Norway
URL:https://upbarreview.com/event/norway-open-air-market/2024-06-13/
LOCATION:Norway\, MI
CATEGORIES:Menominee
END:VEVENT
BEGIN:VEVENT
DTSTART;TZID=UTC:20240613T180000
DTEND;TZID=UTC:20240613T200000
DTSTAMP:20260420T223746
CREATED:20240530T173755Z
LAST-MODIFIED:20240530T173755Z
UID:10000195-1718301600-1718308800@upbarreview.com
SUMMARY:Spirit House - Trivia Night!
DESCRIPTION:Join us for some trivia fun at Spirit House Thursdays 6pm – 8pm.\n\n\nFood: Bring your own OR Food Trucks are always on site!\n\n\nShow up and register your team before 6pm\, it’s free to play! We fill fast so arrive early to reserve your spot!\nNo phones or outside sources\, only those on your team can contribute.\nIncrease your collective brainpower by adding up to 6 team members (must be 21+)\nPrizes available for \n\n\nStruggling to find a team? Show up anyway and we’ll help connect you with others.\n\n\nIt’s free\, it’s fun…why not try something new?\n\n\n#trivianight #marinettemenominee #distillery
URL:https://upbarreview.com/event/spirit-house-trivia-night-3/
LOCATION:Spirit House\, 533 10th Ave\, Menominee\, MI 49858\, Menominee\, MI\, 49858\, United States
CATEGORIES:Menominee
END:VEVENT
BEGIN:VEVENT
DTSTART;TZID=UTC:20240613T183000
DTEND;TZID=UTC:20240613T200000
DTSTAMP:20260420T223746
CREATED:20240530T190522Z
LAST-MODIFIED:20240728T212249Z
UID:10000315-1718303400-1718308800@upbarreview.com
SUMMARY:Twin Bridge Waterski Team
DESCRIPTION:Pre-Shows Start at 6:30PM\n​Bring a lawn chair or a blanket for seating! \n​​Twin Bridge Ski Team Show Schedule  2024\nSat June 8th (rehearsal)\nThur June 13th (first Show)\nSat June 15th\nThur June 20st\nSat June 22th\nThur June 27th\nSat June 29th\nThur July 4th\nSat July 6th – Fireworks\nThur July 11th\nSat July 13th – Fireworks Rain date\nSun July 14th – Sponsor Show (Public Welcome)\nThur July 18th – No Show WI State\nSat July 20th – No Show WI State\nThur July 25th\nSat July 27th\nSun July 28th – Learn to Ski\nThur Aug 1st\nSat Aug 3rd – No Show\nThur Aug 8th\nSat Aug 10th – Last Show\nAug 17-18 Crandon Footstock
URL:https://upbarreview.com/event/twin-bridge-waterski-team/2024-06-13/
LOCATION:Boat Landing 3 Rd\, High Falls Flowage\, Stephenson\, WI\, 54114
CATEGORIES:Menominee
END:VEVENT
BEGIN:VEVENT
DTSTART;TZID=UTC:20240614T130000
DTEND;TZID=UTC:20240614T220000
DTSTAMP:20260420T223746
CREATED:20240530T010318Z
LAST-MODIFIED:20240530T010318Z
UID:10000173-1718370000-1718402400@upbarreview.com
SUMMARY:Porterfield Country Music Festival
DESCRIPTION:Porterfield Country Music Festival 2024 – Friday Lineup! \n Friday\, June 14\, 2024\n Porterfield\, WI\n\n\nCheck out this amazing lineup:\n\n\n 1:00 PM – 2:30 PM: Bullets and Booze\n 3:30 PM – 5:00 PM: Tom K and Highway 41 Band\n 6:00 PM – 7:30 PM: Christie Huff\n 8:30 PM – 10:00 PM: Geoff Landon and High Country\n\n\nGet your tickets now and don’t miss out on a day filled with incredible performances and unforgettable moments!\n\n\nFor the full schedule and more details\, visit: www.countrymusicfestival.com\n\n\n Call us at 715-789-2207 for ticket information and campsite reservations!\n\n\nJoin us for great music\, good vibes\, and fantastic company! \n\n\nTag your friends and make plans to join us!  #PorterfieldCountryMusicFestival #FridayLineup #LiveMusic #GetYourTickets
URL:https://upbarreview.com/event/porterfield-country-music-festival-2/
LOCATION:Porterfield Country Inc.\, W3525 Peters Rd.\, Marinette\, WI\, 54143
CATEGORIES:Menominee
END:VEVENT
BEGIN:VEVENT
DTSTART;TZID=UTC:20240614T180000
DTEND;TZID=UTC:20240614T210000
DTSTAMP:20260420T223746
CREATED:20240608T020900Z
LAST-MODIFIED:20240608T020900Z
UID:10000455-1718388000-1718398800@upbarreview.com
SUMMARY:The Outback - Jack Gafford
DESCRIPTION:Come out and enjoy the great atmosphere\, great folks\, great times and some good ol’ live country music!
URL:https://upbarreview.com/event/the-outback-jack-gafford/
LOCATION:The Outback\, 1997 Old Peshtigo Rd\, Marinette\, WI\, 54143\, United States
CATEGORIES:Menominee
END:VEVENT
BEGIN:VEVENT
DTSTART;TZID=UTC:20240615T090000
DTEND;TZID=UTC:20240615T120000
DTSTAMP:20260420T223746
CREATED:20240530T022958Z
LAST-MODIFIED:20240530T022958Z
UID:10000190-1718442000-1718452800@upbarreview.com
SUMMARY:Menominee Historic Downtown Farmers' Market
DESCRIPTION:“The Menominee Historic Downtown Farmers’ Market will be held on Saturday mornings from 9am-12pm. \nThe Market will be located at 940 1st Street (Spies Public Library Parking Lot)”
URL:https://upbarreview.com/event/menominee-historic-downtown-farmers-market-2/
LOCATION:Spies Public Library\, 940 1st St.\, Menominee\, MI\, 49858
CATEGORIES:Menominee
END:VEVENT
BEGIN:VEVENT
DTSTART;TZID=UTC:20240615T100000
DTEND;TZID=UTC:20240615T140000
DTSTAMP:20260420T223746
CREATED:20240522T235005Z
LAST-MODIFIED:20240522T235005Z
UID:10000153-1718445600-1718460000@upbarreview.com
SUMMARY:Marinette Farmers Market - Stephenson Island
DESCRIPTION:
URL:https://upbarreview.com/event/marinette-farmers-market-stephenson-island-4/
LOCATION:Stephenson Island\, Marinette\, WI\, 54143
CATEGORIES:Menominee
END:VEVENT
BEGIN:VEVENT
DTSTART;TZID=UTC:20240615T120000
DTEND;TZID=UTC:20240615T160000
DTSTAMP:20260420T223746
CREATED:20240608T024244Z
LAST-MODIFIED:20240608T024244Z
UID:10000529-1718452800-1718467200@upbarreview.com
SUMMARY:The Forgotten Fire Winery - Live Music Todd Wangerin
DESCRIPTION:Live music on the outdoor stage with Todd Wangerin!\nFood vendor: Marinette Menominee Crime Stoppers\nWe have picnic table space is available for seating\, but we recommended grabbing your lawn chairs just in case! \n** Reminder! Alcoholic carry-ins are not permitted per state law. Dogs are welcome as long as they are on a leash and well behaved. **
URL:https://upbarreview.com/event/the-forgotten-fire-winery-live-music-todd-wangerin/
LOCATION:Forgotten Fire Winery\, N2393 Schacht Road\, Marinette\, WI\, 54143\, United States
CATEGORIES:Menominee
END:VEVENT
BEGIN:VEVENT
DTSTART;TZID=UTC:20240615T130000
DTEND;TZID=UTC:20240615T153000
DTSTAMP:20260420T223746
CREATED:20240329T163540Z
LAST-MODIFIED:20240329T163540Z
UID:10000095-1718456400-1718465400@upbarreview.com
SUMMARY:Island Resort & Casino - Island's Total ExBEERience & More
DESCRIPTION:Taste the best Michigan has to offer in craft beer\, wine and so much more!\nAttendees will have unlimited sample tasting from more than 60 varieties of Michigan craft beer\, wine\, ciders and spirits from more than 15 artisans. Complimentary light hors d’oeuvres are served and there are random prize giveaways throughout the event\, including a Grand Prize Casino Package valued at over $1\,000.\nGuests may take advantage of 50% off a standard hotel room at the Island Resort & Casino with the purchase of 2 full-price tickets.\nCall the hotel at 877-475-7375 and mentioning code BEER24 when making a reservation.\nFor those that don’t partake in alcoholic beverages but would like to attend as a designated driver\, we are offering a $15 Designated Driver ticket. Designated Driver ticket holders will be able to enjoy the complimentary snacks and we will have nonalcoholic beverages available. Designated Driver ticket holders are not eligible for door prizes\, the Grand Prize package\, or hotel discount. There will be a special prize drawing held for those Designated Driver ticket holders.\n*Must be 21+ to attend. Limited number of rooms available. Subject to change at management’s discretion.
URL:https://upbarreview.com/event/island-resort-casino-islands-total-exbeerience-more/
LOCATION:Island Resort & Casino\, W 399 US-2\, Harris\, MI\, 49845\, United States
CATEGORIES:Menominee
END:VEVENT
BEGIN:VEVENT
DTSTART;TZID=UTC:20240615T130000
DTEND;TZID=UTC:20240615T220000
DTSTAMP:20260420T223746
CREATED:20240530T010407Z
LAST-MODIFIED:20240530T010407Z
UID:10000174-1718456400-1718488800@upbarreview.com
SUMMARY:Porterfield Country Music Festival
DESCRIPTION:Porterfield Country Music Festival 2024 – Saturday Lineup! \n\n\nHappy Memorial Day! Take a break from your BBQ and check out the incredible Saturday lineup we have in store for you on June 15th at the Porterfield Country Music Festival!\n\n\n Saturday\, June 15\, 2024\n Porterfield\, WI\n\n\nHere’s who’s hitting the stage:\n\n\n 1:00 PM – 2:30 PM: Rafe Carlson\n 3:30 PM – 5:00 PM: Night Owl Country Band\n 6:00 PM – 7:30 PM: Brett Westgrove\n 8:30 PM – 10:00 PM: CJ Solar\n\n\nGet your tickets now and make plans for a day packed with fantastic performances!\n\n\nFor the full schedule and more details\, visit: www.countrymusicfestival.com\n\n\n Call us at 715-789-2207 for ticket information and campsite reservations!\n\n\nJoin us for great music\, good vibes\, and unforgettable memories! \n\n\nTag your friends and get ready for an amazing Saturday!  #PorterfieldCountryMusicFestival #SaturdayLineup #LiveMusic #GetYourTickets #MemorialDay
URL:https://upbarreview.com/event/porterfield-country-music-festival-3/
LOCATION:Porterfield Country Inc.\, W3525 Peters Rd.\, Marinette\, WI\, 54143
CATEGORIES:Menominee
END:VEVENT
BEGIN:VEVENT
DTSTART;TZID=UTC:20240615T170000
DTEND;TZID=UTC:20240615T193000
DTSTAMP:20260420T223746
CREATED:20240608T021501Z
LAST-MODIFIED:20240608T021501Z
UID:10000456-1718470800-1718479800@upbarreview.com
SUMMARY:EnJoy Gifts & Gathering - Jack Gafford
DESCRIPTION:Gather together with us at EnJoy Gifts & Gathering in Marinette\, Wisconsin.Doors open at 5:00pm.Coffee bar\, desserts\, music and fun fellowship!
URL:https://upbarreview.com/event/enjoy-gifts-gathering-jack-gafford/
LOCATION:EnJoy Gifts & Gathering\, 1713 Main St\, Marinette\, WI\, 54143
CATEGORIES:Menominee
END:VEVENT
BEGIN:VEVENT
DTSTART;TZID=UTC:20240615T180000
DTEND;TZID=UTC:20240615T220000
DTSTAMP:20260420T223746
CREATED:20240608T023434Z
LAST-MODIFIED:20240608T023434Z
UID:10000464-1718474400-1718488800@upbarreview.com
SUMMARY:The Outback - Josh + Josh
DESCRIPTION:Live music at the Outback!
URL:https://upbarreview.com/event/the-outback-josh-josh/
LOCATION:The Outback\, 1997 Old Peshtigo Rd\, Marinette\, WI\, 54143\, United States
CATEGORIES:Menominee
END:VEVENT
BEGIN:VEVENT
DTSTART;TZID=UTC:20240615T183000
DTEND;TZID=UTC:20240615T200000
DTSTAMP:20260420T223746
CREATED:20240530T190522Z
LAST-MODIFIED:20240728T212249Z
UID:10000316-1718476200-1718481600@upbarreview.com
SUMMARY:Twin Bridge Waterski Team
DESCRIPTION:Pre-Shows Start at 6:30PM\n​Bring a lawn chair or a blanket for seating! \n​​Twin Bridge Ski Team Show Schedule  2024\nSat June 8th (rehearsal)\nThur June 13th (first Show)\nSat June 15th\nThur June 20st\nSat June 22th\nThur June 27th\nSat June 29th\nThur July 4th\nSat July 6th – Fireworks\nThur July 11th\nSat July 13th – Fireworks Rain date\nSun July 14th – Sponsor Show (Public Welcome)\nThur July 18th – No Show WI State\nSat July 20th – No Show WI State\nThur July 25th\nSat July 27th\nSun July 28th – Learn to Ski\nThur Aug 1st\nSat Aug 3rd – No Show\nThur Aug 8th\nSat Aug 10th – Last Show\nAug 17-18 Crandon Footstock
URL:https://upbarreview.com/event/twin-bridge-waterski-team/2024-06-15/
LOCATION:Boat Landing 3 Rd\, High Falls Flowage\, Stephenson\, WI\, 54114
CATEGORIES:Menominee
END:VEVENT
BEGIN:VEVENT
DTSTART;TZID=UTC:20240616T110000
DTEND;TZID=UTC:20240616T150000
DTSTAMP:20260420T223746
CREATED:20240608T021637Z
LAST-MODIFIED:20240608T021637Z
UID:10000457-1718535600-1718550000@upbarreview.com
SUMMARY:Badger Park Peshtigo - Jack Gafford
DESCRIPTION:No Charge.Event starts at 11:00 with a message from Pastor Rod\, followed by lunch with live music.Great way and place to bring the family for Father’s Day!
URL:https://upbarreview.com/event/badger-park-peshtigo-jack-gafford/
LOCATION:Badger Park\, 300 E Park Dr\, Peshtigo\, WI\, 54147
CATEGORIES:Menominee
END:VEVENT
END:VCALENDAR