BEGIN:VCALENDAR
VERSION:2.0
PRODID:-//UP BAR REVIEW - ECPv6.14.2//NONSGML v1.0//EN
CALSCALE:GREGORIAN
METHOD:PUBLISH
X-ORIGINAL-URL:https://upbarreview.com
X-WR-CALDESC:Events for UP BAR REVIEW
REFRESH-INTERVAL;VALUE=DURATION:PT1H
X-Robots-Tag:noindex
X-PUBLISHED-TTL:PT1H
BEGIN:VTIMEZONE
TZID:UTC
BEGIN:STANDARD
TZOFFSETFROM:+0000
TZOFFSETTO:+0000
TZNAME:UTC
DTSTART:20250101T000000
END:STANDARD
END:VTIMEZONE
BEGIN:VEVENT
DTSTART;TZID=UTC:20250913T210000
DTEND;TZID=UTC:20250913T233000
DTSTAMP:20260421T112831
CREATED:20250403T020116Z
LAST-MODIFIED:20250403T020116Z
UID:10003895-1757797200-1757806200@upbarreview.com
SUMMARY:Wild Horse Saloon - Karaoke - Iron Mountain
DESCRIPTION:Welcome to the Hottest Karaoke show in Town! Every Saturday at The Wild Horse Saloon\, in Iron Mountain\, MI Starts at 9:00 pm\nCreate your FREE Performer Account with Songbooks Online App to Browse the Karaoke song library\, keep a favorites list and submit your song requests remotely!\nUse Show ID: MSK23 after you create your account. You can also just tell me your name and the song you want if you don’t know how to install an app.
URL:https://upbarreview.com/event/wild-horse-saloon-karaoke-iron-mountain-2/2025-09-13/
LOCATION:Wild Horse Saloon\, 713 River Ave\, Iron Mountain\, MI\, 49801
CATEGORIES:Ironmountain
END:VEVENT
BEGIN:VEVENT
DTSTART;TZID=UTC:20250914T130000
DTEND;TZID=UTC:20250914T170000
DTSTAMP:20260421T112831
CREATED:20250904T023053Z
LAST-MODIFIED:20250904T023053Z
UID:10005998-1757854800-1757869200@upbarreview.com
SUMMARY:Dickinson Iron Hope 2 Help Suicide Awareness Event & Walk
DESCRIPTION:8th Annual Hope 2 Help Suicide Awareness Event.We will have live music\, speakers\, prize drawings\, food\, kids activities and lots of local resources! \n1:00pm – Registration & Ticket sales\n2:00pm – Speakers\n2:30pm – Walk Starts\n3:30pm – Prize Drawings\n5:00pm – Event End
URL:https://upbarreview.com/event/dickinson-iron-hope-2-help-suicide-awareness-event-walk/
CATEGORIES:Ironmountain
END:VEVENT
BEGIN:VEVENT
DTSTART;TZID=UTC:20250914T140000
DTEND;TZID=UTC:20250914T170000
DTSTAMP:20260421T112831
CREATED:20250904T023112Z
LAST-MODIFIED:20250904T023112Z
UID:10006006-1757858400-1757869200@upbarreview.com
SUMMARY:Pokémon: Maga Evolutions Pre-Release
DESCRIPTION:Pokémon TCG: Mega Evolutions Pre-Release Events📅 Sunday\, September 14th at 2pm\n📅 Sunday\, September 21st at 2pm \nBe among the first to experience the brand-new Pokémon: Mega Evolutions set at our Pre-Release events! Each player will receive a “Build and Battle” Pre-Release Kit\, giving you everything you need to build a deck and dive right into the action. \n🎟️ Entry: $29.99 per person (includes kit + prize support)\n🎮 Format: Build and Battle / Pre-Release Style Play\n🏆 Prize Support: Win a round\, win a pack! \nDon’t miss your chance to celebrate this exciting new set with the community\, test out new strategies\, and have an awesome time! \n👉 Pre-Register here: https://forms.gle/AhGg7Dxzek2Kv7ya8
URL:https://upbarreview.com/event/pokemon-maga-evolutions-pre-release/
CATEGORIES:Ironmountain
END:VEVENT
BEGIN:VEVENT
DTSTART;TZID=UTC:20250914T170000
DTEND;TZID=UTC:20250914T200000
DTSTAMP:20260421T112831
CREATED:20250904T023127Z
LAST-MODIFIED:20250904T023127Z
UID:10006011-1757869200-1757880000@upbarreview.com
SUMMARY:Glory Road at Iron Mountain Baptist Church
DESCRIPTION:Glory Road Will be here to worship with us.  we would love to have everyone who can to come join us\,
URL:https://upbarreview.com/event/glory-road-at-iron-mountain-baptist-church/
CATEGORIES:Ironmountain
END:VEVENT
BEGIN:VEVENT
DTSTART;TZID=UTC:20250915T170000
DTEND;TZID=UTC:20250915T190000
DTSTAMP:20260421T112831
CREATED:20250403T022612Z
LAST-MODIFIED:20250403T022612Z
UID:10004140-1757955600-1757962800@upbarreview.com
SUMMARY:Forever Friendship Drop-in Center - Disorder Discussion Group - Kingsford
DESCRIPTION:We understand that the road to overcoming addiction is unique for each individual\, and we’re here to offer unwavering peer support\, personalized care\, and a beacon of hope for a brighter tomorrow! This is available to individuals with Substance Misuse Disorder & or Alcoholism + Mental Health Diagnosis
URL:https://upbarreview.com/event/forever-friendship-drop-in-center-disorder-discussion-group-kingsford/2025-09-15/
LOCATION:Forever Friendship Drop-in Center\, 501 S Carpenter Ave\, Kingsford\, MI
CATEGORIES:Ironmountain
END:VEVENT
BEGIN:VEVENT
DTSTART;TZID=UTC:20250916T103000
DTEND;TZID=UTC:20250916T133000
DTSTAMP:20260421T112831
CREATED:20250904T023052Z
LAST-MODIFIED:20250904T023052Z
UID:10005995-1758018600-1758029400@upbarreview.com
SUMMARY:LunchTime Live featuring Wingin' It - Iron Mountain Campus
DESCRIPTION:LunchTime Live! Iron Mountain Campus – Free Event!Tuesday\, September 16\, 11:30 am – 1:00 pm CT\nBay College – Iron Mountain Campus Front Patio (Inclement Weather: Indoors Lower Commons)\nMusic by: Wingin’ It\nSugar Jets food truck on-site to offer food for purchase.
URL:https://upbarreview.com/event/lunchtime-live-featuring-wingin-it-iron-mountain-campus/
CATEGORIES:Ironmountain
END:VEVENT
BEGIN:VEVENT
DTSTART;TZID=UTC:20250916T200000
DTEND;TZID=UTC:20250916T233000
DTSTAMP:20260421T112831
CREATED:20250403T021715Z
LAST-MODIFIED:20250403T021741Z
UID:10004010-1758052800-1758065400@upbarreview.com
SUMMARY:Forever Friendship Drop-in Center - Mindfulness\, Meditation\, Mandalas - Kingsford
DESCRIPTION:Art Therapy Style Group\nMindfulness is the practice of purposely bringing one’s attention in the present moment without judgment.\nJoin each week to create a unique art project to help you cope with your mental health
URL:https://upbarreview.com/event/forever-friendship-drop-in-center-mindfulness-meditation-mandalas-kingsford-2/2025-09-16/
LOCATION:Forever Friendship Drop-in Center\, 501 S Carpenter Ave\, Kingsford\, MI
CATEGORIES:Ironmountain
END:VEVENT
BEGIN:VEVENT
DTSTART;TZID=UTC:20250917T130000
DTEND;TZID=UTC:20250917T160000
DTSTAMP:20260421T112831
CREATED:20250403T015518Z
LAST-MODIFIED:20250403T015518Z
UID:10003849-1758114000-1758124800@upbarreview.com
SUMMARY:Bored Bard Games - Board Games - Iron Mountain
DESCRIPTION:Come join us for unique and engaging games and make a few new friends along the way. Plus it is all FUN & FREE!
URL:https://upbarreview.com/event/bored-bard-games-board-games-iron-mountain/2025-09-17/
LOCATION:Bored Bard Games\, 224 E Hughitt St\, Iron Mountain\, mi\, 49801
CATEGORIES:Ironmountain
END:VEVENT
BEGIN:VEVENT
DTSTART;TZID=UTC:20250917T160000
DTEND;TZID=UTC:20250917T210000
DTSTAMP:20260421T112831
CREATED:20250403T022035Z
LAST-MODIFIED:20250403T022035Z
UID:10004085-1758124800-1758142800@upbarreview.com
SUMMARY:Knights of Columbus - Super Bingo - Kingsford
DESCRIPTION:Super Bingo$2\,535 Regular Pay Out(Attendance Permitting)22 Games for $12.00 Per PackPull Tab GamesHot BallComplete Concession StandDoors open at 4:00Early bird games start at 6:00Regular bingo starts at 6:30
URL:https://upbarreview.com/event/knights-of-columbus-super-bingo-kingsford/2025-09-17/
LOCATION:Knights of Columbus Kingsford\, 520 West Breitung Ave\, Kingsford\, MI
CATEGORIES:Ironmountain
END:VEVENT
BEGIN:VEVENT
DTSTART;TZID=UTC:20250917T180000
DTEND;TZID=UTC:20250917T200000
DTSTAMP:20260421T112831
CREATED:20250620T163638Z
LAST-MODIFIED:20250620T163638Z
UID:10005291-1758132000-1758139200@upbarreview.com
SUMMARY:The Wellness Way - Approach to Inflammation - Kingsford
DESCRIPTION:Is inflammation the root of your illness? How harmful is chronic inflammation? How do you correct the problem naturally?
URL:https://upbarreview.com/event/the-wellness-way-approach-to-inflammation-kingsford/2025-09-17/
LOCATION:The Wellness Way\, 601 S Westwood Ave\, Kingsford\, MI
CATEGORIES:Ironmountain
END:VEVENT
BEGIN:VEVENT
DTSTART;TZID=UTC:20250917T180000
DTEND;TZID=UTC:20250917T200000
DTSTAMP:20260421T112831
CREATED:20250620T183508Z
LAST-MODIFIED:20250620T183508Z
UID:10005333-1758132000-1758139200@upbarreview.com
SUMMARY:Moose Head Bar - Song Bingo - Norway
DESCRIPTION: Song Bingo – Every Wednesday Night! \nThe fun doesn’t stop! Song Bingo is here EVERY Wednesday night at Norway Mountain!  Grab your friends & family and test your music knowledge while enjoying $1 off beer and $1 off appetizers! \nIt’s the perfect midweek hangout—great tunes\, great food\, and great company! Don’t miss out on the fun!\nTag your crew and join us every Wednesday night for a good time! \n6pm-8pm
URL:https://upbarreview.com/event/moose-head-bar-song-bingo-norway/2025-09-17/
LOCATION:Moose Head Bar & Restaurant\, 4948 Brier Mountain Rd\, Norway\, MI
CATEGORIES:Ironmountain
END:VEVENT
BEGIN:VEVENT
DTSTART;TZID=UTC:20250918T170000
DTEND;TZID=UTC:20250918T190000
DTSTAMP:20260421T112831
CREATED:20250403T021855Z
LAST-MODIFIED:20250403T021855Z
UID:10004048-1758214800-1758222000@upbarreview.com
SUMMARY:Forever Friendship Drop-in Center - Womens Discussion Group- Kingsford
DESCRIPTION:Safe space for women with mental health diagnoses to discuss issues real women face in society.Play games\, enjoy community outings and events.
URL:https://upbarreview.com/event/forever-friendship-drop-in-center-womens-discussion-group-kingsford-2/2025-09-18/
LOCATION:Forever Friendship Drop-in Center\, 501 S Carpenter Ave\, Kingsford\, MI
CATEGORIES:Ironmountain
END:VEVENT
BEGIN:VEVENT
DTSTART;TZID=UTC:20250918T180000
DTEND;TZID=UTC:20250918T190000
DTSTAMP:20260421T112831
CREATED:20250904T023213Z
LAST-MODIFIED:20250904T023213Z
UID:10006026-1758218400-1758222000@upbarreview.com
SUMMARY:Cub Scout Pack 3510 Join Scouting Night
DESCRIPTION:Boys & Girls in K-5 are invited to Join the Adventures of Cub Scouts in the Iron Mountain/Kingsford/Norway Area.\nThursday\, September 18th anytime 6-7PM CT at First Covenant Church\, 125 East H Street\, Iron Mountain\, next to the VA Hospital. \nCost to join is $97 for the year. If financial assistance is requested\, speak to a pack leader\, so all can be a Scout in our program. Meetings vary by Grade. www.facebook.com/Pack510.3510 \nFor more information\, contact: Rich Henrion at rhenrionbmw@gmail.com \nScouting units near you
URL:https://upbarreview.com/event/cub-scout-pack-3510-join-scouting-night/
LOCATION:Iron Mountain Covenant Church\, 125 E H Street\, Iron Mountain\, MI
CATEGORIES:Ironmountain
END:VEVENT
BEGIN:VEVENT
DTSTART;TZID=UTC:20250919T170000
DTEND;TZID=UTC:20250919T190000
DTSTAMP:20260421T112832
CREATED:20250403T021557Z
LAST-MODIFIED:20250403T021615Z
UID:10003973-1758301200-1758308400@upbarreview.com
SUMMARY:Forever Friendship Drop-in Center - Mens Social Sober Club - Kingsford
DESCRIPTION:A safe and sober space for men to get together and hangout or talk about issues that affect men in our society. We have different games\, community outings and events depending on wether.
URL:https://upbarreview.com/event/forever-friendship-drop-in-center-mens-social-sober-club-iron-mountain/2025-09-19/
LOCATION:Forever Friendship Drop-in Center\, 501 S Carpenter Ave\, Kingsford\, MI
CATEGORIES:Ironmountain
END:VEVENT
BEGIN:VEVENT
DTSTART;TZID=UTC:20250919T170000
DTEND;TZID=UTC:20250919T200000
DTSTAMP:20260421T112832
CREATED:20250904T023158Z
LAST-MODIFIED:20250904T023158Z
UID:10006021-1758301200-1758312000@upbarreview.com
SUMMARY:Magic: The Gathering - Spiderman Pre-Release
DESCRIPTION:Event: Magic: The Gathering – Spider-Man Pre-Release\n📅 Date: Friday\, September 19th\n🕔 Time: 5:00 PM (Arrive early for check-in)\n💲 Entry Fee: $39.99 per person \nGet ready to swing into action with our Magic: The Gathering – Spider-Man Pre-Release event! Each player will receive a pre-release kit to build their deck and test their skills in 3 Swiss rounds (best of 3 games). \n🏆 Prize Support: \nWin a round\, win a pack! \nJoin us for an epic night of web-slinging strategy\, friendly competition\, and plenty of fun at Bored Bard Games!
URL:https://upbarreview.com/event/magic-the-gathering-spiderman-pre-release/
CATEGORIES:Ironmountain
END:VEVENT
BEGIN:VEVENT
DTSTART;TZID=UTC:20250919T180000
DTEND;TZID=UTC:20250919T210000
DTSTAMP:20260421T112832
CREATED:20250904T023227Z
LAST-MODIFIED:20250904T023227Z
UID:10006030-1758304800-1758315600@upbarreview.com
SUMMARY:Mountain Pie Ministry
DESCRIPTION:Who doesn’t love fellowship with friends\, food\, and learning through devotion? . There will be picnic tables set up\, but feel free to bring a chair. Bread\, pie filling\, and all the fixin’s for s’mores will be provided. If there’s something specific you like\, feel free to bring it! So\, grab your mountain pie iron and a friend\, and join us for our last Mountain Pie Ministry of the year! I hope to see you there!
URL:https://upbarreview.com/event/mountain-pie-ministry/
CATEGORIES:Ironmountain
END:VEVENT
BEGIN:VEVENT
DTSTART;TZID=UTC:20250920T060000
DTEND;TZID=UTC:20250920T090000
DTSTAMP:20260421T112832
CREATED:20250904T023227Z
LAST-MODIFIED:20250904T023227Z
UID:10006029-1758348000-1758358800@upbarreview.com
SUMMARY:2025 South East Seneca Classic hosted by Beer Mountain Disc Golf
DESCRIPTION:South East Seneca Classic hosted by Beer Mountain Disc Golf at Grist Iron Brewing Company 🥏\nJoin us for the inaugural 1-round Best-Shot Doubles tourney at the Beer Mountain Disc Golf Course! Bring your own partner\, pick your division\, and get ready for a fun\, prize-packed day. \n🏆 Tons of CTPs & games on nearly every hole\n💰 Cash and other prizes from local businesses (no player packs)\n🍻 Great vibes at Grist Iron Brewing \n🗓 Divisions with fewer than 2 teams may be consolidated 3 days prior.\n🎟 Entry includes $8 course fee \nGrab a buddy\, name your team\, and sign up here!\n👉 https://shorturl.at/yiZP1
URL:https://upbarreview.com/event/2025-south-east-seneca-classic-hosted-by-beer-mountain-disc-golf/
CATEGORIES:Ironmountain
END:VEVENT
BEGIN:VEVENT
DTSTART;TZID=UTC:20250920T080000
DTEND;TZID=UTC:20250920T120000
DTSTAMP:20260421T112832
CREATED:20250620T154032Z
LAST-MODIFIED:20250620T154032Z
UID:10005000-1758355200-1758369600@upbarreview.com
SUMMARY:Iron Mountain Farmers & Artisans Market
DESCRIPTION:Buy local\, shop and support 30-40 fine vendors from the Iron Mountain area. The Downtown Farmers & Artisans Market (FAM) is held Saturdays in the parking lot across from Dickinson County Library at the corner of A Street and Iron Mountain Street in Downtown Iron Mountain MI. If you need help finding parking\, please go to downtownironmountain.com/parking to see the map.\nThe FAM is a great place to enjoy a sense of community while supporting local vendors and downtown businesses. The FAM offers a unique combination of local and organic produce\, seasonal plants\, honey & maple syrup\, flowers\, locally made baked goods\, and locally made crafts. To see the full vendor list\, go to downtiwnironmountain.com/farmers-artisans-market
URL:https://upbarreview.com/event/iron-mountain-farmers-artisans-market/2025-09-20/
LOCATION:501 S Stephenson Ave\, Iron Mountain\, MI
CATEGORIES:Ironmountain
END:VEVENT
BEGIN:VEVENT
DTSTART;TZID=UTC:20250920T090000
DTEND;TZID=UTC:20250920T130000
DTSTAMP:20260421T112832
CREATED:20250904T023659Z
LAST-MODIFIED:20250904T023659Z
UID:10006072-1758358800-1758373200@upbarreview.com
SUMMARY:SHRED IT & FORGET IT EVENT 2025
DESCRIPTION:This is a free event for Kingsford Residents and Iron Mountain Kingsford Community Federal Credit Union Members! Bring items to shred and recycle! TRICO will also be grilling up hot dogs to hand out and the building will be opened for a walk through and tour of the facility! Learn more about what this great business offers to our community and get rid of the piles of paper in your home at the same time!
URL:https://upbarreview.com/event/shred-it-forget-it-event-2025/
CATEGORIES:Ironmountain
END:VEVENT
BEGIN:VEVENT
DTSTART;TZID=UTC:20250920T100000
DTEND;TZID=UTC:20250920T130000
DTSTAMP:20260421T112832
CREATED:20250904T025023Z
LAST-MODIFIED:20250904T025023Z
UID:10006185-1758362400-1758373200@upbarreview.com
SUMMARY:Annual Golf Scramble - Saturday\, September 20th
DESCRIPTION:
URL:https://upbarreview.com/event/annual-golf-scramble-saturday-september-20th/
CATEGORIES:Ironmountain
END:VEVENT
BEGIN:VEVENT
DTSTART;TZID=UTC:20250920T190000
DTEND;TZID=UTC:20250920T213000
DTSTAMP:20260421T112832
CREATED:20250904T023113Z
LAST-MODIFIED:20250904T023113Z
UID:10006008-1758394800-1758403800@upbarreview.com
SUMMARY:Another One - The Premier Grateful Dead Experience
DESCRIPTION:A Grateful Dead Tribute experience from Milwaukee Wisconsin\nAnother One – The Premier Grateful Dead Experience! Is not just another one of those Dead cover bands… This 6 piece band has come together to honor the legendary music and spirit of The Grateful Dead. With a deep appreciation for the Dead’s unique blend of rock\, blues\, country\, and folk\, this band has made it their mission to pay homage to the music that continues to evolve. Whether you’re a lifelong fan\, or just discovering The Dead for the first time\, Another One’s high-energy performances are sure to transport you to space\, and leave you feeling the magic of The Dead’s timeless sound. In true spirit of the Grateful Dead no two shows are the same. Come on out\, grab a ticket\, and enjoy the experience – You don’t want to miss this band! Here’s to making sure the music never stops! \nVideo: https://www.youtube.com/watch?v=yp0b9rsle3w \nTickets are $32.00 online. Day of Show tickets will be $35.00 at The Braumart Box Office while supplies last.
URL:https://upbarreview.com/event/another-one-the-premier-grateful-dead-experience/
CATEGORIES:Ironmountain
END:VEVENT
BEGIN:VEVENT
DTSTART;TZID=UTC:20250920T210000
DTEND;TZID=UTC:20250920T233000
DTSTAMP:20260421T112832
CREATED:20250403T020116Z
LAST-MODIFIED:20250403T020116Z
UID:10003896-1758402000-1758411000@upbarreview.com
SUMMARY:Wild Horse Saloon - Karaoke - Iron Mountain
DESCRIPTION:Welcome to the Hottest Karaoke show in Town! Every Saturday at The Wild Horse Saloon\, in Iron Mountain\, MI Starts at 9:00 pm\nCreate your FREE Performer Account with Songbooks Online App to Browse the Karaoke song library\, keep a favorites list and submit your song requests remotely!\nUse Show ID: MSK23 after you create your account. You can also just tell me your name and the song you want if you don’t know how to install an app.
URL:https://upbarreview.com/event/wild-horse-saloon-karaoke-iron-mountain-2/2025-09-20/
LOCATION:Wild Horse Saloon\, 713 River Ave\, Iron Mountain\, MI\, 49801
CATEGORIES:Ironmountain
END:VEVENT
BEGIN:VEVENT
DTSTART;TZID=UTC:20250921T100000
DTEND;TZID=UTC:20250921T130000
DTSTAMP:20260421T112832
CREATED:20250904T023659Z
LAST-MODIFIED:20250904T023659Z
UID:10006073-1758448800-1758459600@upbarreview.com
SUMMARY:Baraga Mass
DESCRIPTION:Join us for a special Baraga Mass at St. Mary Queen of Peace in Kingsford\, MI dedicated to Bishop Baraga and the anniversary ofhis ordination. Join us for light refreshments and a brief presentation about the Snowshoe Priest following mass\, and private blessings with Baraga’s crucifix available after.
URL:https://upbarreview.com/event/baraga-mass/
CATEGORIES:Ironmountain
END:VEVENT
BEGIN:VEVENT
DTSTART;TZID=UTC:20250921T130000
DTEND;TZID=UTC:20250921T163000
DTSTAMP:20260421T112832
CREATED:20250905T182040Z
LAST-MODIFIED:20250905T182040Z
UID:10006290-1758459600-1758472200@upbarreview.com
SUMMARY:Zip & Sip - Cedars Edge Wine & Gifts
DESCRIPTION:Zipline and Wine Tasting Adventure\nThe Ultimate Northwoods Pairing: Zip & Sip Adventure Package\nWildman Adventure Resort and Cedars Edge Wine and Gifts have teamed up to create the perfect blend of thrill and relaxation—just for you. Introducing the Zip & Sip Adventure Package\, where outdoor excitement meets local flavor in one unforgettable day.\nHow It Works:\nYour adventure begins at Cedar’s Edge Wine and Gifts\, where the Wildman Team will pick you up and drive the short shuttle to begin your Zipline Tour. During your trip\, you’ll soar through the treetops on the 5-line Menominee River Zipline Tour. Towering pines\, stunning river views\, and heart-pounding zips set the tone for an epic Northwoods experience.\nOnce you’ve conquered the course\, we’ll shuttle you back up the road to the serene setting of Cedars Edge Wine and Gifts. There\, you’ll unwind with a wine flight of your choice and charcuterie!
URL:https://upbarreview.com/event/zip-sip-cedars-edge-wine-gifts/
LOCATION:Cedars Edge Wine & Gifts\, W6014 Chapman Rd\, Niagara\, WI\, 54151
CATEGORIES:Ironmountain
END:VEVENT
BEGIN:VEVENT
DTSTART;TZID=UTC:20250922T170000
DTEND;TZID=UTC:20250922T190000
DTSTAMP:20260421T112832
CREATED:20250403T022612Z
LAST-MODIFIED:20250403T022612Z
UID:10004141-1758560400-1758567600@upbarreview.com
SUMMARY:Forever Friendship Drop-in Center - Disorder Discussion Group - Kingsford
DESCRIPTION:We understand that the road to overcoming addiction is unique for each individual\, and we’re here to offer unwavering peer support\, personalized care\, and a beacon of hope for a brighter tomorrow! This is available to individuals with Substance Misuse Disorder & or Alcoholism + Mental Health Diagnosis
URL:https://upbarreview.com/event/forever-friendship-drop-in-center-disorder-discussion-group-kingsford/2025-09-22/
LOCATION:Forever Friendship Drop-in Center\, 501 S Carpenter Ave\, Kingsford\, MI
CATEGORIES:Ironmountain
END:VEVENT
BEGIN:VEVENT
DTSTART;TZID=UTC:20250922T213000
DTEND;TZID=UTC:20250923T003000
DTSTAMP:20260421T112832
CREATED:20250904T023242Z
LAST-MODIFIED:20250904T023242Z
UID:10006034-1758576600-1758587400@upbarreview.com
SUMMARY:Band of Horses + Iron & Wine
DESCRIPTION:BAND OF HORSES + IRON & WINE \nMON\, 22 SEP 2025 at 07:30PM PDT\nAges: All Ages to Enter\, 21 & Over to Drink\nDoors Open: 05:30PM \nOnSale: Fri\, 28 Mar 2025 at 10:00AM PDT\nAnnouncement: Fri\, 21 Mar 2025 at 08:00AM PDT \nNo refunds or exchanges. All shows are rain or shine. Children age 3 and older require a ticket. A child under the age of 3 is considered a lap child and does not require a ticket.\nFor directions\, dining\, parking\, or carpool information\, please visit: Mountain Winery\nFor information on how to purchase VIP season tickets including suites and box seats\, please visit: VIP Seating\nDoors open 2 hours prior to the show time. Seating begins 1 hour prior to the show time.
URL:https://upbarreview.com/event/band-of-horses-iron-wine/
CATEGORIES:Ironmountain
END:VEVENT
BEGIN:VEVENT
DTSTART;TZID=UTC:20250922T213000
DTEND;TZID=UTC:20250923T003000
DTSTAMP:20260421T112832
CREATED:20250904T023242Z
LAST-MODIFIED:20250904T023242Z
UID:10006035-1758576600-1758587400@upbarreview.com
SUMMARY:Band of Horses & Iron and Wine
DESCRIPTION:Band of Horses & Iron and Wine\nVenue: Mountain Winery\nSaratoga\, CA \nDate: 22 Sep\, 2025 – 07:30 PM
URL:https://upbarreview.com/event/band-of-horses-iron-and-wine/
CATEGORIES:Ironmountain
END:VEVENT
BEGIN:VEVENT
DTSTART;TZID=UTC:20250923T170000
DTEND;TZID=UTC:20250923T200000
DTSTAMP:20260421T112832
CREATED:20250904T025015Z
LAST-MODIFIED:20250904T025015Z
UID:10006183-1758646800-1758657600@upbarreview.com
SUMMARY:Leo G
DESCRIPTION:
URL:https://upbarreview.com/event/leo-g/
CATEGORIES:Ironmountain
END:VEVENT
BEGIN:VEVENT
DTSTART;TZID=UTC:20250923T200000
DTEND;TZID=UTC:20250923T233000
DTSTAMP:20260421T112832
CREATED:20250403T021715Z
LAST-MODIFIED:20250403T021741Z
UID:10004011-1758657600-1758670200@upbarreview.com
SUMMARY:Forever Friendship Drop-in Center - Mindfulness\, Meditation\, Mandalas - Kingsford
DESCRIPTION:Art Therapy Style Group\nMindfulness is the practice of purposely bringing one’s attention in the present moment without judgment.\nJoin each week to create a unique art project to help you cope with your mental health
URL:https://upbarreview.com/event/forever-friendship-drop-in-center-mindfulness-meditation-mandalas-kingsford-2/2025-09-23/
LOCATION:Forever Friendship Drop-in Center\, 501 S Carpenter Ave\, Kingsford\, MI
CATEGORIES:Ironmountain
END:VEVENT
BEGIN:VEVENT
DTSTART;TZID=UTC:20250924T130000
DTEND;TZID=UTC:20250924T160000
DTSTAMP:20260421T112833
CREATED:20250403T015518Z
LAST-MODIFIED:20250403T015518Z
UID:10003850-1758718800-1758729600@upbarreview.com
SUMMARY:Bored Bard Games - Board Games - Iron Mountain
DESCRIPTION:Come join us for unique and engaging games and make a few new friends along the way. Plus it is all FUN & FREE!
URL:https://upbarreview.com/event/bored-bard-games-board-games-iron-mountain/2025-09-24/
LOCATION:Bored Bard Games\, 224 E Hughitt St\, Iron Mountain\, mi\, 49801
CATEGORIES:Ironmountain
END:VEVENT
END:VCALENDAR