BEGIN:VCALENDAR
VERSION:2.0
PRODID:-//UP BAR REVIEW - ECPv6.14.2//NONSGML v1.0//EN
CALSCALE:GREGORIAN
METHOD:PUBLISH
X-WR-CALNAME:UP BAR REVIEW
X-ORIGINAL-URL:https://upbarreview.com
X-WR-CALDESC:Events for UP BAR REVIEW
REFRESH-INTERVAL;VALUE=DURATION:PT1H
X-Robots-Tag:noindex
X-PUBLISHED-TTL:PT1H
BEGIN:VTIMEZONE
TZID:UTC
BEGIN:STANDARD
TZOFFSETFROM:+0000
TZOFFSETTO:+0000
TZNAME:UTC
DTSTART:20250101T000000
END:STANDARD
END:VTIMEZONE
BEGIN:VEVENT
DTSTART;TZID=UTC:20250528T090000
DTEND;TZID=UTC:20250528T110000
DTSTAMP:20260419T180249
CREATED:20250514T010612Z
LAST-MODIFIED:20250514T010612Z
UID:10004421-1748422800-1748430000@upbarreview.com
SUMMARY:VA Medical Center - Veteran Health App Fair - Escanaba
DESCRIPTION:Staff will be onsite to assist Veterans with upgrading their log in credentials for government websites ad applications.
URL:https://upbarreview.com/event/va-medical-center-veteran-health-app-fair-escanaba/
CATEGORIES:Menominee
END:VEVENT
BEGIN:VEVENT
DTSTART;TZID=UTC:20250528T130000
DTEND;TZID=UTC:20250528T160000
DTSTAMP:20260419T180249
CREATED:20250403T015518Z
LAST-MODIFIED:20250403T015518Z
UID:10003833-1748437200-1748448000@upbarreview.com
SUMMARY:Bored Bard Games - Board Games - Iron Mountain
DESCRIPTION:Come join us for unique and engaging games and make a few new friends along the way. Plus it is all FUN & FREE!
URL:https://upbarreview.com/event/bored-bard-games-board-games-iron-mountain/2025-05-28/
LOCATION:Bored Bard Games\, 224 E Hughitt St\, Iron Mountain\, mi\, 49801
CATEGORIES:Ironmountain
END:VEVENT
BEGIN:VEVENT
DTSTART;TZID=UTC:20250528T130000
DTEND;TZID=UTC:20250528T163000
DTSTAMP:20260419T180249
CREATED:20250514T004856Z
LAST-MODIFIED:20250514T004856Z
UID:10004400-1748437200-1748449800@upbarreview.com
SUMMARY:Pocket Park Grand Reopening - Escanaba
DESCRIPTION: Grand Reopening of the Pocket Park Date:05/28/2025Time: 10:00 AM – 6:00PMLocation: Upper Peninsula Pocket Park\, Escanaba\, MI\nJoin us for the Grand Reopening of the Pocket Park — a fresh\, vibrant space in the heart of the community designed for connection\, relaxation\, and outdoor fun!\n Event Highlights:• kid-friendly activities• Archery (11:00 AM – 1:00 PM)• Pellet Guns (2:00 PM – 4:00 PM)• Fishing – All Day!• Raffle prizes and giveaways\nWhether you’re a long-time neighbor or a first-time visitor\, come experience the joy of this newly revitalized green space. Bring your friends\, family\, and picnic blankets — this is a celebration you won’t want to miss!
URL:https://upbarreview.com/event/pocket-park-grand-reopening-escanaba/
LOCATION:Michigan DNR Pocket Park\, 2401 12th Avenue North\, Escanaba\, MI\, 49829
CATEGORIES:Menominee
END:VEVENT
BEGIN:VEVENT
DTSTART;TZID=UTC:20250528T160000
DTEND;TZID=UTC:20250528T180000
DTSTAMP:20260419T180249
CREATED:20250514T014310Z
LAST-MODIFIED:20250514T014310Z
UID:10004487-1748448000-1748455200@upbarreview.com
SUMMARY:Saunders Point Brewing - Kiwanis Social - Gladstone
DESCRIPTION:With special guest! DDA Director Craig Woerpel will present about the upcoming Lumberjack Festival and Music Escanaba. Guests are welcome!
URL:https://upbarreview.com/event/saunders-point-brewing-kiwanis-social-gladstone/
LOCATION:Saunders Point Brewing\, 8199 M-35\, Gladstone\, MI
CATEGORIES:Menominee
END:VEVENT
BEGIN:VEVENT
DTSTART;TZID=UTC:20250528T160000
DTEND;TZID=UTC:20250528T210000
DTSTAMP:20260419T180249
CREATED:20250403T022035Z
LAST-MODIFIED:20250403T022035Z
UID:10004069-1748448000-1748466000@upbarreview.com
SUMMARY:Knights of Columbus - Super Bingo - Kingsford
DESCRIPTION:Super Bingo$2\,535 Regular Pay Out(Attendance Permitting)22 Games for $12.00 Per PackPull Tab GamesHot BallComplete Concession StandDoors open at 4:00Early bird games start at 6:00Regular bingo starts at 6:30
URL:https://upbarreview.com/event/knights-of-columbus-super-bingo-kingsford/2025-05-28/
LOCATION:Knights of Columbus Kingsford\, 520 West Breitung Ave\, Kingsford\, MI
CATEGORIES:Ironmountain
END:VEVENT
BEGIN:VEVENT
DTSTART;TZID=UTC:20250528T180000
DTEND;TZID=UTC:20250528T200000
DTSTAMP:20260419T180249
CREATED:20250528T175813Z
LAST-MODIFIED:20250528T175813Z
UID:10004544-1748455200-1748462400@upbarreview.com
SUMMARY:Spirit House - Comedy Night - Menominee
DESCRIPTION:comedy!!
URL:https://upbarreview.com/event/spirit-house-comedy-night-menominee/
LOCATION:Spirit House\, 533 10th Ave\, Menominee\, MI 49858\, Menominee\, MI\, 49858\, United States
CATEGORIES:Menominee
END:VEVENT
END:VCALENDAR