BEGIN:VCALENDAR
VERSION:2.0
PRODID:-//UP BAR REVIEW - ECPv6.14.2//NONSGML v1.0//EN
CALSCALE:GREGORIAN
METHOD:PUBLISH
X-WR-CALNAME:UP BAR REVIEW
X-ORIGINAL-URL:https://upbarreview.com
X-WR-CALDESC:Events for UP BAR REVIEW
REFRESH-INTERVAL;VALUE=DURATION:PT1H
X-Robots-Tag:noindex
X-PUBLISHED-TTL:PT1H
BEGIN:VTIMEZONE
TZID:UTC
BEGIN:STANDARD
TZOFFSETFROM:+0000
TZOFFSETTO:+0000
TZNAME:UTC
DTSTART:20250101T000000
END:STANDARD
END:VTIMEZONE
BEGIN:VEVENT
DTSTART;TZID=UTC:20250408T080000
DTEND;TZID=UTC:20250408T120000
DTSTAMP:20260419T210001
CREATED:20250403T021316Z
LAST-MODIFIED:20250403T021316Z
UID:10003940-1744099200-1744113600@upbarreview.com
SUMMARY:The Wellness Way - Thermography Imaging - Kingsford
DESCRIPTION:Skip the mammogram this year and choose a non-invasive imaging technique that uses infrared cameras to detect heat differences in the body.\nThe Wellness Way wants to give it’s community options when it comes to early detection of cysts\, cancer\, infections\, etc. instead of immediately turning to radiation. We partner with Tanya at Keep Cool Thermography from Wisconsin to come in a few times a year to provide this service for us. She offers a few different options… breast only\, female profile\, and full body imaging. Pricing and more can be found on her website at https://keepcoolthermography.com/\nIf this is something you’re already familiar with and want to get on the schedule for her trip here to Iron Mountain on April 8th give our office a call & save yourself the traveling. There is limited spots available so call ASAP 906-828-1384
URL:https://upbarreview.com/event/the-wellness-way-thermography-imaging-kingsford/
LOCATION:The Wellness Way\, 601 S Westwood Ave\, Kingsford\, MI
CATEGORIES:Ironmountain
END:VEVENT
BEGIN:VEVENT
DTSTART;TZID=UTC:20250408T080000
DTEND;TZID=UTC:20250408T170000
DTSTAMP:20260419T210001
CREATED:20250207T202600Z
LAST-MODIFIED:20250207T202600Z
UID:10003159-1744099200-1744131600@upbarreview.com
SUMMARY:Job Fair - Oconto
DESCRIPTION:McDonald’s in Oconto\, WI is hiring! Come in for an in-person interview. Job Offers will be made at the event.
URL:https://upbarreview.com/event/job-fair-oconto/2025-04-08/
CATEGORIES:Menominee
END:VEVENT
BEGIN:VEVENT
DTSTART;TZID=UTC:20250408T080000
DTEND;TZID=UTC:20250408T170000
DTSTAMP:20260419T210001
CREATED:20250402T231632Z
LAST-MODIFIED:20250402T231632Z
UID:10003320-1744099200-1744131600@upbarreview.com
SUMMARY:McDonalds Job Fair - Oconto
DESCRIPTION:McDonald’s in Oconto\, WI is hiring! Come in for an in-person interview. Job Offers will be made at the event.
URL:https://upbarreview.com/event/mcdonalds-job-fair-oconto/2025-04-08/
LOCATION:McDonalds Oconto\, 105 Main St\, Oconto\, WI
CATEGORIES:Menominee
END:VEVENT
BEGIN:VEVENT
DTSTART;TZID=UTC:20250408T080000
DTEND;TZID=UTC:20250408T170000
DTSTAMP:20260419T210001
CREATED:20250403T020204Z
LAST-MODIFIED:20250403T020204Z
UID:10003911-1744099200-1744131600@upbarreview.com
SUMMARY:McDonalds Job Fair - Iron Mountain
DESCRIPTION:McDonald’s in Iron Mountain\, MI is hiring! Come in for an in-person interview. Job Offers will be made at the event.
URL:https://upbarreview.com/event/mcdonalds-job-fair-iron-mountain/2025-04-08/
CATEGORIES:Ironmountain
END:VEVENT
BEGIN:VEVENT
DTSTART;TZID=UTC:20250408T080000
DTEND;TZID=UTC:20250408T170000
DTSTAMP:20260419T210001
CREATED:20250403T023915Z
LAST-MODIFIED:20250403T023915Z
UID:10004172-1744099200-1744131600@upbarreview.com
SUMMARY:McDonalds Job Fair - Norway
DESCRIPTION:McDonald’s in Norway\, MI is hiring! Come in for an in-person interview. Job Offers will be made at the event.
URL:https://upbarreview.com/event/mcdonalds-job-fair-norway/2025-04-08/
CATEGORIES:Ironmountain
END:VEVENT
BEGIN:VEVENT
DTSTART;TZID=UTC:20250408T100000
DTEND;TZID=UTC:20250408T130000
DTSTAMP:20260419T210001
CREATED:20250207T193742Z
LAST-MODIFIED:20250207T193742Z
UID:10003018-1744106400-1744117200@upbarreview.com
SUMMARY:Escanaba Public Library - Tech Help Tuesdays - Escanaba
DESCRIPTION:Need help printing from your phone? Setting up Libby on your personal device? Using Zoom? How about getting started on your Chromebook or iPad? Using a Wi-Fi hotspot? Creating an email address? Google searches? or how to use the library’s online catalog?\nWe have the answers and assistance you need! Make an appointment or stop in at the circulation desk. Appointments are one hour (maximum).\nThe Escanaba Public Library staff do not repair computers/devices. The library assumes no liability for personal patron devices.
URL:https://upbarreview.com/event/escanaba-public-library-tech-help-tuesdays-escanaba/2025-04-08/
LOCATION:Escanaba Public Library\, 400 Ludington St\, Escanaba\, WI\, 49829
CATEGORIES:Menominee
END:VEVENT
BEGIN:VEVENT
DTSTART;TZID=UTC:20250408T100000
DTEND;TZID=UTC:20250408T180000
DTSTAMP:20260419T210001
CREATED:20250403T014201Z
LAST-MODIFIED:20250403T014201Z
UID:10003807-1744106400-1744135200@upbarreview.com
SUMMARY:GFWC - Used Book Sale - Iron Mountain
DESCRIPTION:We are collecting gently used books for our Used Book Sale. Fiction\, non-fiction\, childrens and more.\nBring them by Midtown Mall\, Monday and Tuesday\, April 7th – 8th\, 2025 from 10 am – 4 pm.\nWe do not accept magazines\, dictionaries\, bibles or out-of-date reference material and certain romance books
URL:https://upbarreview.com/event/gfwc-used-book-sale-iron-mountain/2025-04-08/
LOCATION:GFWC\, 1108 S Stephenson Ave\, Iron Mountain\, MI
CATEGORIES:Ironmountain
END:VEVENT
BEGIN:VEVENT
DTSTART;TZID=UTC:20250408T150000
DTEND;TZID=UTC:20250408T170000
DTSTAMP:20260419T210001
CREATED:20250403T002535Z
LAST-MODIFIED:20250403T002535Z
UID:10003751-1744124400-1744131600@upbarreview.com
SUMMARY:April Reading Adventure Night - Stephenson
DESCRIPTION:Join us for our next Reading Adventure Night on April 8th from 3:15-4:15 at the Menominee County Library and from 5:30-6:30 at Spies Public Library! Call your local library to register today!
URL:https://upbarreview.com/event/april-reading-adventure-night-stephenson/
LOCATION:Menominee County Library\, S319 Railroad St\, Stephenson\, MI\, 49887
CATEGORIES:Menominee
END:VEVENT
BEGIN:VEVENT
DTSTART;TZID=UTC:20250408T153000
DTEND;TZID=UTC:20250408T170000
DTSTAMP:20260419T210001
CREATED:20250402T231511Z
LAST-MODIFIED:20250402T231511Z
UID:10003319-1744126200-1744131600@upbarreview.com
SUMMARY:Farnsworth Public Library - Dog Man Movie - Oconto
DESCRIPTION:Watch the movie based on the book series – Dog Man! Free popcorn!
URL:https://upbarreview.com/event/farnsworth-public-library-dog-man-movie-oconto/
LOCATION:Farnsworth Public Library\, 715 Main St\, Oconto\, WI
CATEGORIES:Menominee
END:VEVENT
BEGIN:VEVENT
DTSTART;TZID=UTC:20250408T160000
DTEND;TZID=UTC:20250408T190000
DTSTAMP:20260419T210001
CREATED:20250402T202938Z
LAST-MODIFIED:20250402T203038Z
UID:10003202-1744128000-1744138800@upbarreview.com
SUMMARY:The Craft Cave - Bunny Bait - Marinette
DESCRIPTION:Painted and decoupaged bunny soup can. Adult class BYOB cost 20$. Call to pre pay and sign up at 715-587-4643.
URL:https://upbarreview.com/event/the-craft-cave-bunny-bait-marinette/2025-04-08/
LOCATION:The Craft Cave\, 605 Main St.\, Marinette\, WI\, 54143\, United States
CATEGORIES:Menominee
END:VEVENT
BEGIN:VEVENT
DTSTART;TZID=UTC:20250408T170000
DTEND;TZID=UTC:20250408T180000
DTSTAMP:20260419T210001
CREATED:20250402T230637Z
LAST-MODIFIED:20250402T230637Z
UID:10003303-1744131600-1744135200@upbarreview.com
SUMMARY:Bellin Health Fitness - Pilates - Oconto
DESCRIPTION:For 4 weeks only!\nClass Dates: 4/1\, 4/8\, 4/15\, 4/22\nPilates is a full-body mat workout that focuses on strength\, stability and flexibility. This class will help develop a strong inner core while sculpting long and lean muscles.\nA variety of props such as light hand weights\, the mini ball\, ankle weights\, and a yoga block will be incorporated to enhance muscle engagement and provide added resistance for a more challenging workout.\nGroup fitness classes are included in your Bellin Fitness membership. Non-members may participate with the purchase of a guest pass or a 5-class Punch Card.
URL:https://upbarreview.com/event/bellin-health-fitness-pilates-oconto/2025-04-08/
LOCATION:Bellin Health Fitness Oconto\, 1201 Park Ave\, Oconto\, WI
CATEGORIES:Menominee
END:VEVENT
BEGIN:VEVENT
DTSTART;TZID=UTC:20250408T173000
DTEND;TZID=UTC:20250408T200000
DTSTAMP:20260419T210001
CREATED:20250403T012403Z
LAST-MODIFIED:20250403T012403Z
UID:10003797-1744133400-1744142400@upbarreview.com
SUMMARY:Wild Horse Saloon - April GNO - Iron Mountain
DESCRIPTION:Wild Horse next month. Hope to see you there.\nRemember: no guys and no women under 18. Aside from this please pass the email along to whomever might like to enjoy us.
URL:https://upbarreview.com/event/wild-horse-saloon-april-gno-iron-mountain/
LOCATION:Wild Horse Saloon\, 713 River Ave\, Iron Mountain\, MI\, 49801
CATEGORIES:Ironmountain
END:VEVENT
BEGIN:VEVENT
DTSTART;TZID=UTC:20250408T180000
DTEND;TZID=UTC:20250408T190000
DTSTAMP:20260419T210001
CREATED:20250403T020404Z
LAST-MODIFIED:20250403T020404Z
UID:10003921-1744135200-1744138800@upbarreview.com
SUMMARY:Dickinson County Library - Write On - Iron Mountain
DESCRIPTION:Adults and teens are invited to join this writer’s group that focuses on providing an encouraging and supportive space for all types of writers. This month\, attendees will have a quiet space to work on current or new writing projects with opportunities to share ideas\, tips\, and feedback.
URL:https://upbarreview.com/event/dickinson-county-library-write-on-iron-mountain-2/
LOCATION:Dickinson County Library\, 401 Iron Mountain St\, Iron Mountain\, MI\, 49801
CATEGORIES:Ironmountain
END:VEVENT
BEGIN:VEVENT
DTSTART;TZID=UTC:20250408T180000
DTEND;TZID=UTC:20250408T200000
DTSTAMP:20260419T210001
CREATED:20250402T234345Z
LAST-MODIFIED:20250402T234345Z
UID:10003348-1744135200-1744142400@upbarreview.com
SUMMARY:Mo's Pub - Trivia Night - Escanaba
DESCRIPTION:Join us for our Tuesday Trivia!!!! We will start at 7pm and we’ll be in the back room of the pub. TRIVIA TIME!!!! Trivia starts at 7pm!!!!6 Prizes given out.1st place $50 Mos Card 2nd place $25 Mos Card 3rd place $15 Mos Card 4th\, 5th and last place a free appetizer. $2 domestic beer. $3.50 rail\, $2.00 off Specialty Pizza\, $1.00 off specialty burger. We are looking forward to spending the time with you!!!
URL:https://upbarreview.com/event/mos-pub-trivia-night-escanaba/2025-04-08/
LOCATION:Mo’s Pub\, 2116 Ludington St\, Escanaba\, MI\, 49829
CATEGORIES:Menominee
END:VEVENT
BEGIN:VEVENT
DTSTART;TZID=UTC:20250408T200000
DTEND;TZID=UTC:20250408T233000
DTSTAMP:20260419T210001
CREATED:20250403T021715Z
LAST-MODIFIED:20250403T021741Z
UID:10003987-1744142400-1744155000@upbarreview.com
SUMMARY:Forever Friendship Drop-in Center - Mindfulness\, Meditation\, Mandalas - Kingsford
DESCRIPTION:Art Therapy Style Group\nMindfulness is the practice of purposely bringing one’s attention in the present moment without judgment.\nJoin each week to create a unique art project to help you cope with your mental health
URL:https://upbarreview.com/event/forever-friendship-drop-in-center-mindfulness-meditation-mandalas-kingsford-2/2025-04-08/
LOCATION:Forever Friendship Drop-in Center\, 501 S Carpenter Ave\, Kingsford\, MI
CATEGORIES:Ironmountain
END:VEVENT
END:VCALENDAR