BEGIN:VCALENDAR
VERSION:2.0
PRODID:-//UP BAR REVIEW - ECPv6.14.2//NONSGML v1.0//EN
CALSCALE:GREGORIAN
METHOD:PUBLISH
X-WR-CALNAME:UP BAR REVIEW
X-ORIGINAL-URL:https://upbarreview.com
X-WR-CALDESC:Events for UP BAR REVIEW
REFRESH-INTERVAL;VALUE=DURATION:PT1H
X-Robots-Tag:noindex
X-PUBLISHED-TTL:PT1H
BEGIN:VTIMEZONE
TZID:UTC
BEGIN:STANDARD
TZOFFSETFROM:+0000
TZOFFSETTO:+0000
TZNAME:UTC
DTSTART:20250101T000000
END:STANDARD
END:VTIMEZONE
BEGIN:VEVENT
DTSTART;TZID=UTC:20250407T100000
DTEND;TZID=UTC:20250407T160000
DTSTAMP:20260419T093816
CREATED:20250403T014201Z
LAST-MODIFIED:20250403T014201Z
UID:10003806-1744020000-1744041600@upbarreview.com
SUMMARY:GFWC - Used Book Sale - Iron Mountain
DESCRIPTION:We are collecting gently used books for our Used Book Sale. Fiction\, non-fiction\, childrens and more.\nBring them by Midtown Mall\, Monday and Tuesday\, April 7th – 8th\, 2025 from 10 am – 4 pm.\nWe do not accept magazines\, dictionaries\, bibles or out-of-date reference material and certain romance books
URL:https://upbarreview.com/event/gfwc-used-book-sale-iron-mountain/2025-04-07/
LOCATION:GFWC\, 1108 S Stephenson Ave\, Iron Mountain\, MI
CATEGORIES:Ironmountain
END:VEVENT
BEGIN:VEVENT
DTSTART;TZID=UTC:20250407T130000
DTEND;TZID=UTC:20250407T160000
DTSTAMP:20260419T093816
CREATED:20250403T015733Z
LAST-MODIFIED:20250403T015733Z
UID:10003866-1744030800-1744041600@upbarreview.com
SUMMARY:Dickinson County Library - Mahjong Monday - Iron Mountain
DESCRIPTION:Beginner and expert adults will play Mahjong\, a tile-based game developed in 19th century China. Those new to the game can learn from our instructor\, and seasoned players can play the game with one another. Feel free to bring your own tiles to use\, but it’s not necessary
URL:https://upbarreview.com/event/dickinson-county-library-mahjong-monday-iron-mountain/2025-04-07/
CATEGORIES:Ironmountain
END:VEVENT
BEGIN:VEVENT
DTSTART;TZID=UTC:20250407T130000
DTEND;TZID=UTC:20250407T160000
DTSTAMP:20260419T093816
CREATED:20250403T021438Z
LAST-MODIFIED:20250403T021438Z
UID:10003941-1744030800-1744041600@upbarreview.com
SUMMARY:Forever Friendship Drop-in Center - Diamond Painting - Iron Mountain
DESCRIPTION:Come join us for Diamond Painting! You can participate if you are an expert or a beginner\, or come try if you have never tried before! We offer supplies for free. We have small projects or large projects\, or you can bring your own. It’s all free. We provide a relaxing environment\, meditation music\, and friendly people. Our goal was to create a fun environment while also practicing useful coping skills like mindfulness.
URL:https://upbarreview.com/event/forever-friendship-drop-in-center-diamond-painting-iron-mountain/2025-04-07/
LOCATION:Forever Friendship Drop-in Center\, 501 S Carpenter Ave\, Kingsford\, MI
CATEGORIES:Ironmountain
END:VEVENT
BEGIN:VEVENT
DTSTART;TZID=UTC:20250407T140000
DTEND;TZID=UTC:20250407T163000
DTSTAMP:20260419T093816
CREATED:20250402T214625Z
LAST-MODIFIED:20250402T214625Z
UID:10003261-1744034400-1744043400@upbarreview.com
SUMMARY:McCrafties - Peek a Bunny - Menominee
DESCRIPTION:Chick out\, we mean check out this perfect painting for this Easter! In our “Peek a Bunny” class\, you’ll learn how to create this charming bunny.\nWe provide all the tools you will need for this eggcellent class. This includes stencils\, canvas\, paint\, and step-by-step instruction. The bling is optional\, but perfect for adding extra shine to your crown.This class is perfect for welcoming spring\, we will guide you through the process with step-by-step instructions\, ensuring you have a fun and creative time.\n**Details:**– **Date:** April 7th– **Time:** 2:00 PM-**Cost:** $30\nWhether you’re a seasoned artist or just looking to try something new\, this class is perfect for everyone. Don’t miss out on the chance to bring some springtime cheer into your home!\nPAYMENT IN ADVANCE OF $30 IS REQUIRED.\nCall 715-440-5959 orSign-up onlinehttps://mccraftiellc.square.site/\n\nCLASS REFUND POLICY:\n-full in studio credit if cancellation is 1 week prior to the class-50% in studio credit up to 24 hours prior to class.-less than 24 hours notice\, no credit-NO SHOW/ NO CALL/NO CREDIT
URL:https://upbarreview.com/event/mccrafties-peek-a-bunny-menominee/
LOCATION:McCrafties\, 625 1st St\, Menominee\, MI\, 49858\, United States
CATEGORIES:Menominee
END:VEVENT
BEGIN:VEVENT
DTSTART;TZID=UTC:20250407T170000
DTEND;TZID=UTC:20250407T180000
DTSTAMP:20260419T093816
CREATED:20250402T212658Z
LAST-MODIFIED:20250402T212658Z
UID:10003239-1744045200-1744048800@upbarreview.com
SUMMARY:Sno-Haven Pottery - Adult Watercolor Painting Class - Marinette
DESCRIPTION:This Watercolor class is for Adults. Learning Watercolor can be very rewarding once you gain your skill set. We cover all the basics and then cover some more advanced techniques. This is just in time before summer\, and is a great medium to take on the go. we cover color mixing and value studies and a variety of subject matters\, from painting water to florals\, landscapes and people. You will be able to choose your own subjects as well. All materials are included in the price of the class which is $125.00 Plus tax. Class meets on Monday for an hour from 5:00 pm to 6:00 pm for 5 sessions. Call 715-587-2163 to register.
URL:https://upbarreview.com/event/sno-haven-pottery-adult-watercolor-painting-class-marinette/2025-04-07/
LOCATION:Sno Haven Pottery\, 1215 9th St\, Marinette\, WI\, 54143
CATEGORIES:Menominee
END:VEVENT
BEGIN:VEVENT
DTSTART;TZID=UTC:20250407T170000
DTEND;TZID=UTC:20250407T183000
DTSTAMP:20260419T093816
CREATED:20250207T193539Z
LAST-MODIFIED:20250207T193614Z
UID:10003005-1744045200-1744050600@upbarreview.com
SUMMARY:Kush and Pronk Farm - Learn How to Cloth Diaper Class - Escanaba
DESCRIPTION:Did you know that every disposable diaper that has ever been used is still sitting in a landfill\, not decomposing? Every. Single. One.\nCloth diapering of today is NOT the cloth diapering of the past. Gone are the dangerous pokey pins and difficult cleaning methods. Modern laundry machines and facilities make cloth diapering SO easy\, and we’ll teach you how in just 90 minutes! Hands-on classes (with dolls) allow partners to test out the different types of modern cloth diapers available to see which types may work best for you.\nMonthly 90 minute classes will be taught by Jennifer and/or Dominic Guzzetta of Kush & Pronk Farm at Kiddo’s Korner Boutique in Escanaba. Due to location size\, classes are limited to 4 partners. Partnerships cost $30\, can be paid via Venmo\, Cash or Check in store\, and must be paid to reserve your spot. Contact Kush & Pronk Farm to inquire about class availability.
URL:https://upbarreview.com/event/kush-and-pronk-farm-learn-how-to-cloth-diaper-class-escanaba/2025-04-07/
LOCATION:Kiddos Korner Boutique\, 1610 Ludington Ave\, Escanaba\, MI
CATEGORIES:Menominee
END:VEVENT
BEGIN:VEVENT
DTSTART;TZID=UTC:20250407T170000
DTEND;TZID=UTC:20250407T190000
DTSTAMP:20260419T093816
CREATED:20250403T022612Z
LAST-MODIFIED:20250403T022612Z
UID:10004117-1744045200-1744052400@upbarreview.com
SUMMARY:Forever Friendship Drop-in Center - Disorder Discussion Group - Kingsford
DESCRIPTION:We understand that the road to overcoming addiction is unique for each individual\, and we’re here to offer unwavering peer support\, personalized care\, and a beacon of hope for a brighter tomorrow! This is available to individuals with Substance Misuse Disorder & or Alcoholism + Mental Health Diagnosis
URL:https://upbarreview.com/event/forever-friendship-drop-in-center-disorder-discussion-group-kingsford/2025-04-07/
LOCATION:Forever Friendship Drop-in Center\, 501 S Carpenter Ave\, Kingsford\, MI
CATEGORIES:Ironmountain
END:VEVENT
END:VCALENDAR