BEGIN:VCALENDAR
VERSION:2.0
PRODID:-//UP BAR REVIEW - ECPv6.14.2//NONSGML v1.0//EN
CALSCALE:GREGORIAN
METHOD:PUBLISH
X-WR-CALNAME:UP BAR REVIEW
X-ORIGINAL-URL:https://upbarreview.com
X-WR-CALDESC:Events for UP BAR REVIEW
REFRESH-INTERVAL;VALUE=DURATION:PT1H
X-Robots-Tag:noindex
X-PUBLISHED-TTL:PT1H
BEGIN:VTIMEZONE
TZID:UTC
BEGIN:STANDARD
TZOFFSETFROM:+0000
TZOFFSETTO:+0000
TZNAME:UTC
DTSTART:20240101T000000
END:STANDARD
END:VTIMEZONE
BEGIN:VEVENT
DTSTART;TZID=UTC:20241230T083000
DTEND;TZID=UTC:20241230T093000
DTSTAMP:20260420T013247
CREATED:20240827T014121Z
LAST-MODIFIED:20240827T014121Z
UID:10001561-1735547400-1735551000@upbarreview.com
SUMMARY:NSRCC - Open Workout & Meet the Instructor - Pembine
DESCRIPTION:Meet our fitness class instructor\, Brenda Rosenstiel. There will be information about all of our fitness classes as well as a place for open workout. Contact Brenda for more details: (920) 327-9981 or brosenstiel@nsrccwi.com
URL:https://upbarreview.com/event/nsrcc-open-workout-meet-the-instructor-pembine/2024-12-30/
LOCATION:NSRCC\, 17112 US-141\, Pembine\, WI\, 54156
CATEGORIES:Menominee
END:VEVENT
BEGIN:VEVENT
DTSTART;TZID=UTC:20241230T090000
DTEND;TZID=UTC:20241230T130000
DTSTAMP:20260420T013247
CREATED:20241203T014949Z
LAST-MODIFIED:20241203T015000Z
UID:10002683-1735549200-1735563600@upbarreview.com
SUMMARY:Upper Peninsula Regional Blood Center - Blood Drive - Escanaba
DESCRIPTION:Blood is essential to providing lifesaving care for many patients—from a car accident victim to a cancer patient receiving treatment. The Upper Peninsula Regional Blood Center (UPBRC) depends on community donations to supply all hospitals across the Upper Peninsula. Donating is quick\, easy and safe—a single donation could save up to three lives.\nThe UPRBC at Doctors Park in Escanaba is hosting a free community blood drive. For more information or to make an appointment\, please contact us at 906.449.1450
URL:https://upbarreview.com/event/upper-peninsula-regional-blood-center-blood-drive-escanaba/
LOCATION:Upper Peninsula Regional Blood Center\, 2500 7th Ave\, Escanaba
CATEGORIES:Menominee
END:VEVENT
BEGIN:VEVENT
DTSTART;TZID=UTC:20241230T150000
DTEND;TZID=UTC:20241230T220000
DTSTAMP:20260420T013247
CREATED:20241204T014001Z
LAST-MODIFIED:20241204T014001Z
UID:10002798-1735570800-1735596000@upbarreview.com
SUMMARY:Heights Park - Niagara Christmas Village Walk-Thru - Niagara
DESCRIPTION:First Annual Niagara Christmas Village is a walk-thru Christmas display with 12 sites decorated by local families\, groups\, organizations\, and businesses. The Christmas Village will be lit nightly from December 6th to January 11th from 3:00pm-10:00pm.\nEach display is supporting a local charity or organization. Votes (donations) for each site will go to their local charity/organization ($1=1 vote\, $10=10 votes\, etc). Voting locations are listed below. Voting starts December 6th. December 6th from 5:00pm to 7:00pm will be the annual tree lighting event with the tree lighting at 5:30pm.\nVoting Locations:City Hall – 1029 Roosevelt Rd\, Niagara (24 hr secure drop box\, lower level between glass doors\, enter in rear);Forward Financial Credit Union – 1250 Roosevelt Rd\, Niagara (Monday-Friday 8:30am-5:00pm Saturday 8:30am-12:00pm);Nicolet National Bank – 900 Roosevelt Rd\, Niagara (Monday-Friday 8:30am-5:00pm);Northwoods IGA – 501 Washington Ave\, Niagara (Monday-Saturday 7:30am-7:00pm Sunday 8:00am-4:00pm);Pit Stop Bar & Grill – 1059 Roosevelt Rd\, Niagara (Sunday-Thursday 10:00am-2:00am Friday & Saturday 10:00am-2:30am);Scott’s Uptown Lanes – 1201 Roosevelt Rd\, Niagara (Daily 11:00am-2:00am);Trip’s Tavern – 1001 Roosevelt Rd\, Niagara (Monday-Thursday 10:00am-close Friday-Sunday 9:00am-close)
URL:https://upbarreview.com/event/heights-park-niagara-christmas-village-walk-thru-niagara/2024-12-30/
LOCATION:Niagara Heights Park\, 1201 Grant Street\, Niagara\, wi\, 54151
CATEGORIES:Ironmountain
END:VEVENT
BEGIN:VEVENT
DTSTART;TZID=UTC:20241230T160000
DTEND;TZID=UTC:20241230T190000
DTSTAMP:20260420T013247
CREATED:20241204T012855Z
LAST-MODIFIED:20241204T012855Z
UID:10002766-1735574400-1735585200@upbarreview.com
SUMMARY:Forever Friendship Drop-in Center - Hanukkah Party - Kingsford
DESCRIPTION:Come Celebrate the 6th Day of Hanukkah! We will learn more about the different cultures in this area\, have a kosher feast\, and jewish Themed Diamond Painting!
URL:https://upbarreview.com/event/forever-friendship-drop-in-center-hanukkah-party-kingsford/
LOCATION:Forever Friendship Drop-in Center\, 501 S Carpenter Ave\, Kingsford\, MI
CATEGORIES:Ironmountain
END:VEVENT
BEGIN:VEVENT
DTSTART;TZID=UTC:20241230T170000
DTEND;TZID=UTC:20241230T190000
DTSTAMP:20260420T013247
CREATED:20241030T023659Z
LAST-MODIFIED:20241030T023659Z
UID:10002444-1735578000-1735585200@upbarreview.com
SUMMARY:Forever Friendship Drop-in Center - Co-occuring Disorder Discussion Group - Kingsford
DESCRIPTION:What is Co-occurring Disorder?Is a disorder diagnosed by the individual having a Mental Health Diagnosis + Substance Misuse Disorder & or Alcohol Disorder. Studies have shown that treating both disorders at the same time increases the chance of long-term recovery.\nLong term recovery also comes from support\, understanding\, acceptance\, advice from those who are also in long-term recovery.\nThis is a group is designed to give you all of those skills without the inference of tradition and religion. Just and open mind and an open heart with lots of lived experience.
URL:https://upbarreview.com/event/forever-friendship-drop-in-center-co-occuring-disorder-discussion-group-kingsford/2024-12-30/
LOCATION:Forever Friendship Drop-in Center\, 501 S Carpenter Ave\, Kingsford\, MI
CATEGORIES:Ironmountain
END:VEVENT
BEGIN:VEVENT
DTSTART;TZID=UTC:20241230T180000
DTEND;TZID=UTC:20241230T190000
DTSTAMP:20260420T013247
CREATED:20241202T202658Z
LAST-MODIFIED:20241202T202658Z
UID:10002480-1735581600-1735585200@upbarreview.com
SUMMARY:Military 20 Year Club - Monthly Meeting - Menominee
DESCRIPTION:Open to any honor discharged Veteran. Meeting at Menominee American Legion. New members are always welcome.
URL:https://upbarreview.com/event/military-20-year-club-monthly-meeting-menominee-2/
LOCATION:American Legion Post 146\, 818 1st St\, Menominee\, MI\, 49858
CATEGORIES:Menominee
END:VEVENT
BEGIN:VEVENT
DTSTART;TZID=UTC:20241230T180000
DTEND;TZID=UTC:20241230T220000
DTSTAMP:20260420T013247
CREATED:20241029T132219Z
LAST-MODIFIED:20241029T132219Z
UID:10002185-1735581600-1735596000@upbarreview.com
SUMMARY:Game Knights - Monday Night Magic The Gathering - Marinette
DESCRIPTION: Commander Clash: Weekly Magic Tournament \nWelcome\, Planeswalkers\, to the battleground of strategy and sorcery! Dive into the exhilarating realm of Magic: The Gathering with our weekly Commander Clash tournament\, where the mightiest decks clash for supremacy.\nEvent Highlights:\nEpic Battles: Engage in thrilling multiplayer matches where every card played could tip the scales of victory.Deck Diversity: Explore the vast array of strategies and commanders available in the Commander format\, from cunning combos to rampaging hordes.Friendly Competition: Forge new alliances and rivalries as you navigate the ever-changing landscape of the battlefield.Community Spirit: Join a vibrant community of Magic enthusiasts\, sharing insights\, deck ideas\, and camaraderie.Casual or Competitive: Whether you’re a seasoned veteran or a novice mage\, our tournament offers an inclusive environment for all skill levels.Prepare your decks\, summon your commanders\, and let the spells fly as you vie for dominance in our weekly Commander Clash tournament! Will you emerge as the ultimate champion\, or will your opponents rewrite the fate of the multiverse? Only one way to find out—join us for an unforgettable Magic experience!
URL:https://upbarreview.com/event/game-knights-monday-night-magic-the-gathering-marinette/2024-12-30/
LOCATION:Game Knights\, 2035 Marinette Ave\, Marinette\, WI\, 54143
CATEGORIES:Menominee
END:VEVENT
END:VCALENDAR