BEGIN:VCALENDAR
VERSION:2.0
PRODID:-//UP BAR REVIEW - ECPv6.14.2//NONSGML v1.0//EN
CALSCALE:GREGORIAN
METHOD:PUBLISH
X-ORIGINAL-URL:https://upbarreview.com
X-WR-CALDESC:Events for UP BAR REVIEW
REFRESH-INTERVAL;VALUE=DURATION:PT1H
X-Robots-Tag:noindex
X-PUBLISHED-TTL:PT1H
BEGIN:VTIMEZONE
TZID:UTC
BEGIN:STANDARD
TZOFFSETFROM:+0000
TZOFFSETTO:+0000
TZNAME:UTC
DTSTART:20240101T000000
END:STANDARD
END:VTIMEZONE
BEGIN:VEVENT
DTSTART;TZID=UTC:20241228T100000
DTEND;TZID=UTC:20241228T120000
DTSTAMP:20260420T043728
CREATED:20241203T020041Z
LAST-MODIFIED:20241203T020041Z
UID:10002695-1735380000-1735387200@upbarreview.com
SUMMARY:Oconto High School - Layups for Landen - Oconto
DESCRIPTION:Join us on December 28th at Oconto High School for a day of basketball between Oconto & Oconto Falls. There will be games for high school and younger ages. There will also be a bake sale\, bucket raffles throughout the day\, and a 50/50 raffle during the varsity games.
URL:https://upbarreview.com/event/oconto-high-school-layups-for-landen-oconto/
LOCATION:Oconto High School
CATEGORIES:Menominee
END:VEVENT
BEGIN:VEVENT
DTSTART;TZID=UTC:20241228T130000
DTEND;TZID=UTC:20241228T160000
DTSTAMP:20260420T043728
CREATED:20241202T205700Z
LAST-MODIFIED:20241202T205700Z
UID:10002503-1735390800-1735401600@upbarreview.com
SUMMARY:Biehl Bridge to Recovery - Holiday De-Stress Event - Marinette
DESCRIPTION:Holidays are a stressful time of the year! Come on in to Bridges to De-Stress. $5 suggested donation\, but not required.
URL:https://upbarreview.com/event/biehl-bridge-to-recovery-holiday-de-stress-event-marinette/
LOCATION:Biehl Bridge To Recovery\, 3123 Shore Dr\, Marinette\, WI\, 54143
CATEGORIES:Menominee
END:VEVENT
BEGIN:VEVENT
DTSTART;TZID=UTC:20241228T150000
DTEND;TZID=UTC:20241228T190000
DTSTAMP:20260420T043728
CREATED:20241204T013009Z
LAST-MODIFIED:20241204T013009Z
UID:10002767-1735398000-1735412400@upbarreview.com
SUMMARY:Forever Friendship Drop-in Center - Hanukkah Party - Kingsford
DESCRIPTION:Come Celebrate the 4th Day of Hanukkah! We will learn more about the different cultures in this area\, including the 8 days and Traditions. We will be having kosher snacks and making trades.
URL:https://upbarreview.com/event/forever-friendship-drop-in-center-hanukkah-party-kingsford-2/
CATEGORIES:Ironmountain
END:VEVENT
BEGIN:VEVENT
DTSTART;TZID=UTC:20241228T150000
DTEND;TZID=UTC:20241228T220000
DTSTAMP:20260420T043728
CREATED:20241204T014001Z
LAST-MODIFIED:20241204T014001Z
UID:10002796-1735398000-1735423200@upbarreview.com
SUMMARY:Heights Park - Niagara Christmas Village Walk-Thru - Niagara
DESCRIPTION:First Annual Niagara Christmas Village is a walk-thru Christmas display with 12 sites decorated by local families\, groups\, organizations\, and businesses. The Christmas Village will be lit nightly from December 6th to January 11th from 3:00pm-10:00pm.\nEach display is supporting a local charity or organization. Votes (donations) for each site will go to their local charity/organization ($1=1 vote\, $10=10 votes\, etc). Voting locations are listed below. Voting starts December 6th. December 6th from 5:00pm to 7:00pm will be the annual tree lighting event with the tree lighting at 5:30pm.\nVoting Locations:City Hall – 1029 Roosevelt Rd\, Niagara (24 hr secure drop box\, lower level between glass doors\, enter in rear);Forward Financial Credit Union – 1250 Roosevelt Rd\, Niagara (Monday-Friday 8:30am-5:00pm Saturday 8:30am-12:00pm);Nicolet National Bank – 900 Roosevelt Rd\, Niagara (Monday-Friday 8:30am-5:00pm);Northwoods IGA – 501 Washington Ave\, Niagara (Monday-Saturday 7:30am-7:00pm Sunday 8:00am-4:00pm);Pit Stop Bar & Grill – 1059 Roosevelt Rd\, Niagara (Sunday-Thursday 10:00am-2:00am Friday & Saturday 10:00am-2:30am);Scott’s Uptown Lanes – 1201 Roosevelt Rd\, Niagara (Daily 11:00am-2:00am);Trip’s Tavern – 1001 Roosevelt Rd\, Niagara (Monday-Thursday 10:00am-close Friday-Sunday 9:00am-close)
URL:https://upbarreview.com/event/heights-park-niagara-christmas-village-walk-thru-niagara/2024-12-28/
LOCATION:Niagara Heights Park\, 1201 Grant Street\, Niagara\, wi\, 54151
CATEGORIES:Ironmountain
END:VEVENT
BEGIN:VEVENT
DTSTART;TZID=UTC:20241228T200000
DTEND;TZID=UTC:20241228T223000
DTSTAMP:20260420T043728
CREATED:20241203T012210Z
LAST-MODIFIED:20241203T012210Z
UID:10002658-1735416000-1735425000@upbarreview.com
SUMMARY:Uncle Mikes Corner Pub & Grill - DJ Lance - Crivitz
DESCRIPTION:Come celebrate the Holiday’s with Us
URL:https://upbarreview.com/event/uncle-mikes-corner-pub-grill-dj-lance-crivitz-2/
LOCATION:Uncle Mikes Corner Pub & Grill\, N9686 Co Hwy X\, Crivitz\, WI\, 54114
CATEGORIES:Menominee
END:VEVENT
BEGIN:VEVENT
DTSTART;TZID=UTC:20241228T203000
DTEND;TZID=UTC:20241228T230000
DTSTAMP:20260420T043728
CREATED:20241203T002809Z
LAST-MODIFIED:20241203T002839Z
UID:10002604-1735417800-1735426800@upbarreview.com
SUMMARY:Country Roads Bar & Grill - Karaoke - Wausaukee
DESCRIPTION:Sing your heart out or listen to others. Either way it’s going to be a great night!
URL:https://upbarreview.com/event/country-roads-bar-grill-karaoke-wausaukee/2024-12-28/
LOCATION:Country Roads Bar & Grill\, W8901 Co Rd C\, Wausaukee\, WI
CATEGORIES:Menominee
END:VEVENT
BEGIN:VEVENT
DTSTART;TZID=UTC:20241228T210000
DTEND;TZID=UTC:20241228T233000
DTSTAMP:20260420T043728
CREATED:20240827T130241Z
LAST-MODIFIED:20240827T130241Z
UID:10001670-1735419600-1735428600@upbarreview.com
SUMMARY:Wild Horse Saloon - Karaoke - Iron Mountain
DESCRIPTION:Every Saturday!!
URL:https://upbarreview.com/event/wild-horse-saloon-karaoke-iron-mountain/2024-12-28/
LOCATION:Wild Horse Saloon\, 713 River Ave\, Iron Mountain\, MI\, 49801
CATEGORIES:Ironmountain
END:VEVENT
END:VCALENDAR