BEGIN:VCALENDAR
VERSION:2.0
PRODID:-//UP BAR REVIEW - ECPv6.14.2//NONSGML v1.0//EN
CALSCALE:GREGORIAN
METHOD:PUBLISH
X-WR-CALNAME:UP BAR REVIEW
X-ORIGINAL-URL:https://upbarreview.com
X-WR-CALDESC:Events for UP BAR REVIEW
REFRESH-INTERVAL;VALUE=DURATION:PT1H
X-Robots-Tag:noindex
X-PUBLISHED-TTL:PT1H
BEGIN:VTIMEZONE
TZID:UTC
BEGIN:STANDARD
TZOFFSETFROM:+0000
TZOFFSETTO:+0000
TZNAME:UTC
DTSTART:20240101T000000
END:STANDARD
END:VTIMEZONE
BEGIN:VEVENT
DTSTART;TZID=UTC:20241226T080000
DTEND;TZID=UTC:20241226T090000
DTSTAMP:20260420T075145
CREATED:20241203T003336Z
LAST-MODIFIED:20241203T003336Z
UID:10002613-1735200000-1735203600@upbarreview.com
SUMMARY:NSRCC - Cardio & Strength - Pembine
DESCRIPTION:Join us for a cardio-based workout to start the day off strong! This 45-minute class will help keep you “healthy for life.” Contact your trainer\, Brenda Rosenstiel for more information: (920) 327-9981 or brosenstiel@nsrccwi.com\nWe hope to see you there!
URL:https://upbarreview.com/event/nsrcc-cardio-strength-pembine/2024-12-26/
LOCATION:NSRCC\, 17112 US-141\, Pembine\, WI\, 54156
CATEGORIES:Menominee
END:VEVENT
BEGIN:VEVENT
DTSTART;TZID=UTC:20241226T080000
DTEND;TZID=UTC:20241226T170000
DTSTAMP:20260420T075145
CREATED:20241202T212718Z
LAST-MODIFIED:20241202T212718Z
UID:10002527-1735200000-1735232400@upbarreview.com
SUMMARY:Biehl Bridges to Recovery - Overeaters Anonymous - Marinette
DESCRIPTION:A new year! A new you! Want to know if you’re an overeater? Struggling to find support? Wanting support? Come join us on Thursday evenings from 5:30pm-6:30pm.
URL:https://upbarreview.com/event/biehl-bridges-to-recovery-overeaters-anonymous-marinette/2024-12-26/
LOCATION:Biehl Bridge To Recovery\, 3123 Shore Dr\, Marinette\, WI\, 54143
CATEGORIES:Menominee
END:VEVENT
BEGIN:VEVENT
DTSTART;TZID=UTC:20241226T090000
DTEND;TZID=UTC:20241226T100000
DTSTAMP:20260420T075145
CREATED:20241203T012051Z
LAST-MODIFIED:20241203T012113Z
UID:10002644-1735203600-1735207200@upbarreview.com
SUMMARY:Hummingbird Cafe - Bible Study with Nancy - Crivitz
DESCRIPTION:A casual group Bible study where we can give information\, discuss anything\, and answer any questions you have or if you want support we are here.
URL:https://upbarreview.com/event/hummingbird-cafe-bible-study-with-nancy-crivitz/2024-12-26/
LOCATION:Hummingibird Cafe\, 508 Henriette Ave\, Crivitz\, WI
CATEGORIES:Menominee
END:VEVENT
BEGIN:VEVENT
DTSTART;TZID=UTC:20241226T090000
DTEND;TZID=UTC:20241226T200000
DTSTAMP:20260420T075145
CREATED:20241203T015608Z
LAST-MODIFIED:20241203T015608Z
UID:10002692-1735203600-1735243200@upbarreview.com
SUMMARY:Bellin Health Fitness - Dollar Day - Oconto
DESCRIPTION:For just $1 per person or the donation of a non-perishable food item per person\, enjoy our full facility and family fun activities!\nAll proceeds from Dollar Day passes and non-perishable donations will be donated to Kingdom Come Food Pantry in Oconto Falls.\nEVENT SCHEDULE:9am-9:45am Chair Yoga10am-10:45am Silver Intervals10:30am-12pm Caramel Apple Bar11am-11:30am Kids Bootcamp12pm-12:30pm Kids Bootcamp12:30pm-3:30pm Crafts3pm-6pm Hot Chocolate Bar4:30pm-6pm Childcareavailable for adults to use while they workout – for children 0-8 yrs old5pm-5:45pm Stix6pm Movie in the pool\nOPEN POOL HOURS: 9am-6pmOPEN GYM TIME: 9am-5pm & 6pm-8pm\nAccepted donation items:Canned MeatsJuiceCanned FruitsPastaCanned VegetablesCerealBoxed DinnersTunaBaked BeansCanned PastaSoup/StewPeanut ButterSugarPancake MixesSauerkrautCake MixesBaking MixesPudding MixJello Mix
URL:https://upbarreview.com/event/bellin-health-fitness-dollar-day-oconto/
LOCATION:Bellin Health Fitness Oconto\, 1201 Park Ave\, Oconto\, WI
CATEGORIES:Menominee
END:VEVENT
BEGIN:VEVENT
DTSTART;TZID=UTC:20241226T100000
DTEND;TZID=UTC:20241226T233000
DTSTAMP:20260420T075145
CREATED:20241029T145445Z
LAST-MODIFIED:20241029T145445Z
UID:10002226-1735207200-1735255800@upbarreview.com
SUMMARY:Alibi's - Free Pool Thursdays - Marinette
DESCRIPTION:Free Pool!!
URL:https://upbarreview.com/event/alibis-free-pool-thursdays-marinette/2024-12-26/
LOCATION:ALiBi Bar & Grill\, 829 Main St\, Marinette\, WI\, 54143\, United States
CATEGORIES:Menominee
END:VEVENT
BEGIN:VEVENT
DTSTART;TZID=UTC:20241226T150000
DTEND;TZID=UTC:20241226T220000
DTSTAMP:20260420T075145
CREATED:20241204T014001Z
LAST-MODIFIED:20241204T014001Z
UID:10002794-1735225200-1735250400@upbarreview.com
SUMMARY:Heights Park - Niagara Christmas Village Walk-Thru - Niagara
DESCRIPTION:First Annual Niagara Christmas Village is a walk-thru Christmas display with 12 sites decorated by local families\, groups\, organizations\, and businesses. The Christmas Village will be lit nightly from December 6th to January 11th from 3:00pm-10:00pm.\nEach display is supporting a local charity or organization. Votes (donations) for each site will go to their local charity/organization ($1=1 vote\, $10=10 votes\, etc). Voting locations are listed below. Voting starts December 6th. December 6th from 5:00pm to 7:00pm will be the annual tree lighting event with the tree lighting at 5:30pm.\nVoting Locations:City Hall – 1029 Roosevelt Rd\, Niagara (24 hr secure drop box\, lower level between glass doors\, enter in rear);Forward Financial Credit Union – 1250 Roosevelt Rd\, Niagara (Monday-Friday 8:30am-5:00pm Saturday 8:30am-12:00pm);Nicolet National Bank – 900 Roosevelt Rd\, Niagara (Monday-Friday 8:30am-5:00pm);Northwoods IGA – 501 Washington Ave\, Niagara (Monday-Saturday 7:30am-7:00pm Sunday 8:00am-4:00pm);Pit Stop Bar & Grill – 1059 Roosevelt Rd\, Niagara (Sunday-Thursday 10:00am-2:00am Friday & Saturday 10:00am-2:30am);Scott’s Uptown Lanes – 1201 Roosevelt Rd\, Niagara (Daily 11:00am-2:00am);Trip’s Tavern – 1001 Roosevelt Rd\, Niagara (Monday-Thursday 10:00am-close Friday-Sunday 9:00am-close)
URL:https://upbarreview.com/event/heights-park-niagara-christmas-village-walk-thru-niagara/2024-12-26/
LOCATION:Niagara Heights Park\, 1201 Grant Street\, Niagara\, wi\, 54151
CATEGORIES:Ironmountain
END:VEVENT
BEGIN:VEVENT
DTSTART;TZID=UTC:20241226T160000
DTEND;TZID=UTC:20241226T180000
DTSTAMP:20260420T075145
CREATED:20241204T013127Z
LAST-MODIFIED:20241204T013127Z
UID:10002768-1735228800-1735236000@upbarreview.com
SUMMARY:Forever Friendship Drop-in Center - Hope for the Holidays - Kingsford
DESCRIPTION:Come Celebrate the second Day of Hanukkah! We will learn more about the different cultures in this area\, have a kosher snack\, and decorate Manoras!
URL:https://upbarreview.com/event/forever-friendship-drop-in-center-hope-for-the-holidays-kingsford/
LOCATION:Forever Friendship Drop-in Center\, 501 S Carpenter Ave\, Kingsford\, MI
CATEGORIES:Ironmountain
END:VEVENT
BEGIN:VEVENT
DTSTART;TZID=UTC:20241226T180000
DTEND;TZID=UTC:20241226T210000
DTSTAMP:20260420T075145
CREATED:20241001T040448Z
LAST-MODIFIED:20241001T040448Z
UID:10001866-1735236000-1735246800@upbarreview.com
SUMMARY:Spirit House -Trivia Night! - Menominee
DESCRIPTION:Trivia Night Thursday at Spirit House\, come check out this awesome event!!!!
URL:https://upbarreview.com/event/spirit-house-trivia-night-menominee/2024-12-26/
LOCATION:Spirit House\, 533 10th Ave\, Menominee\, MI 49858\, Menominee\, MI\, 49858\, United States
CATEGORIES:Menominee
END:VEVENT
BEGIN:VEVENT
DTSTART;TZID=UTC:20241226T180000
DTEND;TZID=UTC:20241226T210000
DTSTAMP:20260420T075145
CREATED:20241030T021051Z
LAST-MODIFIED:20241030T021051Z
UID:10002378-1735236000-1735246800@upbarreview.com
SUMMARY:Oak Crest Golf Course - Trivia Time - Norway
DESCRIPTION:It is back by popular demand. Oak Crest Golf Club Thursday Night Trivia. Trivia will start at 6pm sharp\, but come early and enjoy Happy Hour from 4-6pm with a $1.00 off all drinks. Bring your friends and family for a fun couple of hours of laughs and Trivia.
URL:https://upbarreview.com/event/oak-crest-golf-course-trivia-time-norway/2024-12-26/
LOCATION:Oak Crest Golf Course\, N1475 US-8\, Norway\, MI\, 49870
CATEGORIES:Ironmountain
END:VEVENT
BEGIN:VEVENT
DTSTART;TZID=UTC:20241226T190000
DTEND;TZID=UTC:20241226T210000
DTSTAMP:20260420T075145
CREATED:20240827T020238Z
LAST-MODIFIED:20240827T020238Z
UID:10001592-1735239600-1735246800@upbarreview.com
SUMMARY:Mos Pub - Family Feud Night - Escanaba
DESCRIPTION: From the (so-called) brains behind Quizmaster Trivia\, Feudmaster is the bar game where players are fighting the clock… and their friends. \n———–\nSPECIALS: $1.50 domestic pints $3 rail mixers $1-off Specialty Burgers $2-off Specialty Pizza\n———-\nPRIZES: $30 gift card $20 gift card $10 gift card\n———-\nGAME PLAY:\n Similar to Family Feud\, the goal is to guess the TOP answer to common survey questions…\n• “An athlete in what sport would be good at a game of Twister?”\n• “If you want to keep the romance ticking\, name something you should NOT have in your bedroom?”\n At the start of the game players are given a white board to write their answers on…\n Players can team up\, or play solo. Either way you’ll be fighting your friends for the top answer\, but you’ll only have 30 seconds to do so…\n———–\n Hold up your whiteboard after the time is up and the host will come around to mark your points.\n Players get 10 points for the top answer and 5 points for the second-top answer.\n———–\n The game is split into 3 rounds of five questions each\, with one Final Feud question at the end\, where players have to come up with five answers.\n Plus\, players will be given two pens for their white boards: a black one and a red one.\n ONCE per round\, teams can use their red pen to answer\, which will double their points for that question if they are correct.
URL:https://upbarreview.com/event/mos-pub-family-feud-night-escanaba/2024-12-26/
LOCATION:Mo’s Pub\, 2116 Ludington St\, Escanaba\, MI\, 49829
CATEGORIES:Menominee
END:VEVENT
END:VCALENDAR