BEGIN:VCALENDAR
VERSION:2.0
PRODID:-//UP BAR REVIEW - ECPv6.14.2//NONSGML v1.0//EN
CALSCALE:GREGORIAN
METHOD:PUBLISH
X-ORIGINAL-URL:https://upbarreview.com
X-WR-CALDESC:Events for UP BAR REVIEW
REFRESH-INTERVAL;VALUE=DURATION:PT1H
X-Robots-Tag:noindex
X-PUBLISHED-TTL:PT1H
BEGIN:VTIMEZONE
TZID:UTC
BEGIN:STANDARD
TZOFFSETFROM:+0000
TZOFFSETTO:+0000
TZNAME:UTC
DTSTART:20240101T000000
END:STANDARD
END:VTIMEZONE
BEGIN:VEVENT
DTSTART;TZID=UTC:20241221T090000
DTEND;TZID=UTC:20241221T133000
DTSTAMP:20260420T150637
CREATED:20241202T204446Z
LAST-MODIFIED:20241202T204446Z
UID:10002496-1734771600-1734787800@upbarreview.com
SUMMARY:Rec Center - 360U Youth & Advanced Softball All-Skills Camp - Marinette
DESCRIPTION:Join our 360U Team of Softball Instructors as we travel to Marinette to host this Softball All-Skills Camp. Our Team features UWO Head Coach Scott Beyer\, 360U Owners Laura Beyer & Maria Stave & numerous more current & former collegiate level coaches & players!\nDate: Saturday\, December 21st 2024Camps/Times:Advanced Softball Camp [Grades 7-9 & Grades 10-12] 9:00am-11:00amYouth Softball Camp [Grades 1-3 & Grades 4-7] 11:30am-1:00pm\nCamp will focus on hitting mechanics\, drills for power and consistency\, keys to bunting\, defensive skills including infield and outfield fundamentals and drills\, and lastly – creating positive mindset habits to create confident\, resilient softball players!
URL:https://upbarreview.com/event/rec-center-360u-youth-advanced-softball-all-skills-camp-marinette/
LOCATION:Marinette Recreation Center\, 2501 Pierce Avenue\, Marinette\, WI\, 54143\, United States
CATEGORIES:Menominee
END:VEVENT
BEGIN:VEVENT
DTSTART;TZID=UTC:20241221T093000
DTEND;TZID=UTC:20241221T113000
DTSTAMP:20260420T150637
CREATED:20241203T012935Z
LAST-MODIFIED:20241203T012935Z
UID:10002664-1734773400-1734780600@upbarreview.com
SUMMARY:The Bar - Yin Yoga - Escanaba
DESCRIPTION:Winter Solstice Yin Yoga!\nThis is a slow paced\, meditative\, yoga that focuses on deep stretching for the connective tissue\, ligaments\, and fascia in the body. We will use props\, and breath work to guide through each pose/stretch. It’s the perfect class for those who workout a lot or need help with mobility.\nThis has been a fan fave at The Bar. We have plenty of space and some props. Feel free to bring your own mat\, blocks\, blanket\, bolster\, or strap.
URL:https://upbarreview.com/event/the-bar-yin-yoga-escanaba/
LOCATION:The Bar\, 3400 Ludington St\, Escanaba\, MI
CATEGORIES:Menominee
END:VEVENT
BEGIN:VEVENT
DTSTART;TZID=UTC:20241221T100000
DTEND;TZID=UTC:20241221T130000
DTSTAMP:20260420T150637
CREATED:20241202T204858Z
LAST-MODIFIED:20241202T204858Z
UID:10002499-1734775200-1734786000@upbarreview.com
SUMMARY:Mariner Theatre - Elf/Gifts/Surprise Guests/Photo Session Event - Marinette
DESCRIPTION:Come Join in Saturday\, December 21st\, 2024\, from 10a-1p to watch Buddy the ELF- free of charge at the Mariner Theatre. Each child will be provided a Popcorn\, Drink\, and Candy- Free of Charge. Concessions otherwise are on your own.\nThis event is a chance for all families who are raising children that are not their biological children to attend an event with children and families who may be experiencing like situations.\nWhose Invited? – All Kinship\, Foster care\, Adoptive\, Guardianship\, DPOA families…and more (if your raising a child that isn’t yours\, you and the family are invited!) (We will be reaching out to each family individually to obtain demographics and documentation showing placement)\nWe are also encouraging this event to help families make connections (if you want) with other families in our local area who you could use as a support system/respite in times of need.\nSeating is limited to 218 people so RSVP is required We encourage you to bring your ENTIRE family to this event and let us know how many kids as all children will leave with a Christmas Present.\nSpecial guests’ appearances may occur by some pretty cool folks. Currently\, we have the GRINCH\, SANTA\, MRS. CLAUSE\, and ELVES on standby. (Others may follow)\nYou will also have the opportunity to get photos taken at this time\, so make sure you have your smartphone/camera ready… We also will have a professional photographer present and is donating her time to taking photos!\nDon’t forget to leave the event with a hot coca and a sweet treat!\nLike years prior\, we are anticipating filling the theatre and are confident that everyone has a great time.\nIf you are planning on attending\, please RSVP no later than 12/7/2024 with how many in your party\, and the ages/gender of the children.\nMessage us via Facebook\, or call/text 920-249-4162\nThis is a private event for those who qualify and eligibility will be verified .\nThank you!
URL:https://upbarreview.com/event/mariner-theatre-elf-gifts-surprise-guests-photo-session-event-marinette/
LOCATION:Mariner Theatre\, 2000 Ella Ct\, Marinette\, WI\, 54143\, United States
CATEGORIES:Menominee
END:VEVENT
BEGIN:VEVENT
DTSTART;TZID=UTC:20241221T100000
DTEND;TZID=UTC:20241221T150000
DTSTAMP:20260420T150637
CREATED:20241203T003625Z
LAST-MODIFIED:20241203T003625Z
UID:10002619-1734775200-1734793200@upbarreview.com
SUMMARY:The Shop On Main - Santa's Visit - Oconto
DESCRIPTION:Santa’s Visit at The Shop on Main! \nThe Oconto Area Chamber of Commerce is excited to partner with The Shop on Main for a festive day with Santa on Saturday\, December 21\, 2024\, from 10 a.m. to 3 p.m. at 821 Main Street\, Oconto! The Green Bay Santa Claus himself will be here\, ready for photos and holiday cheer.\nWhat’s in Store:\nSnap a photo with Santa  (free)\nParents can enjoy a cold brew or try a cozy holiday coffee special from The Shop on Main \nKids can get creative with crafts and activities hosted by the Oconto Area Chamber of Commerce \nThe first 100 kids will receive a free LED light-up Christmas tree wand \n\nBring the whole family to join in the holiday fun\, make memories\, and enjoy Oconto’s downtown!\nEvent sponsors: The Yard Brewing & Distilling Co\, State Farm Insurance – Margie Daul\, Baking Grannis of Oconto\, and Oconto Kiwanis.
URL:https://upbarreview.com/event/the-shop-on-main-santas-visit-oconto/
LOCATION:The Shop On Main\, 818 Main St\, Oconto\, WI\, 54153
CATEGORIES:Menominee
END:VEVENT
BEGIN:VEVENT
DTSTART;TZID=UTC:20241221T120000
DTEND;TZID=UTC:20241221T170000
DTSTAMP:20260420T150637
CREATED:20241204T014452Z
LAST-MODIFIED:20241204T014512Z
UID:10002813-1734782400-1734800400@upbarreview.com
SUMMARY:Cedars Edge Wine & Gifts - Holiday Customer Appreciation - Niagara
DESCRIPTION:Join us for our Annual Customer Appreciation Event. Lots of wine and spirit samples\, charcuterie snacks and holiday fellowship. We so love our wine community. Todd Wangerin will be serenading us on December 21 with holiday tunes. Hope to share some holiday spirit with everyone!
URL:https://upbarreview.com/event/cedars-edge-wine-gifts-holiday-customer-appreciation-niagara-2/2024-12-21/
LOCATION:Cedars Edge Wine & Gifts\, W6014 Chapman Rd\, Niagara\, WI\, 54151
CATEGORIES:Ironmountain
END:VEVENT
BEGIN:VEVENT
DTSTART;TZID=UTC:20241221T140000
DTEND;TZID=UTC:20241221T160000
DTSTAMP:20260420T150637
CREATED:20241202T212543Z
LAST-MODIFIED:20241202T212543Z
UID:10002523-1734789600-1734796800@upbarreview.com
SUMMARY:Biehl Bridges To Recovery - Recovery Bingo - Marinette
DESCRIPTION:Come and play some Recovery Bingo! Prizes will be given out to the winners! $5 suggested donation but not required.
URL:https://upbarreview.com/event/biehl-bridges-to-recovery-recovery-bingo-marinette/
LOCATION:Biehl Bridge To Recovery\, 3123 Shore Dr\, Marinette\, WI\, 54143
CATEGORIES:Menominee
END:VEVENT
BEGIN:VEVENT
DTSTART;TZID=UTC:20241221T140000
DTEND;TZID=UTC:20241221T160000
DTSTAMP:20260420T150637
CREATED:20241204T003537Z
LAST-MODIFIED:20241204T003537Z
UID:10002718-1734789600-1734796800@upbarreview.com
SUMMARY:The Braumart - Free Community Movie: Elf - Iron Mountain
DESCRIPTION:Dickinson Area Community Foundation presents a free community movie to celebrate the season for all ages.\nBuddy (Will Ferrell) was accidentally transported to the North Pole as a toddler and raised to adulthood among Santa’s elves. Unable to shake the feeling that he doesn’t fit in\, the adult Buddy travels to New York\, in full elf uniform\, in search of his real father. As it happens\, this is Walter Hobbs (James Caan)\, a cynical businessman. After a DNA test proves this\, Walter reluctantly attempts to start a relationship with the childlike Buddy with increasingly chaotic results.\n2003 – Rated PG – 1 Hr. 30 Min. – 2pm CST – Admission is FREE to the public.\nThank you to the Dickinson Area Community Foundation for making this community event possible.
URL:https://upbarreview.com/event/the-braumart-free-community-movie-elf-iron-mountain/
CATEGORIES:Ironmountain
END:VEVENT
BEGIN:VEVENT
DTSTART;TZID=UTC:20241221T150000
DTEND;TZID=UTC:20241221T220000
DTSTAMP:20260420T150637
CREATED:20241204T014001Z
LAST-MODIFIED:20241204T014001Z
UID:10002789-1734793200-1734818400@upbarreview.com
SUMMARY:Heights Park - Niagara Christmas Village Walk-Thru - Niagara
DESCRIPTION:First Annual Niagara Christmas Village is a walk-thru Christmas display with 12 sites decorated by local families\, groups\, organizations\, and businesses. The Christmas Village will be lit nightly from December 6th to January 11th from 3:00pm-10:00pm.\nEach display is supporting a local charity or organization. Votes (donations) for each site will go to their local charity/organization ($1=1 vote\, $10=10 votes\, etc). Voting locations are listed below. Voting starts December 6th. December 6th from 5:00pm to 7:00pm will be the annual tree lighting event with the tree lighting at 5:30pm.\nVoting Locations:City Hall – 1029 Roosevelt Rd\, Niagara (24 hr secure drop box\, lower level between glass doors\, enter in rear);Forward Financial Credit Union – 1250 Roosevelt Rd\, Niagara (Monday-Friday 8:30am-5:00pm Saturday 8:30am-12:00pm);Nicolet National Bank – 900 Roosevelt Rd\, Niagara (Monday-Friday 8:30am-5:00pm);Northwoods IGA – 501 Washington Ave\, Niagara (Monday-Saturday 7:30am-7:00pm Sunday 8:00am-4:00pm);Pit Stop Bar & Grill – 1059 Roosevelt Rd\, Niagara (Sunday-Thursday 10:00am-2:00am Friday & Saturday 10:00am-2:30am);Scott’s Uptown Lanes – 1201 Roosevelt Rd\, Niagara (Daily 11:00am-2:00am);Trip’s Tavern – 1001 Roosevelt Rd\, Niagara (Monday-Thursday 10:00am-close Friday-Sunday 9:00am-close)
URL:https://upbarreview.com/event/heights-park-niagara-christmas-village-walk-thru-niagara/2024-12-21/
LOCATION:Niagara Heights Park\, 1201 Grant Street\, Niagara\, wi\, 54151
CATEGORIES:Ironmountain
END:VEVENT
BEGIN:VEVENT
DTSTART;TZID=UTC:20241221T160000
DTEND;TZID=UTC:20241221T180000
DTSTAMP:20260420T150637
CREATED:20241202T212225Z
LAST-MODIFIED:20241202T212225Z
UID:10002520-1734796800-1734804000@upbarreview.com
SUMMARY:Moose Lodge - Wings & Bingo (for members and qualified guests) - Marinette
DESCRIPTION:Members bring you family and friends to the Lodge to celebrate the Holidays. We will be having our all you can eat Wings Buffet from 4-6pm for $13.75 Includes Tax with Bingo starting at around 5:30pm. Hope to see you there!!!
URL:https://upbarreview.com/event/moose-lodge-wings-bingo-for-members-and-qualified-guests-marinette/
LOCATION:Marinette Moose Lodge\, N5233 E. Nettleton Road\, Marinette\, WI\, 54143
CATEGORIES:Menominee
END:VEVENT
BEGIN:VEVENT
DTSTART;TZID=UTC:20241221T180000
DTEND;TZID=UTC:20241221T210000
DTSTAMP:20260420T150637
CREATED:20241202T212312Z
LAST-MODIFIED:20241202T212312Z
UID:10002521-1734804000-1734814800@upbarreview.com
SUMMARY:The Outback - Keith Daniels - Marinette
DESCRIPTION:Keith Daniel’sPsycho Swamp Stomp BandBorn in the Cedar wood swamps of Wisconsin’s Green Bay area. He unearthed his sound along the cold waters of Lake Michigan.\nArmed with a kick drum\, harmonica\, synth\, guitar\, bass\, drum samples and his voice. He created a sound referred to as “Psycho Swamp Stomp.” A ritual in genre bending. From Delta Blues\, Dark Folk\, and Rock N Roll.\nKeith Daniel’s Psycho Swamp Stomp music is full of heavy grooves and haunting lyrics. Captivating fans with his theatrical live shows.\nhttps://keithdanielspsychoswampstompband.com/epk
URL:https://upbarreview.com/event/the-outback-keith-daniels-marinette/
LOCATION:The Outback\, 1997 Old Peshtigo Rd\, Marinette\, WI\, 54143\, United States
CATEGORIES:Menominee
END:VEVENT
BEGIN:VEVENT
DTSTART;TZID=UTC:20241221T200000
DTEND;TZID=UTC:20241221T230000
DTSTAMP:20260420T150637
CREATED:20241203T011826Z
LAST-MODIFIED:20241203T011826Z
UID:10002639-1734811200-1734822000@upbarreview.com
SUMMARY:Thors Wolverine Den - Ugly Sweater Christmas Party - Crivitz
DESCRIPTION:Drink SpecialsPrize for ugliest SweaterDj at 9:00
URL:https://upbarreview.com/event/thors-wolverine-den-ugly-sweater-christmas-party-crivitz/
LOCATION:Thors Wolverine Den\, 423 Hall Ave\, Crivitz\, WI
CATEGORIES:Menominee
END:VEVENT
BEGIN:VEVENT
DTSTART;TZID=UTC:20241221T210000
DTEND;TZID=UTC:20241221T233000
DTSTAMP:20260420T150637
CREATED:20240728T201250Z
LAST-MODIFIED:20240728T201250Z
UID:10001155-1734814800-1734823800@upbarreview.com
SUMMARY:Four Seasons Island Resort - Mane Event Karaoke - Pembine
DESCRIPTION:Join us in Boundary Waters Sports Bar for a night full of laughter\, food\, drinks AND KARAOKE! Brad\, Mane Event Karaoke will be here once again doing his thing! 9pm-1am.
URL:https://upbarreview.com/event/four-seasons-island-resort-mane-event-karaoke-pembine/2024-12-21/
LOCATION:Four Seasons Island Resort\, 16800 Shoreline Dr\, Pembine\, WI\, 54156\, United States
CATEGORIES:Menominee
END:VEVENT
BEGIN:VEVENT
DTSTART;TZID=UTC:20241221T210000
DTEND;TZID=UTC:20241221T233000
DTSTAMP:20260420T150637
CREATED:20240827T130241Z
LAST-MODIFIED:20240827T130241Z
UID:10001669-1734814800-1734823800@upbarreview.com
SUMMARY:Wild Horse Saloon - Karaoke - Iron Mountain
DESCRIPTION:Every Saturday!!
URL:https://upbarreview.com/event/wild-horse-saloon-karaoke-iron-mountain/2024-12-21/
LOCATION:Wild Horse Saloon\, 713 River Ave\, Iron Mountain\, MI\, 49801
CATEGORIES:Ironmountain
END:VEVENT
END:VCALENDAR