BEGIN:VCALENDAR
VERSION:2.0
PRODID:-//UP BAR REVIEW - ECPv6.14.2//NONSGML v1.0//EN
CALSCALE:GREGORIAN
METHOD:PUBLISH
X-ORIGINAL-URL:https://upbarreview.com
X-WR-CALDESC:Events for UP BAR REVIEW
REFRESH-INTERVAL;VALUE=DURATION:PT1H
X-Robots-Tag:noindex
X-PUBLISHED-TTL:PT1H
BEGIN:VTIMEZONE
TZID:UTC
BEGIN:STANDARD
TZOFFSETFROM:+0000
TZOFFSETTO:+0000
TZNAME:UTC
DTSTART:20240101T000000
END:STANDARD
END:VTIMEZONE
BEGIN:VEVENT
DTSTART;TZID=UTC:20241214T080000
DTEND;TZID=UTC:20241214T103000
DTSTAMP:20260421T022816
CREATED:20241203T003933Z
LAST-MODIFIED:20241203T003933Z
UID:10002621-1734163200-1734172200@upbarreview.com
SUMMARY:Faith Church - Ruby's Pantry - Peshtigo
DESCRIPTION:Ruby’s Pantry is for ANYONE looking to extend their monthly grocery budget. There is no income or residency requirements. For a $25 cash share donation\, you will receive an abundance of groceries. This is a drive-thru distribution
URL:https://upbarreview.com/event/faith-church-rubys-pantry-peshtigo-3/
LOCATION:Faith Church Peshtigo\, 350 N Stephenson Ave\, Peshtigo\, WI\, 54157
CATEGORIES:Menominee
END:VEVENT
BEGIN:VEVENT
DTSTART;TZID=UTC:20241214T080000
DTEND;TZID=UTC:20241214T150000
DTSTAMP:20260421T022816
CREATED:20241203T004153Z
LAST-MODIFIED:20241203T004153Z
UID:10002623-1734163200-1734188400@upbarreview.com
SUMMARY:Schwittay Farms LLC - Santas Coming to the Market - Peshtigo
DESCRIPTION:Join us for a festive holiday market featuring local vendors\, pictures with Santa\, farm fresh food\, and much more! Our special Christmas at the Market is from 8 til 3\, Santa will be available for visits from 10 til 2. Bring a non-perishable item & get your picture with Santa. We are beyond excited to be working in partnership with Coleman FFA\, Peshtigo Food Pantry\, and various local vendors. Limited vendor spots available\, message for more information.
URL:https://upbarreview.com/event/schwittay-farms-llc-santas-coming-to-the-market-peshtigo/
LOCATION:Schwittay Harmony Market LLC\, W4497 WI-64\, Peshtigo\, WI\, 54157
CATEGORIES:Menominee
END:VEVENT
BEGIN:VEVENT
DTSTART;TZID=UTC:20241214T090000
DTEND;TZID=UTC:20241214T110000
DTSTAMP:20260421T022816
CREATED:20241204T013531Z
LAST-MODIFIED:20241204T013531Z
UID:10002771-1734166800-1734174000@upbarreview.com
SUMMARY:St Anthony's Church - Vendor & Craft Show - Niagara
DESCRIPTION:Taking applications for vendors and crafters. Tables on site 10×10 space $40 Electric available. Asking you to give a basket of your products as a donation for fundraiser. Students will help you unload and pack up.
URL:https://upbarreview.com/event/st-anthonys-church-vendor-craft-show-niagara/
LOCATION:St. Anthony’s Catholic Church\, 1432 River St\, Niagara\, WI
CATEGORIES:Ironmountain
END:VEVENT
BEGIN:VEVENT
DTSTART;TZID=UTC:20241214T090000
DTEND;TZID=UTC:20241214T120000
DTSTAMP:20260421T022816
CREATED:20241202T203438Z
LAST-MODIFIED:20241202T203438Z
UID:10002485-1734166800-1734177600@upbarreview.com
SUMMARY:Elks Lodge - Breakfast with Santa Marinette
DESCRIPTION:Santa will be visiting the Lodge\, greeting children of all ages & bringing his bag of gifts. Breakfast & hot chocolate will be available too. Enjoy breakfast as you watch a Christmas movie in our dining room.
URL:https://upbarreview.com/event/elks-lodge-breakfast-with-santa-marinette/
LOCATION:Elks Lodge #1313\, 430 Bridge St\, Marinette\, WI\, 54143
CATEGORIES:Menominee
END:VEVENT
BEGIN:VEVENT
DTSTART;TZID=UTC:20241214T090000
DTEND;TZID=UTC:20241214T130000
DTSTAMP:20260421T022816
CREATED:20241203T010345Z
LAST-MODIFIED:20241203T010345Z
UID:10002634-1734166800-1734181200@upbarreview.com
SUMMARY:Piggly Wiggly Ace Hardware - Candy Bar Stocking Stuffer Pop-Up Sale - Crivitz
DESCRIPTION:Come snag some delicious  candy just in time for the holidays! Pop up sale goes until 1pm!
URL:https://upbarreview.com/event/piggly-wiggly-ace-hardware-candy-bar-stocking-stuffer-pop-up-sale-crivitz/
LOCATION:Piggy Wiggly Ace Hardware\, 214 US HWY 141\, Crivitz
CATEGORIES:Menominee
END:VEVENT
BEGIN:VEVENT
DTSTART;TZID=UTC:20241214T093000
DTEND;TZID=UTC:20241214T200000
DTSTAMP:20260421T022816
CREATED:20241203T015723Z
LAST-MODIFIED:20241203T015723Z
UID:10002693-1734168600-1734206400@upbarreview.com
SUMMARY:The Good Place - BOWL - Oconto
DESCRIPTION:THE GOOD PLACE IN OCONTO\n1ST SHIFT: 9:45 AM CHECK-IN 10:30 AM START\n2ND SHIFT:TO FOLLOW AFTER 1ST SHIFT. 2:00 PM START (~ROUGHLY)\n $50 ENTRY FEE \n 3 GAME SCRATCH QUALIFIER \nCUT TO TOP “16” FROM EACH SHIFT.\nMAKE CUT\, CASH MINIMUM $30 GUARANTEED!\n UNIQUE ELIMINATOR MATCH PLAY TO FOLLOW AFTER 2ND SHIFT QUALIFYING \n% PRIZE MONEY RETURNED \nPLEASE CONSIDER SHARING & INVITE WITH FRIENDS!\nALL BOWLERS WELCOMED!\nIMPORTANT:  GOING INDICATES BOWLING (CONFIRM WITH TOURNAMENT DIRECTOR)\nSpreadsheet Roster:https://docs.google.com/…/2PACX…/pubhtml\n 10:30 AM SHIFT (33 spots remain):View the spreadsheet above for roster information.\n 2:00 PM SHIFT (32 spots remain):View the spreadsheet above for roster information.\nContact Tournament Director for shifts.
URL:https://upbarreview.com/event/the-good-place-bowl-oconto/
LOCATION:The Good Place\, 1128 Main St\, Oconto
CATEGORIES:Menominee
END:VEVENT
BEGIN:VEVENT
DTSTART;TZID=UTC:20241214T100000
DTEND;TZID=UTC:20241214T120000
DTSTAMP:20260421T022817
CREATED:20241202T201401Z
LAST-MODIFIED:20241202T201401Z
UID:10002472-1734170400-1734177600@upbarreview.com
SUMMARY:Mighty Pet -Selfies with Santa - Menominee
DESCRIPTION:Bring your furry friends and capture a magical moment with Santa Claus! For a suggested donation of $5\, snap a photo with your pet and help support White Paws German Shepherd Rescue.All pets are welcome—big or small\, furry or scaled! Bring your own camera or phone and create memories while giving back to a great cause.
URL:https://upbarreview.com/event/mighty-pet-selfies-with-santa-menominee/
LOCATION:Mighty Pet\, 1207 8th Ave\, Menominee\, MI\, 49858
CATEGORIES:Menominee
END:VEVENT
BEGIN:VEVENT
DTSTART;TZID=UTC:20241214T100000
DTEND;TZID=UTC:20241214T120000
DTSTAMP:20260421T022817
CREATED:20241204T001338Z
LAST-MODIFIED:20241204T001338Z
UID:10002699-1734170400-1734177600@upbarreview.com
SUMMARY:Danielsons Greenhouse and Floral - Fresh Pine Wreath Making Session - Norway
DESCRIPTION:Want to make a YOUNIQUE wreath this holiday season? Join Erica in the greenhouse for a fresh pine wreath making class! A variety of assorted pines and eucalyptuses will be provided for the construction of your wreath. Pine cones\, artificial berries\, dried citrus\, dried apples\, cinnamon sticks and ribbon will be available for customizing your masterpiece!Class cost $60. Space is limited to 15 attendees. Call (906) 563-9322\, DM\, or email hello@danielsonsfloral.com to reserve a spot!
URL:https://upbarreview.com/event/danielsons-greenhouse-and-floral-fresh-pine-wreath-making-session-norway/
LOCATION:Danielsons Greenhouse & Floral\, 130 Brown St\, Norway\, MI\, 49870
CATEGORIES:Ironmountain
END:VEVENT
BEGIN:VEVENT
DTSTART;TZID=UTC:20241214T100000
DTEND;TZID=UTC:20241214T140000
DTSTAMP:20260421T022817
CREATED:20241202T200151Z
LAST-MODIFIED:20241202T200205Z
UID:10002463-1734170400-1734184800@upbarreview.com
SUMMARY:CASA Fundraiser - You Shop\, We Wrap - Menominee
DESCRIPTION:You do all the shopping and CASA will do all the wrapping! This December\, CASA will be wrapping gifts for donations to change the lives of children in foster care. Bring the gifts that you would like wrapped in a box or bag\, labeled with each person’s name. CASA will wrap and label all the gifts and then let you pick them up!
URL:https://upbarreview.com/event/casa-fundraiser-you-shop-we-wrap/
LOCATION:915 14th Ave\, Menominee\, MI\, 49858
CATEGORIES:Menominee
END:VEVENT
BEGIN:VEVENT
DTSTART;TZID=UTC:20241214T100000
DTEND;TZID=UTC:20241214T180000
DTSTAMP:20260421T022817
CREATED:20241202T210300Z
LAST-MODIFIED:20241202T210300Z
UID:10002506-1734170400-1734199200@upbarreview.com
SUMMARY:Pine Tree Mall - Craft & Vendor Show - Marinette
DESCRIPTION:Free AdmissionVendor Space Available – Please ShareVendor Registration WowSolutions4u.com – website only –**IMPORTANT**DO NOT SEND MONEY to People Commenting that they have spots or spaces available-check out their picture and their name-they are SCAMMERS! Dawn
URL:https://upbarreview.com/event/pine-tree-mall-craft-vendor-show-marinette-2/
LOCATION:Pine Tree Mall\, 2800 Roosevelt Rd\, Marinette\, WI\, 54143\, United States
CATEGORIES:Menominee
END:VEVENT
BEGIN:VEVENT
DTSTART;TZID=UTC:20241214T110000
DTEND;TZID=UTC:20241214T140000
DTSTAMP:20260421T022817
CREATED:20241202T204336Z
LAST-MODIFIED:20241202T204336Z
UID:10002495-1734174000-1734184800@upbarreview.com
SUMMARY:CJ's Glass - Glass on Glass Snow Globe Suncatcher - Marinette
DESCRIPTION:$35+taxages 8+Pre-registration Requiredcall or msg Cj 608-354-2303This mosaic is created with colored glass pieces\, nipped and shaped and glued onto a clear glass substrate ready for hanging. There will be beads\, precut geometric shapes\, shells\, etc. to help you create your own unique Snow Globe! Come do something new today!
URL:https://upbarreview.com/event/cjs-glass-glass-on-glass-snow-globe-suncatcher-marinette/
LOCATION:CJ’s Glass\, 802 Main St\, Marinette\, WI\, 54143
CATEGORIES:Menominee
END:VEVENT
BEGIN:VEVENT
DTSTART;TZID=UTC:20241214T110000
DTEND;TZID=UTC:20241214T140000
DTSTAMP:20260421T022817
CREATED:20241204T003719Z
LAST-MODIFIED:20241204T003719Z
UID:10002720-1734174000-1734184800@upbarreview.com
SUMMARY:Bored Bard Games - Lorcana Kids Store Championship - Iron Mountain
DESCRIPTION:Event: Lorcana Kids’ Store Championship\n Date: Saturday\, December 14th Time: Starting at 11am Age Group: 13 and under Cost: FREE (Pre-registration required)\nBring your little champions to our first-ever Lorcana Kids’ Store Championship! This special event is crafted just for kids ages 13 and younger\, and it’s completely free to participate. However\, pre-registration is required to help us plan for an amazing day!\nEvent Details:\nFormat: Constructed deck tournament\, limited to starter decks ONLYDecks: Players must bring a starter deck from home or purchase one in-storeRounds: 3 Swiss rounds with a top 4 playoff cutPrizes: Top 2 Winners: Playmats and booster packs All Participants: Goodies and prizes just for joining!\nWe’ll also provide a small snack and bottled water to keep everyone fueled up. It’s a fun\, friendly competition designed to give young players a chance to shine. Don’t miss this exciting day at Bored Bard Games—register now and let the games begin!
URL:https://upbarreview.com/event/bored-bard-games-lorcana-kids-store-championship-iron-mountain/
LOCATION:Bored Bard Games\, 224 E Hughitt St\, Iron Mountain\, mi\, 49801
CATEGORIES:Ironmountain
END:VEVENT
BEGIN:VEVENT
DTSTART;TZID=UTC:20241214T110000
DTEND;TZID=UTC:20241214T150000
DTSTAMP:20260421T022817
CREATED:20241204T002935Z
LAST-MODIFIED:20241204T002935Z
UID:10002711-1734174000-1734188400@upbarreview.com
SUMMARY:Venue 906 - Santa & Mrs Claus Exerience - Iron Mountain
DESCRIPTION:Join us for our Annual Santa & Mrs. Claus Experience!Hot Cocoa Bar\, Horse Drawn Wagon Rides\, Christmas Crafts\, Personalized Naughty or Night Certificates\, DJ & Photo Booth provided by Music on the Go!\nJoining us this year we have Face painting by D’s Creative Faces!
URL:https://upbarreview.com/event/venue-906-santa-mrs-claus-exerience-iron-mountain/
LOCATION:Venue 906\, 900 Breitung Ave\, Kingsford\, MI\, 49802
CATEGORIES:Ironmountain
END:VEVENT
BEGIN:VEVENT
DTSTART;TZID=UTC:20241214T110000
DTEND;TZID=UTC:20241214T173000
DTSTAMP:20260421T022817
CREATED:20241202T213701Z
LAST-MODIFIED:20241202T213701Z
UID:10002589-1734174000-1734197400@upbarreview.com
SUMMARY:Moose Lodge - Childrens Christmas Party (for members) - Marinette
DESCRIPTION:Children’s Christmas Party 12-14-24 for Member’s Children and Grandchildren. There will be a lunch served free to children and a donation from adults. Santa will be here with a gift for children 12 and younger.Preregistration is required. You may contact Kim Dobbins at 715-923-1433 to register.
URL:https://upbarreview.com/event/moose-lodge-childrens-christmas-party-for-members-marinette/
LOCATION:Marinette Moose Lodge\, N5233 E. Nettleton Road\, Marinette\, WI\, 54143
CATEGORIES:Menominee
END:VEVENT
BEGIN:VEVENT
DTSTART;TZID=UTC:20241214T120000
DTEND;TZID=UTC:20241214T140000
DTSTAMP:20260421T022817
CREATED:20241202T210836Z
LAST-MODIFIED:20241202T210836Z
UID:10002511-1734177600-1734184800@upbarreview.com
SUMMARY:Biehl Bridges to Recovery - Ornament Decorating - Marinette
DESCRIPTION:We will provide the Ornament; all you have to do is decorate them!$5 Suggest donation but not required.
URL:https://upbarreview.com/event/biehl-bridges-to-recovery-ornament-decorating-marinette/
LOCATION:Biehl Bridge To Recovery\, 3123 Shore Dr\, Marinette\, WI\, 54143
CATEGORIES:Menominee
END:VEVENT
BEGIN:VEVENT
DTSTART;TZID=UTC:20241214T120000
DTEND;TZID=UTC:20241214T143000
DTSTAMP:20260421T022817
CREATED:20241203T014305Z
LAST-MODIFIED:20241203T014305Z
UID:10002674-1734177600-1734186600@upbarreview.com
SUMMARY:Escanaba Public Library - Lego Club - Escanaba
DESCRIPTION:Come to Lego Club for some building fun! The December theme is “Holiday Fun” and we’d love to see your imagination at work. Build on the theme or come up with your own idea.\nSign up to be entered into a prize drawing\, too.\nPlease bring one container of Legos per child.
URL:https://upbarreview.com/event/escanaba-public-library-lego-club-escanaba/
LOCATION:Escanaba Public Library\, 400 Ludington St\, Escanaba\, WI\, 49829
CATEGORIES:Menominee
END:VEVENT
BEGIN:VEVENT
DTSTART;TZID=UTC:20241214T120000
DTEND;TZID=UTC:20241214T150000
DTSTAMP:20260421T022817
CREATED:20241204T003627Z
LAST-MODIFIED:20241204T003627Z
UID:10002719-1734177600-1734188400@upbarreview.com
SUMMARY:The Maxx Entertainment Center - Photos with Santa - Iron Mountain
DESCRIPTION:Please join us in a magical day with Santa  He will be here on December 14th from 12-3pm to take photos and talk with your littles. (PLEASE BRING YOUR OWN CAMERA ) There will NOT be a photographer on site. In addition we will be making reindeer food along with some fun holiday crafts to bring home!
URL:https://upbarreview.com/event/the-maxx-entertainment-center-photos-with-santa-iron-mountain/
LOCATION:The Maxx Entertainment Center\, 2202 Aragon St\, Iron Mountain\, MI\, 49801
CATEGORIES:Ironmountain
END:VEVENT
BEGIN:VEVENT
DTSTART;TZID=UTC:20241214T130000
DTEND;TZID=UTC:20241214T143000
DTSTAMP:20260421T022817
CREATED:20241204T002543Z
LAST-MODIFIED:20241204T002543Z
UID:10002707-1734181200-1734186600@upbarreview.com
SUMMARY:Mikes on Main - December Membership Meeting - Norway
DESCRIPTION:regular membership meeting
URL:https://upbarreview.com/event/mikes-on-main-december-membership-meeting-norway/
LOCATION:Mikes on Main\, 616 Main St\, Norway\, MI
CATEGORIES:Ironmountain
END:VEVENT
BEGIN:VEVENT
DTSTART;TZID=UTC:20241214T130000
DTEND;TZID=UTC:20241214T150000
DTSTAMP:20260421T022817
CREATED:20241202T210407Z
LAST-MODIFIED:20241202T210407Z
UID:10002507-1734181200-1734188400@upbarreview.com
SUMMARY:The Craft Cave - Candy Canes - Marinette
DESCRIPTION:3 cute candy cans decorated and put on board to hang. BYOB\, cost 20$\, call to pre pay and sign up at 715-587-4643. LIMIT 10 total.
URL:https://upbarreview.com/event/the-craft-cave-candy-canes-marinette-3/
LOCATION:The Craft Cave\, 605 Main St.\, Marinette\, WI\, 54143\, United States
CATEGORIES:Menominee
END:VEVENT
BEGIN:VEVENT
DTSTART;TZID=UTC:20241214T150000
DTEND;TZID=UTC:20241214T220000
DTSTAMP:20260421T022817
CREATED:20241204T014001Z
LAST-MODIFIED:20241204T014001Z
UID:10002782-1734188400-1734213600@upbarreview.com
SUMMARY:Heights Park - Niagara Christmas Village Walk-Thru - Niagara
DESCRIPTION:First Annual Niagara Christmas Village is a walk-thru Christmas display with 12 sites decorated by local families\, groups\, organizations\, and businesses. The Christmas Village will be lit nightly from December 6th to January 11th from 3:00pm-10:00pm.\nEach display is supporting a local charity or organization. Votes (donations) for each site will go to their local charity/organization ($1=1 vote\, $10=10 votes\, etc). Voting locations are listed below. Voting starts December 6th. December 6th from 5:00pm to 7:00pm will be the annual tree lighting event with the tree lighting at 5:30pm.\nVoting Locations:City Hall – 1029 Roosevelt Rd\, Niagara (24 hr secure drop box\, lower level between glass doors\, enter in rear);Forward Financial Credit Union – 1250 Roosevelt Rd\, Niagara (Monday-Friday 8:30am-5:00pm Saturday 8:30am-12:00pm);Nicolet National Bank – 900 Roosevelt Rd\, Niagara (Monday-Friday 8:30am-5:00pm);Northwoods IGA – 501 Washington Ave\, Niagara (Monday-Saturday 7:30am-7:00pm Sunday 8:00am-4:00pm);Pit Stop Bar & Grill – 1059 Roosevelt Rd\, Niagara (Sunday-Thursday 10:00am-2:00am Friday & Saturday 10:00am-2:30am);Scott’s Uptown Lanes – 1201 Roosevelt Rd\, Niagara (Daily 11:00am-2:00am);Trip’s Tavern – 1001 Roosevelt Rd\, Niagara (Monday-Thursday 10:00am-close Friday-Sunday 9:00am-close)
URL:https://upbarreview.com/event/heights-park-niagara-christmas-village-walk-thru-niagara/2024-12-14/
LOCATION:Niagara Heights Park\, 1201 Grant Street\, Niagara\, wi\, 54151
CATEGORIES:Ironmountain
END:VEVENT
BEGIN:VEVENT
DTSTART;TZID=UTC:20241214T160000
DTEND;TZID=UTC:20241214T180000
DTSTAMP:20260421T022817
CREATED:20241202T211613Z
LAST-MODIFIED:20241202T211613Z
UID:10002515-1734192000-1734199200@upbarreview.com
SUMMARY:Calvary Church Assembly of God - Chapter Seven Christmas - Marinette
DESCRIPTION:Calvary Church presents a Christmas comedy published by Andrew Frodahl.\n“What would you do if you lost your job\, lost your home\, and were on the verge of filing chapter 7 bankruptcy…yet everyone in your family was already planning to spend Christmas with you? If you’re Melvin Maldaput\, you call upon your real estate buddy to lend you a million-dollar home for the holidays and neighbors to pretend to be house staff. Come meet Melvin\, his wife\, in-laws and friends. Can Melvin and his wife pull this off while learning what the true meaning of Christmas is?”\nTwo different show times:Saturday\, Dec. 14th at 4pmSunday\, Dec. 15th at 10am (childcare provided for Sunday Service).\nThis is a free event.
URL:https://upbarreview.com/event/calvary-church-assembly-of-god-chapter-seven-christmas-marinette/2024-12-14/
LOCATION:Calvary Church\, W1498 State Highway 64\, Marinette\, WI
CATEGORIES:Menominee
END:VEVENT
BEGIN:VEVENT
DTSTART;TZID=UTC:20241214T160000
DTEND;TZID=UTC:20241214T183000
DTSTAMP:20260421T022817
CREATED:20241203T001440Z
LAST-MODIFIED:20241203T001440Z
UID:10002593-1734192000-1734201000@upbarreview.com
SUMMARY:The Boulevard - Santa on Fire Truck Meet & Greet - Daggett
DESCRIPTION:Join us as Santa takes a ride around town on the firetruck and comes back to the Boulevard to warm up. All kids will receive a Goody bag.$6 Kids Meals Available\nBring in non perishable foods or unwrapped gifts and get entered into a drawing.
URL:https://upbarreview.com/event/the-boulevard-santa-on-fire-truck-meet-greet-daggett/
LOCATION:The Boulevard\, 117 Railroad Ave\, Daggett\, MI
CATEGORIES:Menominee
END:VEVENT
BEGIN:VEVENT
DTSTART;TZID=UTC:20241214T170000
DTEND;TZID=UTC:20241214T190000
DTSTAMP:20260421T022817
CREATED:20241203T004517Z
LAST-MODIFIED:20241203T004517Z
UID:10002625-1734195600-1734202800@upbarreview.com
SUMMARY:Studio 170 - North Pole Camp - Peshtigo
DESCRIPTION:Open to ALL kids ages 5+\, enrollment in studio class NOT required.\nClick to register: https://forms.gle/FowzDVsuWW7P49px6\nCelebrate the season with a trip to our North Pole Camp on Saturday\, December 14. We’ll play holiday & winter inspired games\, eat pizza\, create a take home ornament and have FUN!
URL:https://upbarreview.com/event/studio-170-north-pole-camp-peshtigo/
LOCATION:Studio 170\, 170 Pine St\, Peshtigo\, WI
CATEGORIES:Menominee
END:VEVENT
BEGIN:VEVENT
DTSTART;TZID=UTC:20241214T170000
DTEND;TZID=UTC:20241214T193000
DTSTAMP:20260421T022817
CREATED:20241203T004911Z
LAST-MODIFIED:20241203T004911Z
UID:10002628-1734195600-1734204600@upbarreview.com
SUMMARY:Tasty Traveler/Forgotten Fire Winery - Pop Up Dinner - Peshtigo
DESCRIPTION:A night filled with Tasty Traveler’s gourmet food paired with Forgotten Fire’s wines.
URL:https://upbarreview.com/event/tasty-traveler-forgotten-fire-winery-pop-up-dinner-peshtigo/
LOCATION:Forgotten Fire Winery\, N2393 Schacht Road\, Marinette\, WI\, 54143\, United States
CATEGORIES:Menominee
END:VEVENT
BEGIN:VEVENT
DTSTART;TZID=UTC:20241214T173000
DTEND;TZID=UTC:20241214T200000
DTSTAMP:20260421T022817
CREATED:20241202T202924Z
LAST-MODIFIED:20241202T202924Z
UID:10002482-1734197400-1734206400@upbarreview.com
SUMMARY:Mariner Theatre -The Polar Express Annual Family Event - Marinette
DESCRIPTION:ALL ABOARD!\nMariner is proud to present the modern classic “The Polar Express” (G) on Sat Dec 14 at 5:30pm and 6:00pm\, YES!! there are 2 showings this year due to a high demand for last years event so everyone wanting to see SANTA has a chance! Admission for this event is $12.00 and everyone attending will receive a small memorable gift from Santa’s elves during your movie\, a tasty hot chocolate upon entry and your official Polar Express golden ticket to enter the movie. SANTA will greet everyone and hand out candy canes as everyone exits the movie.\nEveryone attending is also encouraged to wear their favorite pajamas to make the adventure even more realistic and exciting! (pillows and blankets are allowed)\nBe apart of a special night with a great family classic ending with a visit with SANTA. Tickets are now on sale online at www.marinertheatre.com or at the Mariner Theatre boxoffice.
URL:https://upbarreview.com/event/mariner-theatre-the-polar-express-annual-family-event-marinette/
LOCATION:Mariner Theatre\, 2000 Ella Ct\, Marinette\, WI\, 54143\, United States
CATEGORIES:Menominee
END:VEVENT
BEGIN:VEVENT
DTSTART;TZID=UTC:20241214T180000
DTEND;TZID=UTC:20241214T200000
DTSTAMP:20260421T022817
CREATED:20241016T012853Z
LAST-MODIFIED:20241016T012853Z
UID:10002084-1734199200-1734206400@upbarreview.com
SUMMARY:Enjoy Gifts & Gathering - Live Music - Marinette
DESCRIPTION:Live music every 2nd saturday of each month!
URL:https://upbarreview.com/event/enjoy-gifts-gathering-live-music-marinette/2024-12-14/
LOCATION:EnJoy Gifts & Gathering\, 1713 Main St\, Marinette\, WI\, 54143
CATEGORIES:Menominee
END:VEVENT
BEGIN:VEVENT
DTSTART;TZID=UTC:20241214T180000
DTEND;TZID=UTC:20241214T210000
DTSTAMP:20260421T022817
CREATED:20241203T005001Z
LAST-MODIFIED:20241203T005001Z
UID:10002629-1734199200-1734210000@upbarreview.com
SUMMARY:The Outback - Reflections - Marinette
DESCRIPTION:Come hangout with RELECTIONS for some live music on December 14th!
URL:https://upbarreview.com/event/the-outback-reflections-marinette/
LOCATION:The Outback\, 1997 Old Peshtigo Rd\, Marinette\, WI\, 54143\, United States
CATEGORIES:Menominee
END:VEVENT
BEGIN:VEVENT
DTSTART;TZID=UTC:20241214T190000
DTEND;TZID=UTC:20241214T210000
DTSTAMP:20260421T022817
CREATED:20241202T204241Z
LAST-MODIFIED:20241202T204241Z
UID:10002493-1734202800-1734210000@upbarreview.com
SUMMARY:Bayshore Arts Center - Christmas by the Bay
DESCRIPTION:We are ONE MONTH AWAY from the 9th annual Christmas by the Bay! This years theme? A Rockin’ Poppin’ Christmas – featuring songs from your favorite artists\, including Taylor Swift\, Def Leppard\, Elvis and Whitney Houston \nChristmas by the Bay is produced in partnership with First Street Academy of Dance \nThese tickets sell fast\, reserve yours today!\nDecember 13 – 7PMDecember 14 – 7PMDecember 15 – 2PM\n Buy online\, over the phone\, or at the doors!\nBuy over the Phone:715-504-3351 (please leave a message if you get no answer. All messages will be returned)\nBuy at the Box Office:Box office opens 45 minutes before show time (Please note that we are CASHLESS for all ticket sales)\nBuy online: https://ticketstar.evenue.net/events/UWGBMC
URL:https://upbarreview.com/event/bayshore-arts-center-christmas-by-the-bay/2024-12-14/
LOCATION:Bayshore Arts Center\, 750 W Bay Shore St\, Marinette\, WI\, 54143
CATEGORIES:Menominee
END:VEVENT
BEGIN:VEVENT
DTSTART;TZID=UTC:20241214T190000
DTEND;TZID=UTC:20241214T210000
DTSTAMP:20260421T022817
CREATED:20241202T212053Z
LAST-MODIFIED:20241202T212053Z
UID:10002519-1734202800-1734210000@upbarreview.com
SUMMARY:Saint Thomas Aquinas Academy - Windsor Players Present "The Nick of Time Christmas Show" - Marinette
DESCRIPTION:The Windsor Players are looking forward to sharing this light-hearted Christmas comedy. They promise to leave you laughing and full of the Christmas spirit!
URL:https://upbarreview.com/event/saint-thomas-aquinas-academy-windsor-players-present-the-nick-of-time-christmas-show-marinette-2/
LOCATION:Saint Thomas Aquinas Academy\, 1200 Main St\, Marinette\, WI\, 54143
CATEGORIES:Menominee
END:VEVENT
BEGIN:VEVENT
DTSTART;TZID=UTC:20241214T190000
DTEND;TZID=UTC:20241214T220000
DTSTAMP:20260421T022817
CREATED:20241203T011335Z
LAST-MODIFIED:20241203T011335Z
UID:10002635-1734202800-1734213600@upbarreview.com
SUMMARY:Uncle Mikes Corner Pub & Grill - Lets Get UGLY - Crivitz
DESCRIPTION:Wear your UGLY Best and come belt out with us
URL:https://upbarreview.com/event/uncle-mikes-corner-pub-grill-lets-get-ugly-crivitz/
LOCATION:Uncle Mikes Corner Pub & Grill\, N9686 Co Hwy X\, Crivitz\, WI\, 54114
CATEGORIES:Menominee
END:VEVENT
END:VCALENDAR