BEGIN:VCALENDAR
VERSION:2.0
PRODID:-//UP BAR REVIEW - ECPv6.14.2//NONSGML v1.0//EN
CALSCALE:GREGORIAN
METHOD:PUBLISH
X-WR-CALNAME:UP BAR REVIEW
X-ORIGINAL-URL:https://upbarreview.com
X-WR-CALDESC:Events for UP BAR REVIEW
REFRESH-INTERVAL;VALUE=DURATION:PT1H
X-Robots-Tag:noindex
X-PUBLISHED-TTL:PT1H
BEGIN:VTIMEZONE
TZID:UTC
BEGIN:STANDARD
TZOFFSETFROM:+0000
TZOFFSETTO:+0000
TZNAME:UTC
DTSTART:20240101T000000
END:STANDARD
END:VTIMEZONE
BEGIN:VEVENT
DTSTART;TZID=UTC:20241206T080000
DTEND;TZID=UTC:20241206T090000
DTSTAMP:20260421T152513
CREATED:20241029T200811Z
LAST-MODIFIED:20241029T200811Z
UID:10002308-1733472000-1733475600@upbarreview.com
SUMMARY:NSRCC - Beginner Yoga - Pembine
DESCRIPTION:Join us for our beginner yoga class! Never tried yoga before? That’s okay! Learn about what yoga is and how it helps your body. If you have any questions\, contact your trainer\, Brenda Rosenstiel: (920) 327-9981 or brosenstiel@nsrccwi.com\nWe hope to see you there!
URL:https://upbarreview.com/event/nsrcc-beginner-yoga-pembine/2024-12-06/
LOCATION:NSRCC\, 17112 US-141\, Pembine\, WI\, 54156
CATEGORIES:Menominee
END:VEVENT
BEGIN:VEVENT
DTSTART;TZID=UTC:20241206T090000
DTEND;TZID=UTC:20241206T100000
DTSTAMP:20260421T152513
CREATED:20241203T003500Z
LAST-MODIFIED:20241203T003500Z
UID:10002615-1733475600-1733479200@upbarreview.com
SUMMARY:NSRCC - Strength Circuit Supreme - Pembine
DESCRIPTION:Join us for our strength circuit supreme class! This more challenging workout will be sure to strengthen your body for whatever life throws your way! If you have any questions\, contact your trainer\, Brenda Rosenstiel: (920) 327-9981 or brosenstiel@nsrccwi.com\nWe look hope to see you there!
URL:https://upbarreview.com/event/nsrcc-strength-circuit-supreme-pembine/2024-12-06/
LOCATION:NSRCC\, 17112 US-141\, Pembine\, WI\, 54156
CATEGORIES:Menominee
END:VEVENT
BEGIN:VEVENT
DTSTART;TZID=UTC:20241206T110000
DTEND;TZID=UTC:20241206T133000
DTSTAMP:20260421T152513
CREATED:20241202T200400Z
LAST-MODIFIED:20241202T200400Z
UID:10002465-1733482800-1733491800@upbarreview.com
SUMMARY:McCraftie's - Classy Cardinal - Menominee
DESCRIPTION:Join us December 6 at 11:00 am for the Classy Cardinal epoxy glass art. This beautiful and unique piece of art is perfect for any home. The Cardinal is made with epoxy resin and glass set in a 5 x 7 inch frame. The background is interchangeable\, so you can change it to match your decor. This is a great gift for any occasion\, or for yourself.\nPRE-PAYMENT of $30 is required to save your spot. Feel free to call the studio\, use our website or stop in with payment.\n715-440-5959\nhttps://mccraftiellc.square.site/\nAll skill levels are welcome.\nWe provide all the necessary supplies.\nWe look forward to crafting with you.\nCLASS REFUND POLICY\n-full in studio credit if cancellation is 1 week prior to the class-50% in studio credit up to 24 hours prior to class.-less than 24 hours notice\, no credit-NO SHOW/ NO CALL/NO CREDIT
URL:https://upbarreview.com/event/mccrafties-classy-cardinal-menominee/
LOCATION:McCrafties\, 625 1st St\, Menominee\, MI\, 49858\, United States
CATEGORIES:Menominee
END:VEVENT
BEGIN:VEVENT
DTSTART;TZID=UTC:20241206T130000
DTEND;TZID=UTC:20241206T160000
DTSTAMP:20260421T152513
CREATED:20241030T023423Z
LAST-MODIFIED:20241030T023449Z
UID:10002432-1733490000-1733500800@upbarreview.com
SUMMARY:Forever Friendship Drop-in Center - Lego Building Group - Kingsford
DESCRIPTION:Come join other adults you enjoy using their creativity in building and creating their own designs. We have a variety of Lego colors\, parts\, people and accessories to make your creation come to life. If free creation isn’t your style\, we also have variety of kits available for assembly. Building is more fun with others!
URL:https://upbarreview.com/event/forever-friendship-drop-in-center-lego-building-group-kingsford/2024-12-06/
LOCATION:Forever Friendship Drop-in Center\, 501 S Carpenter Ave\, Kingsford\, MI
CATEGORIES:Ironmountain
END:VEVENT
BEGIN:VEVENT
DTSTART;TZID=UTC:20241206T150000
DTEND;TZID=UTC:20241206T220000
DTSTAMP:20260421T152513
CREATED:20241204T014001Z
LAST-MODIFIED:20241204T014001Z
UID:10002774-1733497200-1733522400@upbarreview.com
SUMMARY:Heights Park - Niagara Christmas Village Walk-Thru - Niagara
DESCRIPTION:First Annual Niagara Christmas Village is a walk-thru Christmas display with 12 sites decorated by local families\, groups\, organizations\, and businesses. The Christmas Village will be lit nightly from December 6th to January 11th from 3:00pm-10:00pm.\nEach display is supporting a local charity or organization. Votes (donations) for each site will go to their local charity/organization ($1=1 vote\, $10=10 votes\, etc). Voting locations are listed below. Voting starts December 6th. December 6th from 5:00pm to 7:00pm will be the annual tree lighting event with the tree lighting at 5:30pm.\nVoting Locations:City Hall – 1029 Roosevelt Rd\, Niagara (24 hr secure drop box\, lower level between glass doors\, enter in rear);Forward Financial Credit Union – 1250 Roosevelt Rd\, Niagara (Monday-Friday 8:30am-5:00pm Saturday 8:30am-12:00pm);Nicolet National Bank – 900 Roosevelt Rd\, Niagara (Monday-Friday 8:30am-5:00pm);Northwoods IGA – 501 Washington Ave\, Niagara (Monday-Saturday 7:30am-7:00pm Sunday 8:00am-4:00pm);Pit Stop Bar & Grill – 1059 Roosevelt Rd\, Niagara (Sunday-Thursday 10:00am-2:00am Friday & Saturday 10:00am-2:30am);Scott’s Uptown Lanes – 1201 Roosevelt Rd\, Niagara (Daily 11:00am-2:00am);Trip’s Tavern – 1001 Roosevelt Rd\, Niagara (Monday-Thursday 10:00am-close Friday-Sunday 9:00am-close)
URL:https://upbarreview.com/event/heights-park-niagara-christmas-village-walk-thru-niagara/2024-12-06/
LOCATION:Niagara Heights Park\, 1201 Grant Street\, Niagara\, wi\, 54151
CATEGORIES:Ironmountain
END:VEVENT
BEGIN:VEVENT
DTSTART;TZID=UTC:20241206T153000
DTEND;TZID=UTC:20241206T190000
DTSTAMP:20260421T152513
CREATED:20241204T001243Z
LAST-MODIFIED:20241204T001243Z
UID:10002698-1733499000-1733511600@upbarreview.com
SUMMARY:Downtown Norway - Christmas in Norway
DESCRIPTION:Celebrate the holiday season with the tree lighting\, Santa parade\, fireworks\, and a chance to visit with Santa and Mrs. Claus in Downtown Norway.\nNew this year – Winter Market at the American Legion from 3:30-7 pm!\nSchedule of events:3:30-7:00pm – Winter Market at the American Legion4:00-6:00 – Dickinson County Library’s Ornament Making at City Hall6:00 – Santa Parade and FireworksFollowing the parade – Visit with Santa and Mrs. Claus at City Hall
URL:https://upbarreview.com/event/downtown-norway-christmas-in-norway/
LOCATION:Downtown Norway\, Norway\, MI
CATEGORIES:Ironmountain
END:VEVENT
BEGIN:VEVENT
DTSTART;TZID=UTC:20241206T160000
DTEND;TZID=UTC:20241206T180000
DTSTAMP:20260421T152513
CREATED:20241204T002837Z
LAST-MODIFIED:20241204T002837Z
UID:10002710-1733500800-1733508000@upbarreview.com
SUMMARY:Downtown Iron Mountain - Christmas Walk
DESCRIPTION:The Annual Christmas Walk is returning to Downtown Iron Mountain on Friday\, December 6th\, from 4 PM to 6 PM. This magical event is FREE to attend and is sponsored by First National Bank & Trust and Radio Results Network.\n**Schedule of Activities**\n4:00 – 5:30 PM:View the live nativity scene at the Systems Control Downtown Stage performed by students from Bishop Baraga Catholic School.Visit the library to meet Santa and Mrs. Claus\, write letters to Santa\, and take part in holiday crafts.\n5:30 – 6:00 PM Grab your caroling sheets and walk with Santa and Mrs. Claus to the First National Bank & Trust Plaza.Watch as we light the most magical tree in Downtown Iron Mountain for Christmas! Tree donated by Swanson’s Big Red Barn.\nBut that’s not all! You can also write letters to Santa throughout the holiday season and drop them off at Iron Mountain City Hall or the Dickinson County Library December 6th-25th. \nPlus\, Downtown businesses will decorate their windows for the Window Decorating Contest. Voting starts on December 6th and continues until Christmas! Sign-up information is coming soon. \nDowntown Iron Mountain is the place to be this holiday season. Learn more at downtownironmountain.com/christmas-walk.\nThank you to all of our event partners: the Dickinson County Library\, Bishop Baraga Catholic School\, Swanson’s Big Red Barn\, and the Dickinson County Community Chorus!
URL:https://upbarreview.com/event/downtown-iron-mountain-christmas-walk/
LOCATION:Downtown Iron Mountain
CATEGORIES:Ironmountain
END:VEVENT
BEGIN:VEVENT
DTSTART;TZID=UTC:20241206T170000
DTEND;TZID=UTC:20241206T190000
DTSTAMP:20260421T152513
CREATED:20241202T200501Z
LAST-MODIFIED:20241202T200501Z
UID:10002466-1733504400-1733511600@upbarreview.com
SUMMARY:Spirit House - Sourdough Workshop - Menominee
DESCRIPTION:Learn all about sourdough! We will go over the artisan loaf recipe step by step. This will include a hands on portion as well. Everyone will get a starter to take home so you can begin baking right away. There will also be a mini sourdough loaf for everyone as well.Seating is limited so payment in advance is needed to save your spot. I have Venmo\, Apple Pay and Pay Pal. Message me will any questions!
URL:https://upbarreview.com/event/spirit-house-sourdough-workshop-menominee-2/
LOCATION:Spirit House\, 533 10th Ave\, Menominee\, MI 49858\, Menominee\, MI\, 49858\, United States
CATEGORIES:Menominee
END:VEVENT
BEGIN:VEVENT
DTSTART;TZID=UTC:20241206T170000
DTEND;TZID=UTC:20241206T190000
DTSTAMP:20260421T152513
CREATED:20241203T004356Z
LAST-MODIFIED:20241203T004356Z
UID:10002624-1733504400-1733511600@upbarreview.com
SUMMARY:Forgotten Fire Winery - Behind The Bottle Private Tasting With the Winemaker - Peshtigo
DESCRIPTION:Enjoy a 1-2 hr private wine tasting with our winemaker\, Jake. Walk through the winemaking process while sampling wines based on your selection of dry\, sweet or mixed. This event takes place in our production area & may include a sample of pre-released wine (if available).\nEvent is limited to 12 people.\nCost is $20 per person which includes 7 samples and you get to keep your wine glass.\nRSVP’s are required – call the winery at 715-582-3473 or email forgottenfirewineryevents@gmail.com to reserve your spot
URL:https://upbarreview.com/event/forgotten-fire-winery-behind-the-bottle-private-tasting-with-the-winemaker-peshtigo/
LOCATION:Forgotten Fire Winery\, N2393 Schacht Road\, Marinette\, WI\, 54143\, United States
CATEGORIES:Menominee
END:VEVENT
BEGIN:VEVENT
DTSTART;TZID=UTC:20241206T170000
DTEND;TZID=UTC:20241206T190000
DTSTAMP:20260421T152513
CREATED:20241204T013640Z
LAST-MODIFIED:20241204T013640Z
UID:10002772-1733504400-1733511600@upbarreview.com
SUMMARY:heights Park - City of Niagara Tree Lighting - Niagara
DESCRIPTION:Free family event for the City of Niagara’s tree lighting at Heights Park in Niagara (behind City Hall). Event starts at 5:00pm with the tree lighting at approximately 5:30pm. Visit with Santa and Mrs. Claus. Enjoy some hot cocoa\, cookies\, chili\, and hot dogs. Take a walk through the Christmas Village!
URL:https://upbarreview.com/event/heights-park-city-of-niagara-tree-lighting-niagara/
LOCATION:Niagara Heights Park\, 1201 Grant Street\, Niagara\, wi\, 54151
CATEGORIES:Ironmountain
END:VEVENT
BEGIN:VEVENT
DTSTART;TZID=UTC:20241206T170000
DTEND;TZID=UTC:20241206T200000
DTSTAMP:20260421T152513
CREATED:20241203T013628Z
LAST-MODIFIED:20241203T013628Z
UID:10002670-1733504400-1733515200@upbarreview.com
SUMMARY:Escanaba Christmas Parade
DESCRIPTION:The Escanaba Christmas Parade will be held Friday\, Dec. 6 on Ludington Street. It will begin at 6 p.m. from the Escanaba City Hall and end at Stephenson Avenue. Santa will be at the parade and again at the Escanaba Marketplace to greet kids after the parade.\nTo register to be in the parade\, go to https://escanabadowntown.com/christmas-parade-registration/\nTo register for Prince and Princess to lead the parade\, go to https://escanabadowntown.com/prince-and-princess…/
URL:https://upbarreview.com/event/escanaba-christmas-parade/
LOCATION:Downtown Escanaba
CATEGORIES:Menominee
END:VEVENT
BEGIN:VEVENT
DTSTART;TZID=UTC:20241206T173000
DTEND;TZID=UTC:20241206T190000
DTSTAMP:20260421T152513
CREATED:20241202T205256Z
LAST-MODIFIED:20241202T205256Z
UID:10002500-1733506200-1733511600@upbarreview.com
SUMMARY:Little River Country Club - Northern Lights Holiday Charity Gala - Marinette
DESCRIPTION:Join us for the “Northern Lights” Holiday Charity Gala organized by the Marinette Menominee Area Chamber Foundation. Proceeds support local scholarships and education workforce initiatives. Guests will have the opportunity to participate in Live and Silent Auctions\, Bucket Raffles\, 50/50 Raffles\, Games\, and more! This event is open to the public. Reservations are $65/per person; tables of 8 are available upon request. To register contact Ellen Grabian at 715.735.6681 or Email at ellen.grabian@mandmchamber.com.
URL:https://upbarreview.com/event/little-river-country-club-northern-lights-holiday-charity-gala-marinette/
LOCATION:Little River Country Club\, N2235 Shore Dr\, Marinette\, WI\, 54143
CATEGORIES:Menominee
END:VEVENT
BEGIN:VEVENT
DTSTART;TZID=UTC:20241206T173000
DTEND;TZID=UTC:20241206T203000
DTSTAMP:20260421T152513
CREATED:20240827T012633Z
LAST-MODIFIED:20240827T012633Z
UID:10001527-1733506200-1733517000@upbarreview.com
SUMMARY:NSRCC BINGO - Pembine
DESCRIPTION:Join us for a fun-filled evening of bingo!Doors open at 5:30pmGames start at 6:00pm\nFood\, drinks\, and daubers will be available for purchase.This event is fun for the whole family! – We look forward to seeing you soon!\nTHIS EVENT HAS FREE WIFI
URL:https://upbarreview.com/event/nsrcc-bingo-pembine/2024-12-06/
LOCATION:NSRCC\, 17112 US-141\, Pembine\, WI\, 54156
CATEGORIES:Menominee
END:VEVENT
BEGIN:VEVENT
DTSTART;TZID=UTC:20241206T190000
DTEND;TZID=UTC:20241206T210000
DTSTAMP:20260421T152513
CREATED:20241204T011007Z
LAST-MODIFIED:20241204T011007Z
UID:10002729-1733511600-1733518800@upbarreview.com
SUMMARY:The Braumart - Warren Millers 75 - Iron Mountain
DESCRIPTION:Hosted by the Pine Mountain Ski Team and Norway High School Ski Team.\nWarren Miller is going big for 75 years! Stacked with unbelievable action and unexpected stories\, Warren Miller’s 75 will bring fans to powder stashes and chutes around the world\, from Canada\, Colorado\, California\, and Utah to Finland\, Japan\, Austria\, and New Jersey. Catch a diverse lineup of snowsports legends\, Olympic hopefuls\, world champions\, X Games stars\, and emerging talents on the big screen this fall\, including snowboarders Shaun White\, Jeremy Jones\, Danny Davis\, and Toby Miller\, plus skiers Max Hitzig\, Lexi duPont\, Caite Zeliff\, Mark Abma\, and Aaron Blunck.\nWith original segments and unique collaborations\, this year’s film will set the tone for the next 75 years of ski and snowboard filmmaking. Get ready for the celebration that is 75.\nTickets are $12 General Admission. Doors open at 6:00 pm\, Screening at 7:00 pm. Proceeds will benefit the Pine Mountain Ski Team and Norway High School Ski Team.
URL:https://upbarreview.com/event/the-braumart-warren-millers-75-iron-mountain/
LOCATION:The Braumart Theatre\, 106 E B St\, Iron Mountain\, MI\, 49801
CATEGORIES:Ironmountain
END:VEVENT
BEGIN:VEVENT
DTSTART;TZID=UTC:20241206T190000
DTEND;TZID=UTC:20241206T213000
DTSTAMP:20260421T152513
CREATED:20241204T010403Z
LAST-MODIFIED:20241204T010403Z
UID:10002725-1733511600-1733520600@upbarreview.com
SUMMARY:Hope Church - Free Community Movie: A Charlie Brown Christmas - Iron Mountain
DESCRIPTION:Join us AFTER the Downtown Iron Mountain Christmas Tree lighting for “A Charlie Brown Christmas” at Hope Church of Iron Mountain!\nWe will have free coffee and Hot Chocolate during the Christmas Walk and Movie screening. \nDowntown Iron Mountain Christmas Walk Event Link:https://www.facebook.com/events/1078191254006229\nContact Anthony Miller at 906-285-4712 or amiller@hopeimt.org for questions or more information.
URL:https://upbarreview.com/event/hope-church-free-community-movie-a-charlie-brown-christmas-iron-mountain/
LOCATION:Hope Church Iron Mountain\, 200 East B St\, Iron Mountain\, MI
CATEGORIES:Ironmountain
END:VEVENT
BEGIN:VEVENT
DTSTART;TZID=UTC:20241206T190000
DTEND;TZID=UTC:20241206T233000
DTSTAMP:20260421T152513
CREATED:20241203T012610Z
LAST-MODIFIED:20241203T012610Z
UID:10002660-1733511600-1733527800@upbarreview.com
SUMMARY:Island Resort & Casino - Melanies Debut w/ 141 North Band - Escanaba
DESCRIPTION:Join us for Melanies debut with the 141 North Band at the Island casino in club 41!
URL:https://upbarreview.com/event/island-resort-casino-melanies-debut-w-141-north-band-escanaba/2024-12-06/
LOCATION:Island Resort & Casino\, W 399 US-2\, Harris\, MI\, 49845\, United States
CATEGORIES:Menominee
END:VEVENT
BEGIN:VEVENT
DTSTART;TZID=UTC:20241206T200000
DTEND;TZID=UTC:20241206T220000
DTSTAMP:20260421T152513
CREATED:20241202T213243Z
LAST-MODIFIED:20241202T213243Z
UID:10002588-1733515200-1733522400@upbarreview.com
SUMMARY:The Lodge - UTL's Comedy Night - Marinette
DESCRIPTION:UTL Entertainment presents: The Odd Throuple Comedy Tour at THE LODGE ON MAIN in Marinette on Friday\, December 6th\, 2024! Featuring A Night of Comedy With The Oddest Collection of Chicago Stand-Up Comedians: James Fisher Jr\, Kevin Kellam\, Tina Youkhana.\n18+ Event\nDoors Open Upstairs/ Cocktail Hour at 7:00pmCOMEDY STARTS 8pm\nTICKETS ONLY AVAILABLE AT THE LODGE ON MAINat 1333 MAIN ST.\, MARINETTE\, WI – (715) 504-2000& Online at www.thelodgeonmain.net\n$20 IN ADVANCE / $25 THE DAY OFRESERVE A TABLE FOR 8 IN ADVANCE FOR $160(Receive a complementary bottle of wine or pitcher of beer when purchasing a table of 8 in advance)ADVANCED TICKET PRICING ENDS THURSDAY NIGHT\, December 5th!Only 80 tickets available!!!!!\nEvent is sponsored in part by:Triple C RidersThe OutbackNerat’s PlumbingThe Marinette InnIntegra First Credit UnionMarinette Holiday Inn Express Sales\n\nHeadliner – James Fisher JrOriginally from Louisville Kentucky\, James Fisher Jr. moved to Chicago and started doing comedy in 2012. Though as an adult\, his biggest comedic influences all came from Boston(Patrice Oneal\, Bill Burr\, Dane cook)\, growing up he loved watching Comic View and In Living Color\, with the Wayans family\, Jim Carrey and Jamie Fox being huge influences from that show. He has performed at some of the top clubs and comedy festivals all over the U.S.\, won several competitions and has featured and opened for Jacob Williams (America’s got talent\, Wild n out)\, Hans Kim (Kill Tony Podcast) and SNL alumni Chris Redd and Tim Meadows. James is an energetic\, funny\, controversial yet personable entertainer who is always ready to have fun with the crowd!\nFeature – Kevin KellamKevin has been performing comedy since he was told to not bring up inappropriate topics at the family dinner as a kid. Due to his unique role on air with 101WKQX Radio in Chicago\, his comedy has been the warm-up act for the biggest names in rock music like Twenty-One Pilots\, Papa Roach\, and many more. He has hosted and produced the web series ‘FOURSTAR STAND UPS’ with JBTV Productions. Kellam is also on-air weekdays for Rockford’s 104.9 ‘The X’ and Springfield’s 97.7 QLZ. He wrote the weekly satirical sketch I.O. Chicago show\, P.I.O.V under former ‘SNL’ head writer Michael McCarthy. In 2019\, Kellam made his Comedians You Should Know debut in Chicago\, one of the most acclaimed independent comedy shows in the United States. In 2020\, Kellam performed socially distant and safe at the Milwaukee Comedy Festival at the Laughing Tap. He also got a joke on the Tonight Show with Jimmy Fallon when we were all stuck inside. Clubs and venues that Kevin has performed at Zanies\, the Laughing Tap (Milwaukee)\, Comedy Shrine\, Helium (Buffalo)\, the Ashbary\, the Market Lounge\, Comedy Bar (Chicago)\, Riddles\, IO Theater\, Beat Kitchen\, Reggie’s\, Schubas\, Subterranean\, Hobart Art Theater\, House of Blues\,Hollywood Casino Amphitheater\, and more.\n\nHost/Opener – Tina YoukhanaTina Youkhana is a Chicago based comedian. She started her stand up comedy journey in 2019. She has performed all over Chicago\, NYC\, and Austin. She touches on topics such as growing up biracial\, differences in cultures\, traveling\, partying\, and sex. Check out her clips on Instagram\, Facebook\, and Youtube!\n\nTo book UTL’s Comedy Night\, UTL Pro Wrestling\, or other entertainment Under The Lights Entertainment provides\, contact Bruno at Leisman62@gmail.com.
URL:https://upbarreview.com/event/the-lodge-utls-comedy-night-marinette/
LOCATION:Ironworks\, 1333 Main St.\, Marinette\, WI\, 54143\, United States
CATEGORIES:Menominee
END:VEVENT
BEGIN:VEVENT
DTSTART;TZID=UTC:20241206T200000
DTEND;TZID=UTC:20241206T220000
DTSTAMP:20260421T152513
CREATED:20241203T001304Z
LAST-MODIFIED:20241203T001304Z
UID:10002592-1733515200-1733522400@upbarreview.com
SUMMARY:The Boulevard - Anthony Lindsey - Daggett
DESCRIPTION:– 8PM Central –\n Get ready for an afternoon of classic country music!\nJoin us for a free event featuring local favorite Anthony Lindsey\, as he brings his old-school country style to the stage! Anthony will be playing a mix of your favorite country hits along with his original music.\nAnthony Lindsey has shared the stage with some incredible talent\, including Macy Nicole\, Ty March\, Sadie Bass\, Igor and The Red Elvises\, and more! Whether he’s delivering heartfelt country covers or showcasing his originals\, this is one performance you won’t want to miss!
URL:https://upbarreview.com/event/the-boulevard-anthony-lindsey-daggett/
LOCATION:The Boulevard\, 117 Railroad Ave\, Daggett\, MI
CATEGORIES:Menominee
END:VEVENT
BEGIN:VEVENT
DTSTART;TZID=UTC:20241206T223000
DTEND;TZID=UTC:20241206T233000
DTSTAMP:20260421T152513
CREATED:20240827T132725Z
LAST-MODIFIED:20240827T132725Z
UID:10001685-1733524200-1733527800@upbarreview.com
SUMMARY:Round 2 - Karaoke Night - Iron Mountain
DESCRIPTION:Friday April 12th! Karaoke night at Round 2\, will start at 10:30pm and go until close.Come sing with us!
URL:https://upbarreview.com/event/round-2-karaoke-night-iron-mountain/2024-12-06/
LOCATION:Round 2\, 407 S Stephenson Ave\, Iron Mountain\, MI\, 49801
CATEGORIES:Ironmountain
END:VEVENT
END:VCALENDAR