BEGIN:VCALENDAR
VERSION:2.0
PRODID:-//UP BAR REVIEW - ECPv6.14.2//NONSGML v1.0//EN
CALSCALE:GREGORIAN
METHOD:PUBLISH
X-WR-CALNAME:UP BAR REVIEW
X-ORIGINAL-URL:https://upbarreview.com
X-WR-CALDESC:Events for UP BAR REVIEW
REFRESH-INTERVAL;VALUE=DURATION:PT1H
X-Robots-Tag:noindex
X-PUBLISHED-TTL:PT1H
BEGIN:VTIMEZONE
TZID:UTC
BEGIN:STANDARD
TZOFFSETFROM:+0000
TZOFFSETTO:+0000
TZNAME:UTC
DTSTART:20240101T000000
END:STANDARD
END:VTIMEZONE
BEGIN:VEVENT
DTSTART;TZID=UTC:20241127T150000
DTEND;TZID=UTC:20241127T200000
DTSTAMP:20260422T041256
CREATED:20241031T190859Z
LAST-MODIFIED:20241031T190859Z
UID:10002452-1732719600-1732737600@upbarreview.com
SUMMARY:Upper Hand Brewery - Thanksgiving Eve Stockup Popup - Escanaba
DESCRIPTION:Last chance to load up on delicious beer before the holiday! Come grab a variety pack\, a twelve-pack\, a six-pack\, or singles. You can also fill up a Crowler to take home with most beers on tap. Stock up now to have fresh beers for the weekend!
URL:https://upbarreview.com/event/upper-hand-brewery-thanksgiving-eve-stockup-popup-escanaba/
LOCATION:Upper Hand Brewery\, 3525 Airport Rd\, Escanaba\, WI\, 49829
CATEGORIES:Menominee
END:VEVENT
BEGIN:VEVENT
DTSTART;TZID=UTC:20241127T160000
DTEND;TZID=UTC:20241127T193000
DTSTAMP:20260422T041256
CREATED:20240827T133046Z
LAST-MODIFIED:20240827T133046Z
UID:10001700-1732723200-1732735800@upbarreview.com
SUMMARY:Knights of Columbus - Bingo Wednesday - Iron Mountain
DESCRIPTION:The Columbus Club operates the hall and hosts Charity Bingo every Wednesday night. \n\nDoors open at 4:00 PM\nBingo Games start at 6:30 PM.\nFood is available for purchase at the hall.\n\nThe Columbus Club uses all proceeds to maintain the building and support the good works of the council.  Bingo is operated under the regulations set by the State of Michigan Charitable Gaming.
URL:https://upbarreview.com/event/knights-of-columbus-bingo-wednesday-iron-mountain/2024-11-27/
LOCATION:Knights of Columbus Kingsford\, 520 West Breitung Ave\, Kingsford\, MI
CATEGORIES:Ironmountain
END:VEVENT
BEGIN:VEVENT
DTSTART;TZID=UTC:20241127T170000
DTEND;TZID=UTC:20241127T190000
DTSTAMP:20260422T041256
CREATED:20241001T164937Z
LAST-MODIFIED:20241001T164937Z
UID:10002033-1732726800-1732734000@upbarreview.com
SUMMARY:Forever Friendship Drop-in Center - Vintage Video Game Night - Kingsford
DESCRIPTION:Step outside your modern box and have a fun flashback to a simpler time. Please bring vintage game consoles and games to share. Goal is to meet people outside our norm but have gaming and mental health similarities.
URL:https://upbarreview.com/event/forever-friendship-drop-in-center-vintage-video-game-night-kingsford/2024-11-27/
LOCATION:Forever Friendship Drop-in Center\, 501 S Carpenter Ave\, Kingsford\, MI
CATEGORIES:Ironmountain
END:VEVENT
BEGIN:VEVENT
DTSTART;TZID=UTC:20241127T180000
DTEND;TZID=UTC:20241127T200000
DTSTAMP:20260422T041256
CREATED:20241029T142050Z
LAST-MODIFIED:20241029T142050Z
UID:10002216-1732730400-1732737600@upbarreview.com
SUMMARY:Irish Greens Golf Course - Josh Berto - Oconto
DESCRIPTION:Playing the usual Acoustic Rock and Country with some more new tunes! Always looking for requests! Come out for a great food\, drinks and a good time! 
URL:https://upbarreview.com/event/irish-greens-golf-course-josh-berto-oconto/
LOCATION:Irish Greens Golf Course\, 2946 Logtown Rd\, Oconto\, WI
CATEGORIES:Menominee
END:VEVENT
BEGIN:VEVENT
DTSTART;TZID=UTC:20241127T190000
DTEND;TZID=UTC:20241127T230000
DTSTAMP:20260422T041256
CREATED:20241029T151504Z
LAST-MODIFIED:20241029T151504Z
UID:10002293-1732734000-1732748400@upbarreview.com
SUMMARY:Cheers Too - Beachfront Avenue - Coleman
DESCRIPTION:It’s the night before Thanksgiving! Let’s have a blast before turkey day!
URL:https://upbarreview.com/event/cheers-too-beachfront-avenue-coleman/
LOCATION:Cheers Too!\, 108 East Main St\, Coleman\, WI
CATEGORIES:Menominee
END:VEVENT
END:VCALENDAR