BEGIN:VCALENDAR
VERSION:2.0
PRODID:-//UP BAR REVIEW - ECPv6.14.2//NONSGML v1.0//EN
CALSCALE:GREGORIAN
METHOD:PUBLISH
X-ORIGINAL-URL:https://upbarreview.com
X-WR-CALDESC:Events for UP BAR REVIEW
REFRESH-INTERVAL;VALUE=DURATION:PT1H
X-Robots-Tag:noindex
X-PUBLISHED-TTL:PT1H
BEGIN:VTIMEZONE
TZID:UTC
BEGIN:STANDARD
TZOFFSETFROM:+0000
TZOFFSETTO:+0000
TZNAME:UTC
DTSTART:20240101T000000
END:STANDARD
END:VTIMEZONE
BEGIN:VEVENT
DTSTART;TZID=UTC:20241119T103000
DTEND;TZID=UTC:20241119T113000
DTSTAMP:20260422T041713
CREATED:20240930T164308Z
LAST-MODIFIED:20240930T164308Z
UID:10001718-1732012200-1732015800@upbarreview.com
SUMMARY:Spies Public Library - Family Coalition Meeting - Menominee
DESCRIPTION:Come join the Great Start Collaborative’s Family Coalition Meetings at Spies Public Library every third tuesday of the month following our Parent/Child Coffee Chats! This group plans events and parent education for our community!
URL:https://upbarreview.com/event/spies-public-library-family-coalition-meeting-menominee/2024-11-19/
LOCATION:Spies Public Library\, 940 1st St.\, Menominee\, MI\, 49858
CATEGORIES:Menominee
END:VEVENT
BEGIN:VEVENT
DTSTART;TZID=UTC:20241119T110000
DTEND;TZID=UTC:20241119T140000
DTSTAMP:20260422T041713
CREATED:20241029T130203Z
LAST-MODIFIED:20241029T130203Z
UID:10002140-1732014000-1732024800@upbarreview.com
SUMMARY:The Craft Cave - Santa Ho Ho - Marinette
DESCRIPTION:Santa is coming to town so come paint your own! Pizza pan size painted for Xmas. It is pictured on a stand but is a hanging piece. Adult class\, BYOB\, cost 25$. Call to pre pay and sign up at 715-587-4643
URL:https://upbarreview.com/event/the-craft-cave-santa-ho-ho-marinette-2/
LOCATION:The Craft Cave\, 605 Main St.\, Marinette\, WI\, 54143\, United States
CATEGORIES:Menominee
END:VEVENT
BEGIN:VEVENT
DTSTART;TZID=UTC:20241119T120000
DTEND;TZID=UTC:20241119T193000
DTSTAMP:20260422T041713
CREATED:20241030T021353Z
LAST-MODIFIED:20241030T021353Z
UID:10002395-1732017600-1732044600@upbarreview.com
SUMMARY:Oak Crest Golf Course - Tuesday Mexican Nights - Norway
DESCRIPTION:It’s back by popular demand. Featuring items such as; tacos\, tostadas\, chimichangas\, taco salad\, quesadillas\, nachos\, and burritos. We will have some Mexican beers to wash it all down. Hope to see you
URL:https://upbarreview.com/event/oak-crest-golf-course-tuesday-mexican-nights-norway-2/2024-11-19/
LOCATION:Oak Crest Golf Course\, N1475 US-8\, Norway\, MI\, 49870
CATEGORIES:Ironmountain
END:VEVENT
BEGIN:VEVENT
DTSTART;TZID=UTC:20241119T153000
DTEND;TZID=UTC:20241119T170000
DTSTAMP:20260422T041713
CREATED:20241030T022850Z
LAST-MODIFIED:20241030T022901Z
UID:10002422-1732030200-1732035600@upbarreview.com
SUMMARY:Niagara Public Library - Mindful Journaling - Niagara
DESCRIPTION:Take a break and unwind with Mindful Journaling at Niagara Public Library! As part 3 of our No-Stress November series\, this session will guide you through reflective writing exercises designed to promote relaxation and self awareness. No experience necessary — just bring an open mind!
URL:https://upbarreview.com/event/niagara-public-library-mindful-journaling-niagara/
LOCATION:Niagara Public Library\, 1029 Roosevelt Rd\, Niagara\, WI\, 54151
CATEGORIES:Ironmountain
END:VEVENT
BEGIN:VEVENT
DTSTART;TZID=UTC:20241119T170000
DTEND;TZID=UTC:20241119T180000
DTSTAMP:20260422T041713
CREATED:20241001T161107Z
LAST-MODIFIED:20241001T161107Z
UID:10001988-1732035600-1732039200@upbarreview.com
SUMMARY:VA Medical Center - Journey to Wellbriety Recovery Group - Iron Mountain
DESCRIPTION:Tuesdays at 5:00 p.m. CTOscar G. Johnson VAMC325 E H Street\, Iron Mountain\, MIRoom 2378 (2nd floor)\nQuestions may be directed to AJ Osickey at 906-774-3300 ext. 32776\nThis is a traditional recovery group for various forms of addiction and traumas. It is based upon spirituality teachings of the Native Peoples.
URL:https://upbarreview.com/event/va-medical-center-journey-to-wellbriety-recovery-group-iron-mountain/2024-11-19/
LOCATION:Iron Mountain VA Medical Center\, 325 E H St\, Iron Mountain\, MI\, 49801
CATEGORIES:Ironmountain
END:VEVENT
BEGIN:VEVENT
DTSTART;TZID=UTC:20241119T170000
DTEND;TZID=UTC:20241119T180000
DTSTAMP:20260422T041713
CREATED:20241029T122626Z
LAST-MODIFIED:20241029T122641Z
UID:10002093-1732035600-1732039200@upbarreview.com
SUMMARY:Spies Library - Cooking Class w/ Chef Ming - Menominee
DESCRIPTION:For families and kiddos – space is limited – please call the library to register for this free event! Participants will receive a tutorial plus assistance creating a dish\, with tasting available at the end. On the menu: egg rolls! All supplies will be provided.Generously sponsored by the Marcie Peters Fund\, with special thanks to Kim and Bruce Peters.
URL:https://upbarreview.com/event/spies-library-cooking-class-w-chef-ming-menominee/
LOCATION:Spies Public Library\, 940 1st St.\, Menominee\, MI\, 49858
CATEGORIES:Menominee
END:VEVENT
BEGIN:VEVENT
DTSTART;TZID=UTC:20241119T170000
DTEND;TZID=UTC:20241119T190000
DTSTAMP:20260422T041713
CREATED:20241001T164634Z
LAST-MODIFIED:20241001T164634Z
UID:10002019-1732035600-1732042800@upbarreview.com
SUMMARY:Forever Friendship Drop-in Center - Mindfulness\, Meditation\, & Mandalas - Kingsford
DESCRIPTION:Try an alternative to most mental health treatment by focusing on your imagination and creative skills to make functional art project.Each week the Peer Support will lead the group in an art project directly linked to a coping skill. All supplies are included. We do encourage independence\, but keep group work available.Our goal throughout the process is to practice mindfulness skills\, listen to meditation music\, and be surrounded by like-minded individuals.
URL:https://upbarreview.com/event/forever-friendship-drop-in-center-mindfulness-meditation-mandalas-kingsford/2024-11-19/
LOCATION:Forever Friendship Drop-in Center\, 501 S Carpenter Ave\, Kingsford\, MI
CATEGORIES:Ironmountain
END:VEVENT
BEGIN:VEVENT
DTSTART;TZID=UTC:20241119T170000
DTEND;TZID=UTC:20241119T200000
DTSTAMP:20260422T041713
CREATED:20241029T131610Z
LAST-MODIFIED:20241029T131610Z
UID:10002155-1732035600-1732046400@upbarreview.com
SUMMARY:Biehl Bridges to Recovery - All Recovery Meeting - Marinette
DESCRIPTION:This is a meeting for anyone in recovery to talk about Recovery!
URL:https://upbarreview.com/event/biehl-bridges-to-recovery-all-recovery-meeting-marinette/2024-11-19/
LOCATION:Biehl Bridge To Recovery\, 3123 Shore Dr\, Marinette\, WI\, 54143
CATEGORIES:Menominee
END:VEVENT
BEGIN:VEVENT
DTSTART;TZID=UTC:20241119T170000
DTEND;TZID=UTC:20241119T200000
DTSTAMP:20260422T041713
CREATED:20241030T022708Z
LAST-MODIFIED:20241030T022708Z
UID:10002420-1732035600-1732046400@upbarreview.com
SUMMARY:Cedars Edge Wine & Gifts - Wine\, Women\, & Wellness - Niagara
DESCRIPTION:An event focused on women’s health\, featuring Dr. Laura Steber discussing topics such as hormonal imbalances\, PCOS\, endometriosis\, uterine fibroids\, infertility\, menopause\, and thyroid issues. Attendees are encouraged to bring friends and relax with refreshments while learning about important health topics
URL:https://upbarreview.com/event/cedars-edge-wine-gifts-wine-women-wellness-niagara/
LOCATION:Cedars Edge Wine & Gifts\, W6014 Chapman Rd\, Niagara\, WI\, 54151
CATEGORIES:Ironmountain
END:VEVENT
END:VCALENDAR