BEGIN:VCALENDAR
VERSION:2.0
PRODID:-//UP BAR REVIEW - ECPv6.14.2//NONSGML v1.0//EN
CALSCALE:GREGORIAN
METHOD:PUBLISH
X-ORIGINAL-URL:https://upbarreview.com
X-WR-CALDESC:Events for UP BAR REVIEW
REFRESH-INTERVAL;VALUE=DURATION:PT1H
X-Robots-Tag:noindex
X-PUBLISHED-TTL:PT1H
BEGIN:VTIMEZONE
TZID:UTC
BEGIN:STANDARD
TZOFFSETFROM:+0000
TZOFFSETTO:+0000
TZNAME:UTC
DTSTART:20240101T000000
END:STANDARD
END:VTIMEZONE
BEGIN:VEVENT
DTSTART;TZID=UTC:20241112T110000
DTEND;TZID=UTC:20241112T140000
DTSTAMP:20260422T041723
CREATED:20241029T131729Z
LAST-MODIFIED:20241029T131729Z
UID:10002174-1731409200-1731420000@upbarreview.com
SUMMARY:The Craft Cave - Exploding Canvas - Marinette
DESCRIPTION:Santa is ready to go ! Make your canvas and decorate for Christmas. You will have choice of Santa or Snowmen. BYOB\, Cost 20$. Call to pre pay and sign up at 715-587-4643
URL:https://upbarreview.com/event/the-craft-cave-exploding-canvas-marinette-4/
LOCATION:The Craft Cave\, 605 Main St.\, Marinette\, WI\, 54143\, United States
CATEGORIES:Menominee
END:VEVENT
BEGIN:VEVENT
DTSTART;TZID=UTC:20241112T120000
DTEND;TZID=UTC:20241112T193000
DTSTAMP:20260422T041723
CREATED:20241030T021353Z
LAST-MODIFIED:20241030T021353Z
UID:10002394-1731412800-1731439800@upbarreview.com
SUMMARY:Oak Crest Golf Course - Tuesday Mexican Nights - Norway
DESCRIPTION:It’s back by popular demand. Featuring items such as; tacos\, tostadas\, chimichangas\, taco salad\, quesadillas\, nachos\, and burritos. We will have some Mexican beers to wash it all down. Hope to see you
URL:https://upbarreview.com/event/oak-crest-golf-course-tuesday-mexican-nights-norway-2/2024-11-12/
LOCATION:Oak Crest Golf Course\, N1475 US-8\, Norway\, MI\, 49870
CATEGORIES:Ironmountain
END:VEVENT
BEGIN:VEVENT
DTSTART;TZID=UTC:20241112T140000
DTEND;TZID=UTC:20241112T150000
DTSTAMP:20260422T041723
CREATED:20241030T013611Z
LAST-MODIFIED:20241030T013611Z
UID:10002352-1731420000-1731423600@upbarreview.com
SUMMARY:Dickinson County Library - Main Branch Book Club -Iron Mountain
DESCRIPTION:Adults are invited to discuss the Michigan Notable Book\, “The Waters” by Bonnie Jo Campbell. New members are always welcome.
URL:https://upbarreview.com/event/dickinson-county-library-main-branch-book-club-iron-mountain/
LOCATION:Dickinson County Library\, 401 Iron Mountain St\, Iron Mountain\, MI\, 49801
CATEGORIES:Ironmountain
END:VEVENT
BEGIN:VEVENT
DTSTART;TZID=UTC:20241112T153000
DTEND;TZID=UTC:20241112T173000
DTSTAMP:20260422T041723
CREATED:20241030T022557Z
LAST-MODIFIED:20241030T022557Z
UID:10002419-1731425400-1731432600@upbarreview.com
SUMMARY:Niagara Public Library - Zentangle Basics - Niagara
DESCRIPTION:Join us for Zentangle Basics at Niagara Public Library! Learn this easy\, relaxing drawing method while exploring mindfulness and stress relief. No experience needed — just bring yourself and enjoy a calming\, creative experience. Adults & teens
URL:https://upbarreview.com/event/niagara-public-library-zentangle-basics-niagara/
LOCATION:Niagara Public Library\, 1029 Roosevelt Rd\, Niagara\, WI\, 54151
CATEGORIES:Ironmountain
END:VEVENT
BEGIN:VEVENT
DTSTART;TZID=UTC:20241112T170000
DTEND;TZID=UTC:20241112T180000
DTSTAMP:20260422T041723
CREATED:20241001T161107Z
LAST-MODIFIED:20241001T161107Z
UID:10001987-1731430800-1731434400@upbarreview.com
SUMMARY:VA Medical Center - Journey to Wellbriety Recovery Group - Iron Mountain
DESCRIPTION:Tuesdays at 5:00 p.m. CTOscar G. Johnson VAMC325 E H Street\, Iron Mountain\, MIRoom 2378 (2nd floor)\nQuestions may be directed to AJ Osickey at 906-774-3300 ext. 32776\nThis is a traditional recovery group for various forms of addiction and traumas. It is based upon spirituality teachings of the Native Peoples.
URL:https://upbarreview.com/event/va-medical-center-journey-to-wellbriety-recovery-group-iron-mountain/2024-11-12/
LOCATION:Iron Mountain VA Medical Center\, 325 E H St\, Iron Mountain\, MI\, 49801
CATEGORIES:Ironmountain
END:VEVENT
BEGIN:VEVENT
DTSTART;TZID=UTC:20241112T170000
DTEND;TZID=UTC:20241112T183000
DTSTAMP:20260422T041723
CREATED:20240729T153505Z
LAST-MODIFIED:20240729T153505Z
UID:10001364-1731430800-1731436200@upbarreview.com
SUMMARY:Redemption Riders Monthly Meeting
DESCRIPTION:5:00 pm – Bible Study (optional)5:30 pm – Dinner (optional)6:30 pm – Meeting(all times are central standard time)
URL:https://upbarreview.com/event/redemption-riders-monthly-meeting/2024-11-12/
LOCATION:Pizza Hut\, 1780 S Stephenson Ave\, Iron Mountain\, MI\, 49801
CATEGORIES:Ironmountain
END:VEVENT
BEGIN:VEVENT
DTSTART;TZID=UTC:20241112T170000
DTEND;TZID=UTC:20241112T190000
DTSTAMP:20260422T041723
CREATED:20241001T164634Z
LAST-MODIFIED:20241001T164634Z
UID:10002018-1731430800-1731438000@upbarreview.com
SUMMARY:Forever Friendship Drop-in Center - Mindfulness\, Meditation\, & Mandalas - Kingsford
DESCRIPTION:Try an alternative to most mental health treatment by focusing on your imagination and creative skills to make functional art project.Each week the Peer Support will lead the group in an art project directly linked to a coping skill. All supplies are included. We do encourage independence\, but keep group work available.Our goal throughout the process is to practice mindfulness skills\, listen to meditation music\, and be surrounded by like-minded individuals.
URL:https://upbarreview.com/event/forever-friendship-drop-in-center-mindfulness-meditation-mandalas-kingsford/2024-11-12/
LOCATION:Forever Friendship Drop-in Center\, 501 S Carpenter Ave\, Kingsford\, MI
CATEGORIES:Ironmountain
END:VEVENT
BEGIN:VEVENT
DTSTART;TZID=UTC:20241112T170000
DTEND;TZID=UTC:20241112T200000
DTSTAMP:20260422T041723
CREATED:20241029T131610Z
LAST-MODIFIED:20241029T131610Z
UID:10002154-1731430800-1731441600@upbarreview.com
SUMMARY:Biehl Bridges to Recovery - All Recovery Meeting - Marinette
DESCRIPTION:This is a meeting for anyone in recovery to talk about Recovery!
URL:https://upbarreview.com/event/biehl-bridges-to-recovery-all-recovery-meeting-marinette/2024-11-12/
LOCATION:Biehl Bridge To Recovery\, 3123 Shore Dr\, Marinette\, WI\, 54143
CATEGORIES:Menominee
END:VEVENT
BEGIN:VEVENT
DTSTART;TZID=UTC:20241112T173000
DTEND;TZID=UTC:20241112T190000
DTSTAMP:20260422T041723
CREATED:20241030T012234Z
LAST-MODIFIED:20241030T012234Z
UID:10002342-1731432600-1731438000@upbarreview.com
SUMMARY:151 Thai Bistro - Nov 2024 GNO - Iron Mountain
DESCRIPTION:As a reminder this is for ANY LADIES over the age of 18. It is ALWAYS the 2nd Tuesday of each month at 5:30. Only the location changes so if you’re unsure where it is just reach out to any one of us to ask. Feel free to join for just a drink\, appetizer\, dinner or best of all – dessert and don’t forget to bring a friend along.
URL:https://upbarreview.com/event/151-thai-bistro-nov-2024-gno-iron-mountain/
LOCATION:151 Thai Bistro\, 607 S Stephenson Ave\, Iron Mountain\, MI
CATEGORIES:Ironmountain
END:VEVENT
BEGIN:VEVENT
DTSTART;TZID=UTC:20241112T180000
DTEND;TZID=UTC:20241112T190000
DTSTAMP:20260422T041723
CREATED:20241030T014016Z
LAST-MODIFIED:20241030T014016Z
UID:10002355-1731434400-1731438000@upbarreview.com
SUMMARY:Dickinson County Library - Write On! - Iron Mountain
DESCRIPTION:Adults and teens are invited to join this writer’s group that focuses on providing an encouraging and supportive space for all types of writers. This month participants will celebrate in National Novel Writing Month (NaNoWriMo)! NaNoWriMo inspired prompts will be shared\, or attendees may choose to work on their own projects. No registration required.
URL:https://upbarreview.com/event/dickinson-county-library-write-on-iron-mountain/
LOCATION:Dickinson County Library\, 401 Iron Mountain St\, Iron Mountain\, MI\, 49801
CATEGORIES:Ironmountain
END:VEVENT
BEGIN:VEVENT
DTSTART;TZID=UTC:20241112T180000
DTEND;TZID=UTC:20241112T200000
DTSTAMP:20260422T041723
CREATED:20241029T123825Z
LAST-MODIFIED:20241029T123825Z
UID:10002114-1731434400-1731441600@upbarreview.com
SUMMARY:Small Business Meeting - November Network Meeting
DESCRIPTION:You are INVITED to Join us for the November Networking Meeting on Tuesday November 12th from 6p-8p at our November Venue- The Cottages at Lake Park Senior Living in Marinette\, WI. In addition we will have our Featured Topic to discuss as a group.\nANY & ALL Local Small Business Owners and/or Managers are INVITED. Learn more about our November Venue and engage in a group discussion with our Featured Topic for November. Followed by some good old fashion networking with a fun group of businesses. This is a Casual Meeting and you truly are only a stranger once with our group.
URL:https://upbarreview.com/event/small-business-meeting-november-network-meeting/
LOCATION:The Cottages\, 2006 Lake Park Dr\, Marinette\, WI
CATEGORIES:Menominee
END:VEVENT
END:VCALENDAR