BEGIN:VCALENDAR
VERSION:2.0
PRODID:-//UP BAR REVIEW - ECPv6.14.2//NONSGML v1.0//EN
CALSCALE:GREGORIAN
METHOD:PUBLISH
X-WR-CALNAME:UP BAR REVIEW
X-ORIGINAL-URL:https://upbarreview.com
X-WR-CALDESC:Events for UP BAR REVIEW
REFRESH-INTERVAL;VALUE=DURATION:PT1H
X-Robots-Tag:noindex
X-PUBLISHED-TTL:PT1H
BEGIN:VTIMEZONE
TZID:UTC
BEGIN:STANDARD
TZOFFSETFROM:+0000
TZOFFSETTO:+0000
TZNAME:UTC
DTSTART:20240101T000000
END:STANDARD
END:VTIMEZONE
BEGIN:VEVENT
DTSTART;TZID=UTC:20241108T080000
DTEND;TZID=UTC:20241108T090000
DTSTAMP:20260422T040340
CREATED:20241029T200811Z
LAST-MODIFIED:20241029T200811Z
UID:10002304-1731052800-1731056400@upbarreview.com
SUMMARY:NSRCC - Beginner Yoga - Pembine
DESCRIPTION:Join us for our beginner yoga class! Never tried yoga before? That’s okay! Learn about what yoga is and how it helps your body. If you have any questions\, contact your trainer\, Brenda Rosenstiel: (920) 327-9981 or brosenstiel@nsrccwi.com\nWe hope to see you there!
URL:https://upbarreview.com/event/nsrcc-beginner-yoga-pembine/2024-11-08/
LOCATION:NSRCC\, 17112 US-141\, Pembine\, WI\, 54156
CATEGORIES:Menominee
END:VEVENT
BEGIN:VEVENT
DTSTART;TZID=UTC:20241108T090000
DTEND;TZID=UTC:20241108T150000
DTSTAMP:20260422T040340
CREATED:20241030T010705Z
LAST-MODIFIED:20241030T010705Z
UID:10002337-1731056400-1731078000@upbarreview.com
SUMMARY:Extraordinary Interiors of Iron Mountain - Holiday Open House
DESCRIPTION:We are celebrating our 37th Annual Open House November 7-9\, 2024! 20% off storewide\, special pricing on furniture\, 40% off fall decor\, and 75% off discount room items. There will be refreshments and sign ups for drawings.
URL:https://upbarreview.com/event/extraordinary-interiors-of-iron-mountain-holiday-open-house/2024-11-08/
LOCATION:Extraordinary Interiors of Iron Mountain\, 101 E Ludington St\, Iron Mountain\, MI
CATEGORIES:Ironmountain
END:VEVENT
BEGIN:VEVENT
DTSTART;TZID=UTC:20241108T130000
DTEND;TZID=UTC:20241108T160000
DTSTAMP:20260422T040340
CREATED:20241030T023423Z
LAST-MODIFIED:20241030T023449Z
UID:10002428-1731070800-1731081600@upbarreview.com
SUMMARY:Forever Friendship Drop-in Center - Lego Building Group - Kingsford
DESCRIPTION:Come join other adults you enjoy using their creativity in building and creating their own designs. We have a variety of Lego colors\, parts\, people and accessories to make your creation come to life. If free creation isn’t your style\, we also have variety of kits available for assembly. Building is more fun with others!
URL:https://upbarreview.com/event/forever-friendship-drop-in-center-lego-building-group-kingsford/2024-11-08/
LOCATION:Forever Friendship Drop-in Center\, 501 S Carpenter Ave\, Kingsford\, MI
CATEGORIES:Ironmountain
END:VEVENT
BEGIN:VEVENT
DTSTART;TZID=UTC:20241108T170000
DTEND;TZID=UTC:20241108T190000
DTSTAMP:20260422T040340
CREATED:20240930T182458Z
LAST-MODIFIED:20240930T182458Z
UID:10001763-1731085200-1731092400@upbarreview.com
SUMMARY:Spirit House - Sourdough Class - Menominee
DESCRIPTION:Learn all about Sourdough! We will discuss how to make your own starter and how to maintain it for years to come. We will go through the artisan loaf recipe step by step. There is also a hands on portion to learn how to shape the dough before fermentation.This class is a lot of fun! You get a starter to take home as well as a mini loaf and multiple recipes.\nPayments can be made with Venmo\, Paypal and Apple Pay
URL:https://upbarreview.com/event/spirit-house-sourdough-class-menominee/
LOCATION:Spirit House\, 533 10th Ave\, Menominee\, MI 49858\, Menominee\, MI\, 49858\, United States
CATEGORIES:Menominee
END:VEVENT
BEGIN:VEVENT
DTSTART;TZID=UTC:20241108T170000
DTEND;TZID=UTC:20241108T210000
DTSTAMP:20260422T040340
CREATED:20241029T123448Z
LAST-MODIFIED:20241029T123448Z
UID:10002111-1731085200-1731099600@upbarreview.com
SUMMARY:Three Bridges Brewing Company - Pierogi Rig - Menominee
DESCRIPTION: Pierogi Rig is rolling into Three Bridges Brewing Company! Join us for some incredible brews and your favorite pierogi flavors. Perfect pairing\, great vibes—see you there! 
URL:https://upbarreview.com/event/three-bridges-brewing-company-pierogi-rig-menominee/
LOCATION:Three Bridge Brewing Company\, 2221 13th St\, Menominee\, MI\, 49858\, United States
CATEGORIES:Menominee
END:VEVENT
BEGIN:VEVENT
DTSTART;TZID=UTC:20241108T170000
DTEND;TZID=UTC:20241108T210000
DTSTAMP:20260422T040340
CREATED:20241030T013012Z
LAST-MODIFIED:20241030T013012Z
UID:10002348-1731085200-1731099600@upbarreview.com
SUMMARY:Bored Bard Games - Magic The Gathering Pre-release Night - Iron Mountain
DESCRIPTION:Event: Magic: The Gathering Foundations Pre-Release Night\nDate: Friday\, November 8thTime: 5-9pm (Arrive early for check-in)Entry Fee: $29.99 + tax\nGet ready for an epic night of Magic as we celebrate the release of Magic: The Gathering Foundations! Each participant will receive a pre-release kit that includes:\n6 Foundations Play Boosters1 Traditional Foil Rare/Mythic (with year stamp)1 Magic: The Gathering Arena code cardA Spindown life counterPlayers will battle it out in three Swiss rounds (best of 3 games)\, and winners of each round will receive an additional booster pack! Don’t miss your chance to be part of this exciting release!
URL:https://upbarreview.com/event/bored-bard-games-magic-the-gathering-pre-release-night-iron-mountain/
LOCATION:Bored Bard Games\, 224 E Hughitt St\, Iron Mountain\, mi\, 49801
CATEGORIES:Ironmountain
END:VEVENT
BEGIN:VEVENT
DTSTART;TZID=UTC:20241108T173000
DTEND;TZID=UTC:20241108T203000
DTSTAMP:20260422T040340
CREATED:20240827T012633Z
LAST-MODIFIED:20240827T012633Z
UID:10001523-1731087000-1731097800@upbarreview.com
SUMMARY:NSRCC BINGO - Pembine
DESCRIPTION:Join us for a fun-filled evening of bingo!Doors open at 5:30pmGames start at 6:00pm\nFood\, drinks\, and daubers will be available for purchase.This event is fun for the whole family! – We look forward to seeing you soon!\nTHIS EVENT HAS FREE WIFI
URL:https://upbarreview.com/event/nsrcc-bingo-pembine/2024-11-08/
LOCATION:NSRCC\, 17112 US-141\, Pembine\, WI\, 54156
CATEGORIES:Menominee
END:VEVENT
BEGIN:VEVENT
DTSTART;TZID=UTC:20241108T173000
DTEND;TZID=UTC:20241108T203000
DTSTAMP:20260422T040340
CREATED:20241029T134337Z
LAST-MODIFIED:20241029T134337Z
UID:10002195-1731087000-1731097800@upbarreview.com
SUMMARY:Grace Lutheran Church - Food & Faith - Crivitz
DESCRIPTION:Food and faith night will be the second Friday of each month!\nPotluck dinner will begin at 5:30 p.m. Please bring a dish to pass.\nWe will have a 15-20 minute Bible study following dinner around 6 p.m.\nThis month\, our activity following Bible study will be a group art project! We will work to paint an art mural of our Grace Lutheran logo to hang up in the downstairs of our church.\nFood and faith is an opportunity for food\, time in God’s Word and spending time together. All are welcome to come. There is a sign-up sheet in the entry-way at church to attend.
URL:https://upbarreview.com/event/grace-lutheran-church-food-faith-crivitz-2/2024-11-08/
LOCATION:Grace Lutheran Church\, 716 Henriette Ave\, Crivitz\, WI\, 54114
CATEGORIES:Menominee
END:VEVENT
BEGIN:VEVENT
DTSTART;TZID=UTC:20241108T180000
DTEND;TZID=UTC:20241108T193000
DTSTAMP:20260422T040340
CREATED:20241029T125752Z
LAST-MODIFIED:20241029T125752Z
UID:10002135-1731088800-1731094200@upbarreview.com
SUMMARY:Game Knights - Magic the Gathering Foundations Prerelease - Marinette
DESCRIPTION:Magic the Gathering: Foundations prerelease.Nov 8th at 6 p.m.Nov 9th at 2 p.m.
URL:https://upbarreview.com/event/game-knights-magic-the-gathering-foundations-prerelease-marinette/2024-11-08/
LOCATION:Game Knights\, 2035 Marinette Ave\, Marinette\, WI\, 54143
CATEGORIES:Menominee
END:VEVENT
BEGIN:VEVENT
DTSTART;TZID=UTC:20241108T180000
DTEND;TZID=UTC:20241108T200000
DTSTAMP:20260422T040340
CREATED:20241016T013024Z
LAST-MODIFIED:20241029T121816Z
UID:10002086-1731088800-1731096000@upbarreview.com
SUMMARY:Enjoy Gifts & Gathering - Painting Class - Marinette
DESCRIPTION:Painting Class every 2nd Friday of each month
URL:https://upbarreview.com/event/enjoy-gifts-gathering-live-music-marinette-2/2024-11-08/
LOCATION:EnJoy Gifts & Gathering\, 1713 Main St\, Marinette\, WI\, 54143
CATEGORIES:Menominee
END:VEVENT
BEGIN:VEVENT
DTSTART;TZID=UTC:20241108T190000
DTEND;TZID=UTC:20241108T210000
DTSTAMP:20260422T040340
CREATED:20241029T124639Z
LAST-MODIFIED:20241029T124639Z
UID:10002124-1731092400-1731099600@upbarreview.com
SUMMARY:Bayshore Arts Center - RENT - Marinette
DESCRIPTION:RENT\, by Jonathan Larson\nCo-Produced by Coastal Players & Theatre on the Bay\nBased on Giacomo Puccini’s La Boheme\, Rent is a rock opera that tells the story of 8 friends’ need for connection in a world that has thrown them away. Set in the East Village of NYC at the height of the Aids Epidemic\, this group of artists and musicians experience desperation\, loneliness\, loss\, lust\, and love all while coping with survival. Together they discover how to fight for liberation when a win doesn’t seem possible.\nTickets are ON SALE NOW!\nNovember 1\, 2\, 8 & 9 at 7pNovember 3 & 10 at 2p\nBuy Online: https://ticketstar.evenue.net/events/UWGBMC\nBuy Over the Phone: 715-504-3351 (please leave a message if you get no answer. All messages will be returned)\nBuy at the Box Office: Box Office opens 45 minutes before show time (Please note that we are CASHLESS for all ticket sales)\nThis production is Rated R and contains mature themes\, scenes of intimacy\, drug use and coarse language. Parental guidance is advised. RENT is presented through special arrangement with Music Theatre International (MTI). All authorized performance materials are also supplied by MTI.
URL:https://upbarreview.com/event/bayshore-arts-center-rent-marinette/2024-11-08/
LOCATION:Bayshore Arts Center\, 750 W Bay Shore St\, Marinette\, WI\, 54143
CATEGORIES:Menominee
END:VEVENT
BEGIN:VEVENT
DTSTART;TZID=UTC:20241108T190000
DTEND;TZID=UTC:20241108T210000
DTSTAMP:20260422T040340
CREATED:20241030T140937Z
LAST-MODIFIED:20241030T140937Z
UID:10002445-1731092400-1731099600@upbarreview.com
SUMMARY:Spirit House - Salsa Class - Menominee
DESCRIPTION:Class 7-8pmDance party 8pm on…
URL:https://upbarreview.com/event/spirit-house-salsa-class-menominee/
LOCATION:Spirit House\, 533 10th Ave\, Menominee\, MI 49858\, Menominee\, MI\, 49858\, United States
CATEGORIES:Menominee
END:VEVENT
BEGIN:VEVENT
DTSTART;TZID=UTC:20241108T200000
DTEND;TZID=UTC:20241108T220000
DTSTAMP:20260422T040340
CREATED:20241030T012901Z
LAST-MODIFIED:20241030T012901Z
UID:10002347-1731096000-1731103200@upbarreview.com
SUMMARY:Pine Mountain Ski & Golf Resort - Midwest Comedy Tour - Iron Mountain
DESCRIPTION:The Midwest Comedy Tour returns to Pine Mountain Resort ! Come enjoy a night of laughter with a uniquely Midwest lineup! Call or email 906-774-2747 / FSSM@pyramidglobal.com for ticket information!\n7:00 PM Bar & Doors Open\n8:00 PM Showtime\nTickets $25 – Ages 21+
URL:https://upbarreview.com/event/pine-mountain-ski-golf-resort-midwest-comedy-tour-iron-mountain/
LOCATION:Pine Mountain Ski & Golf Resort\, N3332 Pine Mountain Rd\, Iron Mountain\, MI\, 49801\, United States
CATEGORIES:Ironmountain
END:VEVENT
BEGIN:VEVENT
DTSTART;TZID=UTC:20241108T200000
DTEND;TZID=UTC:20241108T223000
DTSTAMP:20260422T040340
CREATED:20241030T005025Z
LAST-MODIFIED:20241030T005025Z
UID:10002326-1731096000-1731105000@upbarreview.com
SUMMARY:Pine Mountain Ski & Golf Resort - Comedy! - Iron Mountain
DESCRIPTION:The Midwest Comedy Tour is thrilled to return to Pine Mountain! Join us for an evening of stand-up\, topped off with our signature blend of improv. We have lots of fun in store!\nShows are Friday and Saturday night\, November 8 and 9. Showtimes 8 pm both nights!\nPine Mountain and the Midwest Comedy Tour are proud to honor all who served by providing free tickets to all military veterans on Saturday night. Thank you for your service!\nFor tickets\, call 906-774-2747 / email FSSM@pyramidglobal.com\nFriday\, 11/8 and Saturday\, 11/97:00 PM Bar & Doors Open8:00 PM Showtime21+ (adult content and language)
URL:https://upbarreview.com/event/pine-mountain-ski-golf-resort-comedy-iron-mountain/
LOCATION:Pine Mountain Ski & Golf Resort\, N3332 Pine Mountain Rd\, Iron Mountain\, MI\, 49801\, United States
CATEGORIES:Ironmountain
END:VEVENT
BEGIN:VEVENT
DTSTART;TZID=UTC:20241108T200000
DTEND;TZID=UTC:20241108T230000
DTSTAMP:20260422T040340
CREATED:20240626T193449Z
LAST-MODIFIED:20240626T193449Z
UID:10000848-1731096000-1731106800@upbarreview.com
SUMMARY:Island Resort & Casino - Warrant - Harris
DESCRIPTION:At its core\, WARRANT is an American rock band through and through. Hitting it big in 1989\, the Hollywood\, CA based band rose through the ranks of the local Sunset Strip scene to the level of multiplatinum selling\, chart-topping success. The band first came into the national spotlight with their debut album Dirty Rotten Filthy Stinking Rich. This album produced Radio and MTV chart toppers “Down Boys\,” “Sometimes She Cries\,” and the massive hit “Heaven” which enjoyed Gold sales and the Album went Platinum in Canada as well\, eventually selling over 3 million copies.\nWARRANT’s sophomore album Cherry Pie was released in September 1990. This album\, which spawned the MTV & Radio hits “Cherry Pie\,” “Uncle Tom’s Cabin\,” and “I Saw Red\,” all reached the Top 10 in the United States and went on to sell 3 million copies\, reaching Platinum sales in Canada and Australia.\nWARRANT’s signature style of rock music is very catchy and yet very melodic and remains the band’s signature sound today. In September 2008\, Robert Mason replaced Jani Lane (RIP) as lead vocalist joining the other four original members\, Jerry Dixon\, Steven Sweet\, Joey Allen and Erik Turner. Their current album Louder Harder Faster\, released on Frontiers Records\, has been highly regarded in reviews and embraced by fans
URL:https://upbarreview.com/event/island-resort-casino-warrant-harris/2024-11-08/
LOCATION:Island Resort & Casino\, W 399 US-2\, Harris\, MI\, 49845\, United States
CATEGORIES:Menominee
END:VEVENT
BEGIN:VEVENT
DTSTART;TZID=UTC:20241108T200000
DTEND;TZID=UTC:20241108T233000
DTSTAMP:20260422T040340
CREATED:20241029T151608Z
LAST-MODIFIED:20241029T151608Z
UID:10002294-1731096000-1731108600@upbarreview.com
SUMMARY:Equity Hall - Heart to Heartbreaker
DESCRIPTION:The Heart / Pat Benatar Experience\nPrimarily featuring the music of Heart & Pat Benatar\, Heart to HeartBreaker captures the sights and sounds of women that changed the Rock & Roll status quo!\nTickets are $25.00 per personAdvance tickets are on sale now at the following locations:– George Webb in Peshtigo– Schooner Pub in Menominee– Gateway Bar in Crivitz– Katie’s Subs in Pound– The Last Stop in Marinette– Ray’s Boneyard in Lena– Cheers Too in Coleman– Crivello’s in Oconto– EQUITY Hall in PoundFor more info on Ticket Sales and Reserved Seating\, Call or Text 920-510-4298
URL:https://upbarreview.com/event/equity-hall-heart-to-heartbreaker/
LOCATION:Equity Hall\, W7403 WI-64\, Pound\, WI\, 54161\, United States
CATEGORIES:Menominee
END:VEVENT
BEGIN:VEVENT
DTSTART;TZID=UTC:20241108T223000
DTEND;TZID=UTC:20241108T233000
DTSTAMP:20260422T040340
CREATED:20240827T132725Z
LAST-MODIFIED:20240827T132725Z
UID:10001683-1731105000-1731108600@upbarreview.com
SUMMARY:Round 2 - Karaoke Night - Iron Mountain
DESCRIPTION:Friday April 12th! Karaoke night at Round 2\, will start at 10:30pm and go until close.Come sing with us!
URL:https://upbarreview.com/event/round-2-karaoke-night-iron-mountain/2024-11-08/
LOCATION:Round 2\, 407 S Stephenson Ave\, Iron Mountain\, MI\, 49801
CATEGORIES:Ironmountain
END:VEVENT
END:VCALENDAR