BEGIN:VCALENDAR
VERSION:2.0
PRODID:-//UP BAR REVIEW - ECPv6.14.2//NONSGML v1.0//EN
CALSCALE:GREGORIAN
METHOD:PUBLISH
X-WR-CALNAME:UP BAR REVIEW
X-ORIGINAL-URL:https://upbarreview.com
X-WR-CALDESC:Events for UP BAR REVIEW
REFRESH-INTERVAL;VALUE=DURATION:PT1H
X-Robots-Tag:noindex
X-PUBLISHED-TTL:PT1H
BEGIN:VTIMEZONE
TZID:UTC
BEGIN:STANDARD
TZOFFSETFROM:+0000
TZOFFSETTO:+0000
TZNAME:UTC
DTSTART:20240101T000000
END:STANDARD
END:VTIMEZONE
BEGIN:VEVENT
DTSTART;TZID=UTC:20241030T130000
DTEND;TZID=UTC:20241030T150000
DTSTAMP:20260422T040217
CREATED:20241001T042703Z
LAST-MODIFIED:20241001T042703Z
UID:10001930-1730293200-1730300400@upbarreview.com
SUMMARY:Heritage Inn - Bingo! - Wausaukee
DESCRIPTION:October bingo
URL:https://upbarreview.com/event/heritage-inn-bingo-wausaukee/2024-10-30/
LOCATION:The Heritage Inn\, W2505 Co Rd JJ\, Wausaukee\, WI\, 54177
CATEGORIES:Menominee
END:VEVENT
BEGIN:VEVENT
DTSTART;TZID=UTC:20241030T150000
DTEND;TZID=UTC:20241030T180000
DTSTAMP:20260422T040217
CREATED:20240626T145913Z
LAST-MODIFIED:20240728T212922Z
UID:10000570-1730300400-1730311200@upbarreview.com
SUMMARY:Escanaba Farmers Market
DESCRIPTION:The Escanaba Farmers Market runs from 3 to 6 p.m. at the Marketplace on Wednesdays. Catch music from 11:30am-1:30pm beforehand. Come check it out!
URL:https://upbarreview.com/event/escanaba-farmers-market/2024-10-30/
LOCATION:Escanaba Marketplace\, 1501 Ludington St\, Escanaba\, MI\, 49829
CATEGORIES:Menominee
END:VEVENT
BEGIN:VEVENT
DTSTART;TZID=UTC:20241030T153000
DTEND;TZID=UTC:20241030T173000
DTSTAMP:20260422T040217
CREATED:20241001T023735Z
LAST-MODIFIED:20241001T023735Z
UID:10001801-1730302200-1730309400@upbarreview.com
SUMMARY:Rennes Health & Rehab West - Trick or Treat - Peshtigo
DESCRIPTION:Join us for trick or treating with our residents at Rennes Health & Rehab Center-Peshtigo West. This event is free and open to the public.
URL:https://upbarreview.com/event/rennes-health-rehab-west-trick-or-treat-peshtigo/
LOCATION:501 N Lake St\, Peshtigo\, WI\, 54157
CATEGORIES:Menominee
END:VEVENT
BEGIN:VEVENT
DTSTART;TZID=UTC:20241030T160000
DTEND;TZID=UTC:20241030T180000
DTSTAMP:20260422T040217
CREATED:20240930T172548Z
LAST-MODIFIED:20240930T172548Z
UID:10001737-1730304000-1730311200@upbarreview.com
SUMMARY:DAR Boys & Girls Club - Halloween Penny Carnival - Menominee
DESCRIPTION:This is a free community event! Show up in your halloween costume and play carnival games for penny’s\, earn tickets for prizes! Come have a fun night at the Club showing off your costume and playing games!
URL:https://upbarreview.com/event/dar-boys-girls-club-halloween-penny-carnival-menominee/
LOCATION:DAR Boys & Girls Club\, 901 8th Ave\, Menominee\, WI\, 49858
CATEGORIES:Menominee
END:VEVENT
BEGIN:VEVENT
DTSTART;TZID=UTC:20241030T160000
DTEND;TZID=UTC:20241030T193000
DTSTAMP:20260422T040217
CREATED:20240827T133046Z
LAST-MODIFIED:20240827T133046Z
UID:10001696-1730304000-1730316600@upbarreview.com
SUMMARY:Knights of Columbus - Bingo Wednesday - Iron Mountain
DESCRIPTION:The Columbus Club operates the hall and hosts Charity Bingo every Wednesday night. \n\nDoors open at 4:00 PM\nBingo Games start at 6:30 PM.\nFood is available for purchase at the hall.\n\nThe Columbus Club uses all proceeds to maintain the building and support the good works of the council.  Bingo is operated under the regulations set by the State of Michigan Charitable Gaming.
URL:https://upbarreview.com/event/knights-of-columbus-bingo-wednesday-iron-mountain/2024-10-30/
LOCATION:Knights of Columbus Kingsford\, 520 West Breitung Ave\, Kingsford\, MI
CATEGORIES:Ironmountain
END:VEVENT
BEGIN:VEVENT
DTSTART;TZID=UTC:20241030T170000
DTEND;TZID=UTC:20241030T190000
DTSTAMP:20260422T040217
CREATED:20241001T164937Z
LAST-MODIFIED:20241001T164937Z
UID:10002029-1730307600-1730314800@upbarreview.com
SUMMARY:Forever Friendship Drop-in Center - Vintage Video Game Night - Kingsford
DESCRIPTION:Step outside your modern box and have a fun flashback to a simpler time. Please bring vintage game consoles and games to share. Goal is to meet people outside our norm but have gaming and mental health similarities.
URL:https://upbarreview.com/event/forever-friendship-drop-in-center-vintage-video-game-night-kingsford/2024-10-30/
LOCATION:Forever Friendship Drop-in Center\, 501 S Carpenter Ave\, Kingsford\, MI
CATEGORIES:Ironmountain
END:VEVENT
BEGIN:VEVENT
DTSTART;TZID=UTC:20241030T173000
DTEND;TZID=UTC:20241030T180000
DTSTAMP:20260422T040217
CREATED:20241001T044029Z
LAST-MODIFIED:20241001T044029Z
UID:10001947-1730309400-1730311200@upbarreview.com
SUMMARY:The Cottages - Yoga - Menominee
DESCRIPTION:OCTOBER YOGA SCHEDULEYOGATINI Mondays…..5:30-6:15pm at The Blue RoomGENTLE Tuesdays….5:30-6:00pm at EMMANUEL LUTHERAN CHURCH MENOMINEE\,MICHIGAN ELCACHAIR Wednesdays…..5:30-5:00pm at The Cottages
URL:https://upbarreview.com/event/the-cottages-yoga-menominee/2024-10-30/
LOCATION:The Cottages\, 2006 Lake Park Dr\, Marinette\, WI
CATEGORIES:Menominee
END:VEVENT
BEGIN:VEVENT
DTSTART;TZID=UTC:20241030T173000
DTEND;TZID=UTC:20241030T190000
DTSTAMP:20260422T040217
CREATED:20241001T021542Z
LAST-MODIFIED:20241001T021542Z
UID:10001786-1730309400-1730314800@upbarreview.com
SUMMARY:New Life Church - Fall Carnival - Escanaba
DESCRIPTION:Get ready for a whirlwind of FUN! Games galore! Prizes galore! Cotton candy clouds and popcorn galore! Join us for hay rides and photo booth shenanigans!Mark your calendar: Wednesday\, October 30th from 6:30 PM to 8 PM!Where? 2005 S 8th Ave\, Escanaba!Best part? It’s FREE and totally family-friendly! Open to all kiddos from toddlers to 5th grade! Don’t miss out!
URL:https://upbarreview.com/event/new-life-church-fall-carnival-escanaba/
CATEGORIES:Menominee
END:VEVENT
BEGIN:VEVENT
DTSTART;TZID=UTC:20241030T180000
DTEND;TZID=UTC:20241030T200000
DTSTAMP:20260422T040217
CREATED:20241001T153923Z
LAST-MODIFIED:20241001T153923Z
UID:10001956-1730311200-1730318400@upbarreview.com
SUMMARY:Crafters on Central - Paint Your Own Pot - Florence
DESCRIPTION:Come pick from a selection of ceramic pieces\, take a seat and paint away. Stacey will be there to socialize\, assist and offer up creative suggestions. If you don’t finish your project you can leave it with us until you return or take it home with you. Please note that this is NOT an instructor led class.This class is fun for all ages and great for kids looking for something to do after school! Please note\, however\, that each seated guest must have a paid project that they are working on. No loitering please. Children under 13 must be accompanied by an adult chaperone.
URL:https://upbarreview.com/event/crafters-on-central-paint-your-own-pot-florence/2024-10-30/
CATEGORIES:Ironmountain
END:VEVENT
END:VCALENDAR