BEGIN:VCALENDAR
VERSION:2.0
PRODID:-//UP BAR REVIEW - ECPv6.14.2//NONSGML v1.0//EN
CALSCALE:GREGORIAN
METHOD:PUBLISH
X-WR-CALNAME:UP BAR REVIEW
X-ORIGINAL-URL:https://upbarreview.com
X-WR-CALDESC:Events for UP BAR REVIEW
REFRESH-INTERVAL;VALUE=DURATION:PT1H
X-Robots-Tag:noindex
X-PUBLISHED-TTL:PT1H
BEGIN:VTIMEZONE
TZID:UTC
BEGIN:STANDARD
TZOFFSETFROM:+0000
TZOFFSETTO:+0000
TZNAME:UTC
DTSTART:20240101T000000
END:STANDARD
END:VTIMEZONE
BEGIN:VEVENT
DTSTART;TZID=UTC:20241028T083000
DTEND;TZID=UTC:20241028T093000
DTSTAMP:20260422T041131
CREATED:20240827T014121Z
LAST-MODIFIED:20240827T014121Z
UID:10001552-1730104200-1730107800@upbarreview.com
SUMMARY:NSRCC - Open Workout & Meet the Instructor - Pembine
DESCRIPTION:Meet our fitness class instructor\, Brenda Rosenstiel. There will be information about all of our fitness classes as well as a place for open workout. Contact Brenda for more details: (920) 327-9981 or brosenstiel@nsrccwi.com
URL:https://upbarreview.com/event/nsrcc-open-workout-meet-the-instructor-pembine/2024-10-28/
LOCATION:NSRCC\, 17112 US-141\, Pembine\, WI\, 54156
CATEGORIES:Menominee
END:VEVENT
BEGIN:VEVENT
DTSTART;TZID=UTC:20241028T173000
DTEND;TZID=UTC:20241028T183000
DTSTAMP:20260422T041131
CREATED:20241001T032452Z
LAST-MODIFIED:20241001T032507Z
UID:10001839-1730136600-1730140200@upbarreview.com
SUMMARY:The Blue Room - Yogatini - Marinette
DESCRIPTION:YOGATINI STARTS NEXT WEEK! \n\n\nAdult Yoga classes with cocktails included!\nJoin Yoga With Sally on Mondays this October to beat those Monday blues!\n\n\nEvery Monday in October – 7\, 14\, 21 and 28\n5:30 – 6:15 pm\nDrinks to follow class\n$25 Per class or $80 for the entire month! (Venmo: Sally-VanEyck)\n\n\nRegister via Sally’s facebook DMs – Yoga With Sally or via email at yogawithsally@gmail.com\n\n\nSee you on the Mat!
URL:https://upbarreview.com/event/the-blue-room-yogatini-marinete/2024-10-28/
LOCATION:The Blue Room\, 1975 Riverside Ave\, Marinette\, WI
CATEGORIES:Menominee
END:VEVENT
BEGIN:VEVENT
DTSTART;TZID=UTC:20241028T180000
DTEND;TZID=UTC:20241028T193000
DTSTAMP:20260422T041131
CREATED:20241001T155035Z
LAST-MODIFIED:20241001T155035Z
UID:10001964-1730138400-1730143800@upbarreview.com
SUMMARY:Crafters on Central - Halloween & Harvest Cookie Decorating - Florence
DESCRIPTION:INSTRUCTOR: Melissa\nCOST: $45\nSUGGESTED AGE: 9+\nMINIMUM CLASS SIZE: 8\nREGISTRATION DEADLINE: 10-23-24\n*NOTE: we will not issue refunds for cancellations made after this date but we invite you to pick up your blank sugar cookies still if you have to miss\nIn this class each crafter will learn to decorate a 12 Halloween & Harvest themed sugar cookies using the art of royal icing.\nCookies will be premade and packaged for each guest separately. The cookies and icing will all be made by our partner catering company\, Delightful Deliciousness.\nDesigns\, shapes\, styles and colors may vary from class photo.\nWe can teach guests as young as 9 years old at this class but children under 12 must be accompanied by one adult.\nThe class will last for 1.5 hours. Please be on time. We spin a prize wheel to kick off the start of every class and you must be present to win
URL:https://upbarreview.com/event/crafters-on-central-halloween-harvest-cookie-decorating-florence/
LOCATION:Crafters on Central\, 733 Central Ave\, Florence\, WI\, 54121
CATEGORIES:Ironmountain
END:VEVENT
END:VCALENDAR