BEGIN:VCALENDAR
VERSION:2.0
PRODID:-//UP BAR REVIEW - ECPv6.14.2//NONSGML v1.0//EN
CALSCALE:GREGORIAN
METHOD:PUBLISH
X-WR-CALNAME:UP BAR REVIEW
X-ORIGINAL-URL:https://upbarreview.com
X-WR-CALDESC:Events for UP BAR REVIEW
REFRESH-INTERVAL;VALUE=DURATION:PT1H
X-Robots-Tag:noindex
X-PUBLISHED-TTL:PT1H
BEGIN:VTIMEZONE
TZID:UTC
BEGIN:STANDARD
TZOFFSETFROM:+0000
TZOFFSETTO:+0000
TZNAME:UTC
DTSTART:20240101T000000
END:STANDARD
END:VTIMEZONE
BEGIN:VEVENT
DTSTART;TZID=UTC:20241016T080000
DTEND;TZID=UTC:20241016T170000
DTSTAMP:20260423T005128
CREATED:20241001T162533Z
LAST-MODIFIED:20241001T162601Z
UID:10002006-1729065600-1729098000@upbarreview.com
SUMMARY:Systems Control - Production Job Fair - Iron Mountain
DESCRIPTION:Join us for an exciting opportunity to explore a future with Systems Control at our Production Job Fair! \nHelp us spread the word and share this with others you know that might be interested in attending!\nWe very much look forward to meeting you all!
URL:https://upbarreview.com/event/systems-control-production-job-fair-iron-mountain/
LOCATION:Systems Control\, 133 Traders Mine Rd\, Iron Mountain\, MI\, 49801
CATEGORIES:Ironmountain
END:VEVENT
BEGIN:VEVENT
DTSTART;TZID=UTC:20241016T130000
DTEND;TZID=UTC:20241016T150000
DTSTAMP:20260423T005128
CREATED:20241001T042703Z
LAST-MODIFIED:20241001T042703Z
UID:10001928-1729083600-1729090800@upbarreview.com
SUMMARY:Heritage Inn - Bingo! - Wausaukee
DESCRIPTION:October bingo
URL:https://upbarreview.com/event/heritage-inn-bingo-wausaukee/2024-10-16/
LOCATION:The Heritage Inn\, W2505 Co Rd JJ\, Wausaukee\, WI\, 54177
CATEGORIES:Menominee
END:VEVENT
BEGIN:VEVENT
DTSTART;TZID=UTC:20241016T140000
DTEND;TZID=UTC:20241016T160000
DTSTAMP:20260423T005128
CREATED:20241001T023514Z
LAST-MODIFIED:20241001T023514Z
UID:10001799-1729087200-1729094400@upbarreview.com
SUMMARY:Rennes Health & Rehab - Fall Prevention - Peshtigo
DESCRIPTION:THE CDC REPORTS THAT 1 IN 5 FALLS RESULTS IN A SERIOUS INJURY SUCH AS A BROKEN BONE OR HEAD INJURY.JOIN THE EXPERTS FROM OUR PHYSICAL AND OCCUPATIONAL THERAPY TEAMS TO LEARN MORE ABOUT THE IMPORTANCE OF FALL PREVENTION. LEARN IMPORTANT TIPS FOR MAINTAINING YOUR MOBILITY\, SAFETY & INDEPENDENCE.\nFREE TO THE PUBLICREGISTER AT 715.582.3906LOCATION: RENNES HEALTH & REHAB CENTER-PESHTIGO WEST501 N LAKE STREET PESHTIGO
URL:https://upbarreview.com/event/rennes-health-rehab-fall-prevention-peshtigo/
LOCATION:501 N Lake St\, Peshtigo\, WI\, 54157
CATEGORIES:Menominee
END:VEVENT
BEGIN:VEVENT
DTSTART;TZID=UTC:20241016T150000
DTEND;TZID=UTC:20241016T180000
DTSTAMP:20260423T005128
CREATED:20240626T145913Z
LAST-MODIFIED:20240728T212922Z
UID:10000568-1729090800-1729101600@upbarreview.com
SUMMARY:Escanaba Farmers Market
DESCRIPTION:The Escanaba Farmers Market runs from 3 to 6 p.m. at the Marketplace on Wednesdays. Catch music from 11:30am-1:30pm beforehand. Come check it out!
URL:https://upbarreview.com/event/escanaba-farmers-market/2024-10-16/
LOCATION:Escanaba Marketplace\, 1501 Ludington St\, Escanaba\, MI\, 49829
CATEGORIES:Menominee
END:VEVENT
BEGIN:VEVENT
DTSTART;TZID=UTC:20241016T160000
DTEND;TZID=UTC:20241016T193000
DTSTAMP:20260423T005128
CREATED:20240827T133046Z
LAST-MODIFIED:20240827T133046Z
UID:10001694-1729094400-1729107000@upbarreview.com
SUMMARY:Knights of Columbus - Bingo Wednesday - Iron Mountain
DESCRIPTION:The Columbus Club operates the hall and hosts Charity Bingo every Wednesday night. \n\nDoors open at 4:00 PM\nBingo Games start at 6:30 PM.\nFood is available for purchase at the hall.\n\nThe Columbus Club uses all proceeds to maintain the building and support the good works of the council.  Bingo is operated under the regulations set by the State of Michigan Charitable Gaming.
URL:https://upbarreview.com/event/knights-of-columbus-bingo-wednesday-iron-mountain/2024-10-16/
LOCATION:Knights of Columbus Kingsford\, 520 West Breitung Ave\, Kingsford\, MI
CATEGORIES:Ironmountain
END:VEVENT
BEGIN:VEVENT
DTSTART;TZID=UTC:20241016T160000
DTEND;TZID=UTC:20241016T210000
DTSTAMP:20260423T005128
CREATED:20241001T043225Z
LAST-MODIFIED:20241001T043225Z
UID:10001933-1729094400-1729112400@upbarreview.com
SUMMARY:Embers 1871 - Bras for a Cause - Peshtigo
DESCRIPTION:Please join us on Wednesday\, October 16th for the “Bras for A Cause” Fundraiser\nraising funds for Aurora Health Care Foundation 501C3.This is a national event held at different times and places all over\nthe country with the same goal—to help Breast Cancer patients. The bras that are created andauctioned are conversation pieces and are for entertainment\, not necessarily for use.\nI challenge everyone in the community to create and design the most beautiful and unique bras. Then\, submit it\nfor judging\, and to be auctioned off to the highest bidder.\nIndividual tickets are $35.00 per person—this will include Admission and Dinner!Couple Things to Know*Please deliver all masterpieces to Embers 1871.*Please have bras completed and brought to Embers 1871 by Sunday\, October 13th.*Net Proceeds will stay local and be used for Breast Cancer Patients. *There will be a linked Event Page on Embers1871’s Facebook for online viewing of bras.*Judging will start at 4:00 pm on Wednesday evening with dinner at 5:00 and the Live Auction to follow dinner.*The Facebook page is www.facebook.com/Embers1871BrasForACauseIf you and/or your employer are interested\, there are Sponsorships available for this event. Please contact Sherryat 715-923-1014.
URL:https://upbarreview.com/event/embers-1871-bras-for-a-cause-peshtigo/
LOCATION:Embers 1871\, W3529 Co Rd B\, Peshtigo\, WI\, 54157\, United States
CATEGORIES:Menominee
END:VEVENT
BEGIN:VEVENT
DTSTART;TZID=UTC:20241016T170000
DTEND;TZID=UTC:20241016T190000
DTSTAMP:20260423T005128
CREATED:20241001T164937Z
LAST-MODIFIED:20241001T164937Z
UID:10002027-1729098000-1729105200@upbarreview.com
SUMMARY:Forever Friendship Drop-in Center - Vintage Video Game Night - Kingsford
DESCRIPTION:Step outside your modern box and have a fun flashback to a simpler time. Please bring vintage game consoles and games to share. Goal is to meet people outside our norm but have gaming and mental health similarities.
URL:https://upbarreview.com/event/forever-friendship-drop-in-center-vintage-video-game-night-kingsford/2024-10-16/
LOCATION:Forever Friendship Drop-in Center\, 501 S Carpenter Ave\, Kingsford\, MI
CATEGORIES:Ironmountain
END:VEVENT
BEGIN:VEVENT
DTSTART;TZID=UTC:20241016T173000
DTEND;TZID=UTC:20241016T180000
DTSTAMP:20260423T005128
CREATED:20241001T044029Z
LAST-MODIFIED:20241001T044029Z
UID:10001945-1729099800-1729101600@upbarreview.com
SUMMARY:The Cottages - Yoga - Menominee
DESCRIPTION:OCTOBER YOGA SCHEDULEYOGATINI Mondays…..5:30-6:15pm at The Blue RoomGENTLE Tuesdays….5:30-6:00pm at EMMANUEL LUTHERAN CHURCH MENOMINEE\,MICHIGAN ELCACHAIR Wednesdays…..5:30-5:00pm at The Cottages
URL:https://upbarreview.com/event/the-cottages-yoga-menominee/2024-10-16/
LOCATION:The Cottages\, 2006 Lake Park Dr\, Marinette\, WI
CATEGORIES:Menominee
END:VEVENT
BEGIN:VEVENT
DTSTART;TZID=UTC:20241016T180000
DTEND;TZID=UTC:20241016T200000
DTSTAMP:20260423T005128
CREATED:20241001T020253Z
LAST-MODIFIED:20241001T020253Z
UID:10001776-1729101600-1729108800@upbarreview.com
SUMMARY:Lavender Spirit Healing & Massage - Full Moon Meditation - Wausaukee
DESCRIPTION:Join us to work with the energy of the hunters moon!\n$15 (cash only)\nSign up:www.lavenderspiritwi.comOr Message me directly
URL:https://upbarreview.com/event/lavender-spirit-healing-massage-full-moon-meditation-wausaukee/
LOCATION:Lavender Spirit Healing & Massage\, 544 Van Buren St.\, Wausaukee\, WI
CATEGORIES:Menominee
END:VEVENT
BEGIN:VEVENT
DTSTART;TZID=UTC:20241016T180000
DTEND;TZID=UTC:20241016T200000
DTSTAMP:20260423T005128
CREATED:20241001T154504Z
LAST-MODIFIED:20241001T154517Z
UID:10001960-1729101600-1729108800@upbarreview.com
SUMMARY:Crafters On Central - Wooden Barn Quilt Workshop - Florence
DESCRIPTION:INSTRUCTOR: Kathy KCOST: $60SUGGESTED AGE: 18+CLASS MINIMUM: 5CLASS MAXIMUM: 10REGISTRATION DEADLINE: 10-01-24\nKathy was first introduced to Barn Quilts in 2015. As an avid quilter she wanted to begin a series of Barn Quilts to decorate their pole building facing US-2. Her first Barn Quilt was a result of doing research about both the design and painting as well as constructing the panel itself. Over the course of the next few years she and her husband have continuously improved and evolved the process.\nKathy was approached 5 years ago about doing a workshop to introduce others to barn quilting and has been conducting them ever since. It is a passion that she hopes you will come to enjoy and share and we are so excited to have her instruct at our studio!\nCome create your own piece of Americana folk art. These quilts are weather proof.\nHere is what is included with your workshopPrimed & Framed 2′ x 2′ Panel with Hanging Cleat and DirectionsStep-by-Step instructions to draft pattern.National & Regional Barn Quilt HistoryDrafting Techniques and using pattern instructions (choose pattern when registering)TapingDiscussion of barn quilt panels\nWhat you need to bring*Unlike most workshops at Crafters on Central\, we are asking our guests to please bring a few simple items with you to this class. While we do have some of these items in the studio\, our supply is limited and we want to make sure you have them with you at home when the class is done too!\n\nOne or more measuring rulers with one straightedge of at least 36″ long (1 yard)PencilsCompass and Protractor (if available)Frog tape (1″)Single edge razor bladesMagic EraserSoft art eraser\nAt the end of your workshop you will have drafted your pattern on the supplied 2′ x 2′ panel ready for painting. You can then determine the choice of colors and paint it AT HOME upon completion of this workshop. We will set a goal for completion date at the studio and those guests that have successfully finished their piece will be encouraged to bring it to the studio for a “show and tell” date to be determined.\nPlease be sure to select one pattern at checkout. Additional pattern instructions may be added for $5 per pattern. Additional panels may be purchased for $45.\nView Patterns Here\nThis class is scheduled for 2 hours. Please be on time. We spin a prize wheel to kick off the start of each class and you must be present to win
URL:https://upbarreview.com/event/crafters-on-central-wooden-barn-quilt-workshop-florence/
LOCATION:Crafters on Central\, 733 Central Ave\, Florence\, WI\, 54121
CATEGORIES:Ironmountain
END:VEVENT
END:VCALENDAR