BEGIN:VCALENDAR
VERSION:2.0
PRODID:-//UP BAR REVIEW - ECPv6.14.2//NONSGML v1.0//EN
CALSCALE:GREGORIAN
METHOD:PUBLISH
X-ORIGINAL-URL:https://upbarreview.com
X-WR-CALDESC:Events for UP BAR REVIEW
REFRESH-INTERVAL;VALUE=DURATION:PT1H
X-Robots-Tag:noindex
X-PUBLISHED-TTL:PT1H
BEGIN:VTIMEZONE
TZID:UTC
BEGIN:STANDARD
TZOFFSETFROM:+0000
TZOFFSETTO:+0000
TZNAME:UTC
DTSTART:20240101T000000
END:STANDARD
END:VTIMEZONE
BEGIN:VEVENT
DTSTART;TZID=UTC:20241013T120000
DTEND;TZID=UTC:20241013T130000
DTSTAMP:20260418T065028
CREATED:20241001T025933Z
LAST-MODIFIED:20241001T025933Z
UID:10001816-1728820800-1728824400@upbarreview.com
SUMMARY:Biehls Bridge to Recovery - CMA Sundays Im More than 2% Meeting - Marinette
DESCRIPTION:This is an open meeting. You can also join the meeting by using Microsoft TeamsMeeting ID: 215 291 811 664Passcode: QouoBu
URL:https://upbarreview.com/event/biehls-bridge-to-recovery-cma-sundays-im-more-than-2-meeting-marinette/2024-10-13/
CATEGORIES:Menominee
END:VEVENT
BEGIN:VEVENT
DTSTART;TZID=UTC:20241013T140000
DTEND;TZID=UTC:20241013T180000
DTSTAMP:20260418T065028
CREATED:20240719T180709Z
LAST-MODIFIED:20240728T213207Z
UID:10001048-1728828000-1728842400@upbarreview.com
SUMMARY:Loopy's in Loomis - Sunday Funday
DESCRIPTION:Live music\, drink deals\, and specials for sunday funday at loopys!!
URL:https://upbarreview.com/event/loopys-in-loomis-sunday-funday/2024-10-13/
LOCATION:Loopy’s Bar & Grill\, Loomis Rd\, Porterfield\, WI\, 54159
CATEGORIES:Menominee
END:VEVENT
BEGIN:VEVENT
DTSTART;TZID=UTC:20241013T180000
DTEND;TZID=UTC:20241013T200000
DTSTAMP:20260418T065028
CREATED:20241001T153923Z
LAST-MODIFIED:20241001T153923Z
UID:10001952-1728842400-1728849600@upbarreview.com
SUMMARY:Crafters on Central - Paint Your Own Pot - Florence
DESCRIPTION:Come pick from a selection of ceramic pieces\, take a seat and paint away. Stacey will be there to socialize\, assist and offer up creative suggestions. If you don’t finish your project you can leave it with us until you return or take it home with you. Please note that this is NOT an instructor led class.This class is fun for all ages and great for kids looking for something to do after school! Please note\, however\, that each seated guest must have a paid project that they are working on. No loitering please. Children under 13 must be accompanied by an adult chaperone.
URL:https://upbarreview.com/event/crafters-on-central-paint-your-own-pot-florence/2024-10-13/
CATEGORIES:Ironmountain
END:VEVENT
END:VCALENDAR