BEGIN:VCALENDAR
VERSION:2.0
PRODID:-//UP BAR REVIEW - ECPv6.14.2//NONSGML v1.0//EN
CALSCALE:GREGORIAN
METHOD:PUBLISH
X-ORIGINAL-URL:https://upbarreview.com
X-WR-CALDESC:Events for UP BAR REVIEW
REFRESH-INTERVAL;VALUE=DURATION:PT1H
X-Robots-Tag:noindex
X-PUBLISHED-TTL:PT1H
BEGIN:VTIMEZONE
TZID:UTC
BEGIN:STANDARD
TZOFFSETFROM:+0000
TZOFFSETTO:+0000
TZNAME:UTC
DTSTART:20240101T000000
END:STANDARD
END:VTIMEZONE
BEGIN:VEVENT
DTSTART;TZID=UTC:20241011T173000
DTEND;TZID=UTC:20241011T203000
DTSTAMP:20260423T080619
CREATED:20240827T012633Z
LAST-MODIFIED:20240827T012633Z
UID:10001519-1728667800-1728678600@upbarreview.com
SUMMARY:NSRCC BINGO - Pembine
DESCRIPTION:Join us for a fun-filled evening of bingo!Doors open at 5:30pmGames start at 6:00pm\nFood\, drinks\, and daubers will be available for purchase.This event is fun for the whole family! – We look forward to seeing you soon!\nTHIS EVENT HAS FREE WIFI
URL:https://upbarreview.com/event/nsrcc-bingo-pembine/2024-10-11/
LOCATION:NSRCC\, 17112 US-141\, Pembine\, WI\, 54156
CATEGORIES:Menominee
END:VEVENT
BEGIN:VEVENT
DTSTART;TZID=UTC:20241011T180000
DTEND;TZID=UTC:20241011T210000
DTSTAMP:20260423T080620
CREATED:20241001T024524Z
LAST-MODIFIED:20241001T024524Z
UID:10001807-1728669600-1728680400@upbarreview.com
SUMMARY:Four Seasons Island Resort - Haley Grace in The Lounge Bar - Pembine
DESCRIPTION:Join us in The Lounge Bar with an amazing performance by Haley Grace; 6pm-9pm!\nA divine space for one to experience their burdens being lifted\, even when conditions seem hard to bare. This is exactly what Haley Grace brings to the stage through her music. There is much more to her songs and her life than meets the eye. She deftly weaves well-crafted lyrics with edgy country vibes while pulling in her audience with electric energy. Grace’s whiskey-tinged vocals intimately captivate while her music\, her songs and her performance draws you out of your everyday world and into a state of grace
URL:https://upbarreview.com/event/four-seasons-island-resort-haley-grace-in-the-lounge-bar-pembine/
LOCATION:Four Seasons Island Resort\, 16800 Shoreline Dr\, Pembine\, WI\, 54156\, United States
CATEGORIES:Menominee
END:VEVENT
BEGIN:VEVENT
DTSTART;TZID=UTC:20241011T190000
DTEND;TZID=UTC:20241011T210000
DTSTAMP:20260423T080620
CREATED:20241001T160158Z
LAST-MODIFIED:20241001T160158Z
UID:10001975-1728673200-1728680400@upbarreview.com
SUMMARY:The Braumart - Chicken Wire Empire - Iron Mountian
DESCRIPTION:Hometeam Productions and The Braumart present CHICKEN WIRE EMPIRE\, live in Downtown Iron Mountain!\n Friday\, October 11\, 2024 | Doors: 6:00 PM | Show: 7:00 PM (CST)\nJoin us at the Braumart Theater for a night of unforgettable bluegrass as Chicken Wire Empire takes the stage once again!\nFormed in Wisconsin\, Chicken Wire Empire has become a trailblazer in the Upper Midwest bluegrass scene\, blending traditional roots with fresh\, genre-bending sounds. From their iconic sets at the Grey Fox Bluegrass Festival to their creative projects like the “Verry Garcia\,” Grateful Dead tribute and a unique take on The Smashing Pumpkins’ “Disarm\,” they’ve proven to captivate audiences of all ages.\nWith international acclaim\, including their European tour and live albums “Live from Deutschland Vol. 1 & 2\,” Chicken Wire Empire continues to electrify fans around the world. This is a show you don’t want to miss!\n Tickets:$20 online at www.thebraumart.org$25 at the door (while available)\nCome early\, grab your seat\, and enjoy the sounds of one of bluegrass’s finest. See you at the Braumart!
URL:https://upbarreview.com/event/the-braumart-chicken-wire-empire-iron-mountian/
LOCATION:The Braumart Theatre\, 106 E B St\, Iron Mountain\, MI\, 49801
CATEGORIES:Ironmountain
END:VEVENT
BEGIN:VEVENT
DTSTART;TZID=UTC:20241011T203000
DTEND;TZID=UTC:20241011T223000
DTSTAMP:20260423T080620
CREATED:20241001T171214Z
LAST-MODIFIED:20241001T171214Z
UID:10002061-1728678600-1728685800@upbarreview.com
SUMMARY:Island Resort & Casino - Grand Design Band- Harris
DESCRIPTION:Live Music!
URL:https://upbarreview.com/event/island-resort-casino-grand-design-band-harris/
LOCATION:Island Resort & Casino\, W 399 US-2\, Harris\, MI\, 49845\, United States
CATEGORIES:Menominee
END:VEVENT
BEGIN:VEVENT
DTSTART;TZID=UTC:20241011T210000
DTEND;TZID=UTC:20241011T223000
DTSTAMP:20260423T080620
CREATED:20241001T024731Z
LAST-MODIFIED:20241001T024731Z
UID:10001808-1728680400-1728685800@upbarreview.com
SUMMARY:Noquebay Resort - Live at the Backwater Bar & Grill - Crivitz
DESCRIPTION:Come party with us in Crivitz Wi
URL:https://upbarreview.com/event/noquebay-resort-live-at-the-backwater-bar-grill-crivitz/
LOCATION:Noquebay Resort\, N7900 Noquebay Rd\, Crivitz\, WI
CATEGORIES:Menominee
END:VEVENT
BEGIN:VEVENT
DTSTART;TZID=UTC:20241011T223000
DTEND;TZID=UTC:20241011T233000
DTSTAMP:20260423T080620
CREATED:20240827T132725Z
LAST-MODIFIED:20240827T132725Z
UID:10001681-1728685800-1728689400@upbarreview.com
SUMMARY:Round 2 - Karaoke Night - Iron Mountain
DESCRIPTION:Friday April 12th! Karaoke night at Round 2\, will start at 10:30pm and go until close.Come sing with us!
URL:https://upbarreview.com/event/round-2-karaoke-night-iron-mountain/2024-10-11/
LOCATION:Round 2\, 407 S Stephenson Ave\, Iron Mountain\, MI\, 49801
CATEGORIES:Ironmountain
END:VEVENT
END:VCALENDAR