BEGIN:VCALENDAR
VERSION:2.0
PRODID:-//UP BAR REVIEW - ECPv6.14.2//NONSGML v1.0//EN
CALSCALE:GREGORIAN
METHOD:PUBLISH
X-WR-CALNAME:UP BAR REVIEW
X-ORIGINAL-URL:https://upbarreview.com
X-WR-CALDESC:Events for UP BAR REVIEW
REFRESH-INTERVAL;VALUE=DURATION:PT1H
X-Robots-Tag:noindex
X-PUBLISHED-TTL:PT1H
BEGIN:VTIMEZONE
TZID:UTC
BEGIN:STANDARD
TZOFFSETFROM:+0000
TZOFFSETTO:+0000
TZNAME:UTC
DTSTART:20240101T000000
END:STANDARD
END:VTIMEZONE
BEGIN:VEVENT
DTSTART;TZID=UTC:20241010T120000
DTEND;TZID=UTC:20241010T170000
DTSTAMP:20260423T022602
CREATED:20241001T023836Z
LAST-MODIFIED:20241001T023836Z
UID:10001802-1728561600-1728579600@upbarreview.com
SUMMARY:Faith Church - Fall Red Cross Blood Drive - Peshtigo
DESCRIPTION:Peshtigo Woman’s Club is sponsoring our Fall Blood Drive at Faith Church in Peshtigo.\nDonors can register on the Red Cross Blood Drive App or contact Christine Luxton at 920-510-8272 or christine.luxton@redcross.org
URL:https://upbarreview.com/event/faith-church-fall-red-cross-blood-drive-peshtigo/
LOCATION:Faith Church Peshtigo\, 350 N Stephenson Ave\, Peshtigo\, WI\, 54157
CATEGORIES:Menominee
END:VEVENT
BEGIN:VEVENT
DTSTART;TZID=UTC:20241010T160000
DTEND;TZID=UTC:20241010T190000
DTSTAMP:20260423T022602
CREATED:20241001T031359Z
LAST-MODIFIED:20241001T031359Z
UID:10001833-1728576000-1728586800@upbarreview.com
SUMMARY:Menominee Music Boosters - McDonalds Night Fundraiser
DESCRIPTION:Bada ba ba ba\, come show the Marching Maroons your lovin’ them by visiting McDonald’s in Menominee…
URL:https://upbarreview.com/event/menominee-music-boosters-mcdonalds-night-fundraiser/
CATEGORIES:Menominee
END:VEVENT
BEGIN:VEVENT
DTSTART;TZID=UTC:20241010T170000
DTEND;TZID=UTC:20241010T190000
DTSTAMP:20260423T022602
CREATED:20241001T165045Z
LAST-MODIFIED:20241001T165045Z
UID:10002038-1728579600-1728586800@upbarreview.com
SUMMARY:Forever Friendship Drop-in Center - Womens Discussion Group - Kingsford
DESCRIPTION:This a safe space where women with a mental health diagnosis can talk openly and freely about issues women face in our current society. The facilitator is also a peer and has access to multitude of resources to assist the group in topics\, goals and skill building.
URL:https://upbarreview.com/event/forever-friendship-drop-in-center-womens-discussion-group-kingsford/2024-10-10/
LOCATION:Forever Friendship Drop-in Center\, 501 S Carpenter Ave\, Kingsford\, MI
CATEGORIES:Ironmountain
END:VEVENT
BEGIN:VEVENT
DTSTART;TZID=UTC:20241010T180000
DTEND;TZID=UTC:20241010T210000
DTSTAMP:20260423T022602
CREATED:20241001T040448Z
LAST-MODIFIED:20241001T040448Z
UID:10001855-1728583200-1728594000@upbarreview.com
SUMMARY:Spirit House -Trivia Night! - Menominee
DESCRIPTION:Trivia Night Thursday at Spirit House\, come check out this awesome event!!!!
URL:https://upbarreview.com/event/spirit-house-trivia-night-menominee/2024-10-10/
LOCATION:Spirit House\, 533 10th Ave\, Menominee\, MI 49858\, Menominee\, MI\, 49858\, United States
CATEGORIES:Menominee
END:VEVENT
BEGIN:VEVENT
DTSTART;TZID=UTC:20241010T183000
DTEND;TZID=UTC:20241010T203000
DTSTAMP:20260423T022602
CREATED:20241001T162239Z
LAST-MODIFIED:20241001T162322Z
UID:10002003-1728585000-1728592200@upbarreview.com
SUMMARY:Mom to Mom Fall Semester Meeting - Iron Mountain
DESCRIPTION:The task of parenting is possible and it can be filled with joy. We come together to seek authentic connections\, support in motherhood\, and growth in our faith walk.\nWe meet for a large group lesson then we break into small groups form mentor mom lead discussions. We share our real lives as moms and more. We are encouraged and equipped in the many roles involved in great task of motherhood.\nYou weren’t meant to mother alone.All moms welcome. Please join us for this Fall Semester of 5 meetings.\nfccmomtomom.org
URL:https://upbarreview.com/event/mom-to-mom-fall-semester-meeting-iron-mountain/2024-10-10/
CATEGORIES:Ironmountain
END:VEVENT
BEGIN:VEVENT
DTSTART;TZID=UTC:20241010T183000
DTEND;TZID=UTC:20241010T213000
DTSTAMP:20260423T022602
CREATED:20241001T042120Z
LAST-MODIFIED:20241001T042120Z
UID:10001921-1728585000-1728595800@upbarreview.com
SUMMARY:NWTC - CPR & Life Support Training - Marinette
DESCRIPTION: CPR & Life Support Training Available! Ready to make a difference? We’re excited to announce our upcoming CPR and Life Support training sessions! Whether you’re looking to enhance your skills\, complete an item off of your academic checklist\, or earn certification for your place of employment\, this is a great opportunity to learn life-saving techniques.𝘓𝘦𝘢𝘳𝘯 𝘴𝘬𝘪𝘭𝘭𝘴 𝘵𝘩𝘢𝘵 𝘴𝘢𝘷𝘦 𝘭𝘪𝘷𝘦𝘴 𝘸𝘪𝘵𝘩 𝘊𝘗𝘙 𝘢𝘯𝘥 𝘍𝘪𝘳𝘴𝘵 𝘈𝘪𝘥 𝘊𝘭𝘢𝘴𝘴𝘦𝘴 𝘢𝘵 𝘕𝘞𝘛𝘊! Don’t wait until it’s too late—equip yourself with the knowledge to save a life!#NWTC #cprblscourse #cprsaveslives
URL:https://upbarreview.com/event/nwtc-cpr-life-support-training-marinette/2024-10-10/
LOCATION:NWTC\, 1601 University Dr\, Marinette\, WI\, 54143
CATEGORIES:Menominee
END:VEVENT
BEGIN:VEVENT
DTSTART;TZID=UTC:20241010T190000
DTEND;TZID=UTC:20241010T210000
DTSTAMP:20260423T022602
CREATED:20240827T020238Z
LAST-MODIFIED:20240827T020238Z
UID:10001581-1728586800-1728594000@upbarreview.com
SUMMARY:Mos Pub - Family Feud Night - Escanaba
DESCRIPTION: From the (so-called) brains behind Quizmaster Trivia\, Feudmaster is the bar game where players are fighting the clock… and their friends. \n———–\nSPECIALS: $1.50 domestic pints $3 rail mixers $1-off Specialty Burgers $2-off Specialty Pizza\n———-\nPRIZES: $30 gift card $20 gift card $10 gift card\n———-\nGAME PLAY:\n Similar to Family Feud\, the goal is to guess the TOP answer to common survey questions…\n• “An athlete in what sport would be good at a game of Twister?”\n• “If you want to keep the romance ticking\, name something you should NOT have in your bedroom?”\n At the start of the game players are given a white board to write their answers on…\n Players can team up\, or play solo. Either way you’ll be fighting your friends for the top answer\, but you’ll only have 30 seconds to do so…\n———–\n Hold up your whiteboard after the time is up and the host will come around to mark your points.\n Players get 10 points for the top answer and 5 points for the second-top answer.\n———–\n The game is split into 3 rounds of five questions each\, with one Final Feud question at the end\, where players have to come up with five answers.\n Plus\, players will be given two pens for their white boards: a black one and a red one.\n ONCE per round\, teams can use their red pen to answer\, which will double their points for that question if they are correct.
URL:https://upbarreview.com/event/mos-pub-family-feud-night-escanaba/2024-10-10/
LOCATION:Mo’s Pub\, 2116 Ludington St\, Escanaba\, MI\, 49829
CATEGORIES:Menominee
END:VEVENT
BEGIN:VEVENT
DTSTART;TZID=UTC:20241010T200000
DTEND;TZID=UTC:20241010T220000
DTSTAMP:20260423T022602
CREATED:20241001T171050Z
LAST-MODIFIED:20241001T171050Z
UID:10002060-1728590400-1728597600@upbarreview.com
SUMMARY:Island Resort & Casino - Brian Green Comedy- Harris
DESCRIPTION:Comedy Show!
URL:https://upbarreview.com/event/island-resort-casino-brian-green-comedy-harris/
LOCATION:Island Resort & Casino\, W 399 US-2\, Harris\, MI\, 49845\, United States
CATEGORIES:Menominee
END:VEVENT
BEGIN:VEVENT
DTSTART;TZID=UTC:20241010T210000
DTEND;TZID=UTC:20241010T223000
DTSTAMP:20260423T022602
CREATED:20240628T235314Z
LAST-MODIFIED:20240826T231212Z
UID:10001450-1728594000-1728599400@upbarreview.com
SUMMARY:Cusacks - Karaoke - Marinette
DESCRIPTION:Karaoke at Cusaks every thursday 9PM!
URL:https://upbarreview.com/event/cusacks-karaoke-marinette/2024-10-10/
LOCATION:Cusack’s Pub\, 2206 Hall Ave\, Marinette\, WI\, 54143\, United States
CATEGORIES:Menominee
END:VEVENT
END:VCALENDAR