BEGIN:VCALENDAR
VERSION:2.0
PRODID:-//UP BAR REVIEW - ECPv6.14.2//NONSGML v1.0//EN
CALSCALE:GREGORIAN
METHOD:PUBLISH
X-WR-CALNAME:UP BAR REVIEW
X-ORIGINAL-URL:https://upbarreview.com
X-WR-CALDESC:Events for UP BAR REVIEW
REFRESH-INTERVAL;VALUE=DURATION:PT1H
X-Robots-Tag:noindex
X-PUBLISHED-TTL:PT1H
BEGIN:VTIMEZONE
TZID:UTC
BEGIN:STANDARD
TZOFFSETFROM:+0000
TZOFFSETTO:+0000
TZNAME:UTC
DTSTART:20240101T000000
END:STANDARD
END:VTIMEZONE
BEGIN:VEVENT
DTSTART;TZID=UTC:20241005T080000
DTEND;TZID=UTC:20241005T120000
DTSTAMP:20260423T173643
CREATED:20240628T195858Z
LAST-MODIFIED:20240628T195858Z
UID:10000988-1728115200-1728129600@upbarreview.com
SUMMARY:Downtown Farmers Market - Iron Mountain
DESCRIPTION:Buy local\, shop and support 30-40 fine vendors from the Iron Mountain area. The Downtown Farmers & Artisans Market (FAM) is held Saturdays in the parking lot across from Dickinson County Library at the corner of A Street and Iron Mountain Street in Downtown Iron Mountain MI. If you need help finding parking\, check out the Parking Map on this website. \nThe FAM is a great place to enjoy a sense of community while supporting local vendors and downtown businesses. The FAM offers a unique combination of local and organic produce\, seasonal plants\, honey & maple syrup\, flowers\, locally made baked goods\, and locally made crafts. \n\n\n\n\n\n\n\n\nSee us on Facebook for the latest announcements and posts featuring some of our vendors. You can find the full vendor lineup each week right here on the website. The table below features the vendor lineup for 2024. There will generally be 30-35 vendors\, since the FAM has a number of “weekly” spaces for vendors present on just a few Saturdays during the entire season. \nThere are many downtown businesses within a short walk\, including coffee shops\, restaurants\, retail stores\, and much more. Please see the Business Directory on this website for more information. \nWhile a few vendors may be able to process credit card transactions\, it is recommended that you bring cash\, as most vendors only accept cash. There are several ATMs nearby\, within a few blocks\, at First Bank\, First National Bank & Trust\, and Incredible Bank. \nThe table below is a current list of vendors for the 2024 season.
URL:https://upbarreview.com/event/downtown-farmers-market-iron-mountain/2024-10-05/
LOCATION:Dickinson County Library\, 401 Iron Mountain St\, Iron Mountain\, MI\, 49801
CATEGORIES:Ironmountain
END:VEVENT
BEGIN:VEVENT
DTSTART;TZID=UTC:20241005T080000
DTEND;TZID=UTC:20241005T120000
DTSTAMP:20260423T173643
CREATED:20240930T152849Z
LAST-MODIFIED:20240930T152849Z
UID:10001707-1728115200-1728129600@upbarreview.com
SUMMARY:Red Arrow Park - Fall Photos - Marinette
DESCRIPTION:Schedule your fall mini photos today! We have limited spots available for October 5th.
URL:https://upbarreview.com/event/red-arrow-park-fall-photos-marinette/
LOCATION:Red Arrow Park\, 318 E Bay Shore St\, Marinette\, WI\, 54143
CATEGORIES:Menominee
END:VEVENT
BEGIN:VEVENT
DTSTART;TZID=UTC:20241005T080000
DTEND;TZID=UTC:20241005T130000
DTSTAMP:20260423T173643
CREATED:20241001T014605Z
LAST-MODIFIED:20241001T014605Z
UID:10001766-1728115200-1728133200@upbarreview.com
SUMMARY:Pink Pumpkin 5k - Gladstone
DESCRIPTION:Get ready to run\, walk\, or skip your way through our Pink Pumpkin 5k event\, where we’ll be celebrating fall with a splash of pink!\nWelcome to the Pink Pumpkin 5k!Join us for a fun-filled morning at the Gladstone East End Pavilion for our annual Pink Pumpkin 5k event. Lace up your running shoes and get ready to run/walk for a great cause. Whether you’re a seasoned runner or just looking for a good time\, this event is perfect for everyone. Come dressed in your favorite pink attire and help us raise awareness for cancer. Don’t forget to stick around after the race for some post-run snacks and activities. See you at the starting line!
URL:https://upbarreview.com/event/pink-pumpkin-5k-gladstone/
LOCATION:901 Lake Shore Drive\, Gladstone\, MI\, 49837
CATEGORIES:Menominee
END:VEVENT
BEGIN:VEVENT
DTSTART;TZID=UTC:20241005T080000
DTEND;TZID=UTC:20241005T130000
DTSTAMP:20260423T173643
CREATED:20241001T043734Z
LAST-MODIFIED:20241001T043734Z
UID:10001937-1728115200-1728133200@upbarreview.com
SUMMARY:Spartan Solutions - Concealed Carry Class
DESCRIPTION:Buying a firearm is an important moment for those seeking to provide protection to themselves and their loved ones. Something equally important is ensuring you have the knowledge and skills to safely and effectively operate your firearm\, and understand the laws involved with doing so. I will be hosting a Wisconsin State CCW Class at Peshtigo Elementary Learning Center on October 5\, 2024 8am to 1pm. Seating is limited so please sign up on the link below to reserve your spot. Course cost is $75.Curriculum Description:Developing a Personal and Home Protection PlanSelf-Defense Firearms BasicsShooting FundamentalsGear and GadgetsThe Legal Use of ForceViolent Encounters and the AftermathBasic and Advanced SkillsOther topics covered: Personal Safety\, Handgun Safety\, Handgun Fundamentals\, Handgun Operation\, Handgun Selection\, Physiological Reactions to Violent EncountersOver 1 million students have taken the U.S. Concealed Carry Association’s course offerings across the nation. Concealed Carry and Home Defense Fundamentals is a comprehensive classroom course for anyone considering owning or carrying a firearm for self-defense. If you are new to handguns\, this is a great introduction to everything you need to know to start your self-protection journey.This course is a complete guide to understanding the basics of firearms ownership\, safety\, and nomenclature\, and how it applies to home- or self-defense. After this class\, students will feel confident to act as their family’s first line of defense in the event of a home invasion or other. #spartansolutions #responsiblyarmed #USCCA #proficientlytrained
URL:https://upbarreview.com/event/spartan-solutions-concealed-carry-class/
LOCATION:Peshtigo Elementary\, 341 N Emery Ave\, Peshtigo\, WI
CATEGORIES:Menominee
END:VEVENT
BEGIN:VEVENT
DTSTART;TZID=UTC:20241005T080000
DTEND;TZID=UTC:20241005T150000
DTSTAMP:20260423T173643
CREATED:20240626T162313Z
LAST-MODIFIED:20240626T162313Z
UID:10000730-1728115200-1728140400@upbarreview.com
SUMMARY:Shop Local Support Local Market - Peshtigo
DESCRIPTION:The first Saturday of each month June thru October we are opening our doors with other local farmers\, crafters\, & vendors for the a special Shop Local Support Local Market from 8 til 3. We are excited for everyone to join us for this special event. Don’t forget to stop & visit all of us at Schwittay Harmony Market\, W4497 State Hwy 64\, Peshtigo (corner of County Rd DD & Hwy 64).\nIf you are interested in being a vendor for our first Saturday of the month event for July\, August\, September\, or October\, feel free to message our Facebook page\, email us at schwittayfarms@yahoo.com\, or call or text 920.980.5722.
URL:https://upbarreview.com/event/shop-local-support-local-market-peshtigo/2024-10-05/
LOCATION:Schwittay Harmony Market LLC\, W4497 WI-64\, Peshtigo\, WI\, 54157
CATEGORIES:Menominee
END:VEVENT
BEGIN:VEVENT
DTSTART;TZID=UTC:20241005T090000
DTEND;TZID=UTC:20241005T120000
DTSTAMP:20260423T173643
CREATED:20240626T150940Z
LAST-MODIFIED:20240728T212955Z
UID:10001310-1728118800-1728129600@upbarreview.com
SUMMARY:Escanaba Farmers Market
DESCRIPTION:The Escanaba Farmers Market runs on Wednesdays from 3 to 6 p.m. and Saturdays from 9 a.m. to noon.
URL:https://upbarreview.com/event/escanaba-farmers-market-2/2024-10-05/
LOCATION:Escanaba Marketplace\, 1501 Ludington St\, Escanaba\, MI\, 49829
CATEGORIES:Menominee
END:VEVENT
BEGIN:VEVENT
DTSTART;TZID=UTC:20241005T090000
DTEND;TZID=UTC:20241005T120000
DTSTAMP:20260423T173643
CREATED:20241001T024317Z
LAST-MODIFIED:20241001T024317Z
UID:10001806-1728118800-1728129600@upbarreview.com
SUMMARY:Four Seasons Resort - Goodfellas in Boundary Water - Pembine
DESCRIPTION:Join us for a great performance by Goodfellas at 9 PM!\nGuitarists/vocalists Dave Ebsch and John Wills formed Goodfellas in the summer of 2014 and were playing engagements around the Menominee-Marinette area soon thereafter. Both musicians have extensive experience with other bands and bring an enthusiasm to their music. Adept at many genres\, they can and will play old standards from the 40’s\, rock and roll from the 50’s on up\, country favorites\, as well as some contemporary tunes. Both Dave and John sing and play guitar with Dave being the lead player and John the rhythm player. Goodfellas have played almost every venue in the twin cities and also play at every nursing and assisted living home in the area.
URL:https://upbarreview.com/event/four-seasons-resort-goodfellas-in-boundary-water-pembine/
LOCATION:Four Seasons Island Resort\, 16800 Shoreline Dr\, Pembine\, WI\, 54156\, United States
CATEGORIES:Menominee
END:VEVENT
BEGIN:VEVENT
DTSTART;TZID=UTC:20241005T090000
DTEND;TZID=UTC:20241005T150000
DTSTAMP:20260423T173643
CREATED:20240930T175239Z
LAST-MODIFIED:20240930T175239Z
UID:10001746-1728118800-1728140400@upbarreview.com
SUMMARY:Wausaukee Fall Fest
DESCRIPTION:Wausaukee Fall Fest!!
URL:https://upbarreview.com/event/wausaukee-fall-fest/
LOCATION:704 Main St\, Wausaukee\, WI
CATEGORIES:Menominee
END:VEVENT
BEGIN:VEVENT
DTSTART;TZID=UTC:20241005T090000
DTEND;TZID=UTC:20241005T150000
DTSTAMP:20260423T173643
CREATED:20241001T025603Z
LAST-MODIFIED:20241001T025603Z
UID:10001813-1728118800-1728140400@upbarreview.com
SUMMARY:Calvary Church - Womens Event - Marinette
DESCRIPTION:Register today! Here is the link to register online: https://give.egive-usa.com/…/e495307f-5905-413f-b2ed…
URL:https://upbarreview.com/event/calvary-church-womens-event-marinette/2024-10-05/
LOCATION:Calvary Church\, W1498 State Highway 64\, Marinette\, WI
CATEGORIES:Menominee
END:VEVENT
BEGIN:VEVENT
DTSTART;TZID=UTC:20241005T090000
DTEND;TZID=UTC:20241005T230000
DTSTAMP:20260423T173643
CREATED:20241001T164048Z
LAST-MODIFIED:20241001T164048Z
UID:10002008-1728118800-1728169200@upbarreview.com
SUMMARY:Monettes Market & Cafe - Complementary Breakfast - Kingsford
DESCRIPTION:Join us for a complementary breakfast at Monette’s Market� � � More details to come! �
URL:https://upbarreview.com/event/monettes-market-cafe-complementary-breakfast-kingsford/
LOCATION:Monettes Market & Cafe\, 393 Woodward Ave\, Kingsford\, MI\, 49802
CATEGORIES:Ironmountain
END:VEVENT
BEGIN:VEVENT
DTSTART;TZID=UTC:20241005T093000
DTEND;TZID=UTC:20241005T110000
DTSTAMP:20260423T173643
CREATED:20240827T021110Z
LAST-MODIFIED:20240827T021110Z
UID:10001598-1728120600-1728126000@upbarreview.com
SUMMARY:Ink Society - Local Writers Group - Escanaba
DESCRIPTION:Ink Society is an informal group of local writers that connect at the library monthly to discuss their current work\, seek feedback\, and share ideas. Bring your work and prepare to be inspired!\nThe Ink Society meets the first Saturday of each month at 10:30 a.m.
URL:https://upbarreview.com/event/ink-society-local-writers-group-escanaba/2024-10-05/
LOCATION:Escanaba Public Library\, 400 Ludington St\, Escanaba\, WI\, 49829
CATEGORIES:Menominee
END:VEVENT
BEGIN:VEVENT
DTSTART;TZID=UTC:20241005T100000
DTEND;TZID=UTC:20241005T120000
DTSTAMP:20260423T173643
CREATED:20241001T033709Z
LAST-MODIFIED:20241001T033709Z
UID:10001843-1728122400-1728129600@upbarreview.com
SUMMARY:Woods Lake Shelter - Wildlife Wonders: Spiders - Crivitz
DESCRIPTION:Join us for a hands-on activity and a short talk about spiders. We will discuss web-making\, hunting behaviors\, local species and more. \nPlease dress appropriately for outdoor conditions and weather (i.e.\, sun protection\, bug spray\, hats\, raincoats\, footwear\, etc.). \nPrograms may be canceled due to inclement weather. \n*No experience necessary.
URL:https://upbarreview.com/event/woods-lake-shelter-wildlife-wonders-spiders-crivitz/
LOCATION:Gov. Thompson State Park\, N10008 Paust Lane\, Crivitz\, WI\, 54114
CATEGORIES:Menominee
END:VEVENT
BEGIN:VEVENT
DTSTART;TZID=UTC:20241005T100000
DTEND;TZID=UTC:20241005T123000
DTSTAMP:20260423T173643
CREATED:20241001T014905Z
LAST-MODIFIED:20241001T014905Z
UID:10001768-1728122400-1728131400@upbarreview.com
SUMMARY:BloomHouse23 - Succulent Heirloom Pumpkins Class - Coleman
DESCRIPTION:Date: Saturday\, October 5thTime: 10AM5 Presale Tickets: $395 General Admission Tickets: $45Class Limit: 10 Registered GuestsLocation: BloomHouse23\nThey’re baaackkk!! This is always one of our favorite and most popular Fall Creative Classes. We have had multiple public and private classes for these beauties\, and even travelled to the Marinette Senior Center to hold our “Succulent Pumpkins” class with some succulent-loving senior citizens! \nIn this class\, we will teach you how to arrange 15 to 20\, fun colored living succulents\, atop BIG\, beautiful\, heirloom pumpkins. You will chose from a couple varieties of moss to help nourish your succulent pumpkins. We will wrap up the class by teaching you how to care for your succulent pumpkins. These LIVING pieces of art make for beautiful fall porch decor and stunning Thanksgiving centerpieces as well!  \nCall us\, come on in\, or register online at: www.BloomHouse23.com/classes\n10% OFF CLASS SHOPPING DISCOUNT:For any class goers interested in shopping before or after their class\, we offer a 10% Class Shopping Discount as our way of saying thank you for trusting us with your creative classes! ~10% OFF STOREWIDE ON ANY AND ALL THINGS BloomHouse23. Including\, but not limited to the following items:•Florals•Furniture•Future Classes•Candy•Candles•Clocks•Keychains•Gifts•Home Decor Accents•Artwork•Apparel•Artificial Florals•Purses•Plants•Paintings•Seasonal Decor•Signs•Jewelry•Rugs•Wall Hangings•Bath Bombs•Lotions•Lanterns•Lip Glosses•Tumblers•Totes•Mirrors•Makeup\, & much\, much more…The list is endless!\n*10% OFF Class Shopping Discount is a STOREWIDE MINIMUM DISCOUNT of 10% OFF.\n*10% OFF Class Shopping Discount is an additional 10% OFF any sales we might be running the day of your class -Example: If apparel is 30% OFF for the general public\, you would receive the 30% OFF + your 10% OFF Class Shopping Discount\, for a total of 40% OFF ALL apparel you purchase the day of your class.\n*10% OFF Class Shopping Discount isonly valid the day of your class/event.\n*10% OFF Class Shopping Discount is not valid on the following items:•Gift Cards•Vendor Items•Monthly Floral Subscription Packages•Future Floral Orders for:-Weddings-Funerals-Dances-Etc.\nINTERESTED IN A PRIVATE CLASS?:Send us a message! We have hosted dozens of private classes and team building workshops. We can host your Private Class during our standard store hours\, or outside our standard store hours. We can also host your Private Class inside BoomHouse23 or we can travel to you with all the necessary supplies.
URL:https://upbarreview.com/event/bloomhouse23-succulent-heirloom-pumpkins-class-coleman/
LOCATION:BloomHouse\, 447 Business 141 N\, Coleman\, WI\, 54112
CATEGORIES:Menominee
END:VEVENT
BEGIN:VEVENT
DTSTART;TZID=UTC:20241005T100000
DTEND;TZID=UTC:20241005T140000
DTSTAMP:20260423T173643
CREATED:20241001T020749Z
LAST-MODIFIED:20241001T020749Z
UID:10001780-1728122400-1728136800@upbarreview.com
SUMMARY:GreenTree Auto - Season Closer Car Show - Escanaba
DESCRIPTION:As the leaves change color and a crisp Autumn breeze begins to fill the air\, we encourage all gearheads and automotive enthusiasts to gather for an event that will mark the culmination of another thrilling automotive season. 2024 was an awesome year for automotive events in Delta County and its surrounding areas and we want to end this season on a high note! Join us on Saturday\, October 5th at GreenTree Auto Styling in Escanaba to come together one last time before we all have to store away our beloved vehicles for the Winter!\nALL vehicles are welcome. Bikes\, cars\, trucks\, etc… We want to see everything you got!\n We will have a bucket raffle during this event thanks to some awesome businesses who donated prizes. ALL proceeds will be going to Youth Empowering Services(YES!) – An amazing organization dedicated to providing in-school mentoring and youth services for grades K-5 in Delta County \n Food will be available and served by the incredible Wildman’s Munchie Mobile & Roxy Jo’s Sweets\nPlease support our sponsors:Kujala Quality ContractingCobra EngineeringColdwell Banker – Robert DavisAuto Value Parts StoresLeigh’s Garden WineryRoots + Flowers PreservationsThe UPS Stores of Escanaba & Marquette
URL:https://upbarreview.com/event/greentree-auto-season-closer-car-show-escanaba/
LOCATION:GreenTree Auto Styling\, 3705 19th Ave North\, Escanaba\, WI
CATEGORIES:Menominee
END:VEVENT
BEGIN:VEVENT
DTSTART;TZID=UTC:20241005T100000
DTEND;TZID=UTC:20241005T140000
DTSTAMP:20260423T173643
CREATED:20241001T031617Z
LAST-MODIFIED:20241001T031628Z
UID:10001834-1728122400-1728136800@upbarreview.com
SUMMARY:Peshtigo Fire Department - Open House
DESCRIPTION:
URL:https://upbarreview.com/event/peshtigo-fire-department-open-house/
LOCATION:Peshtigo Fire Department\, W2435 Old Peshtigo Rd\, Marinette\, WI
CATEGORIES:Menominee
END:VEVENT
BEGIN:VEVENT
DTSTART;TZID=UTC:20241005T100000
DTEND;TZID=UTC:20241005T140000
DTSTAMP:20260423T173643
CREATED:20241001T164426Z
LAST-MODIFIED:20241001T164426Z
UID:10002011-1728122400-1728136800@upbarreview.com
SUMMARY:Longriders MC Toy Run - Kingsford
DESCRIPTION:It’s getting that time again for our Annual Toy Run! We will have the clubhouse open at 10:00am. For those that are attending for the first time\, the address is 772 Boyle Dr. Kingsford MI. This event is open to the public. Please bring a couple of new unwrapped toys which will be distributed to local children within our community. We will also be taking donations for the UP Foster Closet during this event. There will be a ride at noon\, raffle drawings\, poker run drawings\, food. Also this year we have Starr Lyrics DJ/KJ/VJ Entertainment. Truly a fun time with a great cause behind it. See you all there.
URL:https://upbarreview.com/event/longriders-mc-toy-run-kingsford/
LOCATION:772 Boyle Dr.\, Kingsford\, MI\, 49802
CATEGORIES:Ironmountain
END:VEVENT
BEGIN:VEVENT
DTSTART;TZID=UTC:20241005T100000
DTEND;TZID=UTC:20241005T150000
DTSTAMP:20260423T173643
CREATED:20241001T023044Z
LAST-MODIFIED:20241001T023044Z
UID:10001792-1728122400-1728140400@upbarreview.com
SUMMARY:Blazing Bear Homestead - Goats & Gourds Family Event - Peshtigo
DESCRIPTION:Get your tickets and come out to Blazing Bear Homestead for our Autumn family event Goats & Gourds! Fall into fun with this cozy farm getaway experience. You’ll get to pick your own gourd or mini pumpkin to paint and decorate\, then we’ll set those aside to dry and go visit with our friendly and silly goat herd. You’ll get to pet them\, feed them treats\, take all the pictures you want\, and enjoy their antics!\nTickets are $10 each\, maximum of 8 guests per time slot. There will be no on-site ticket sales\, please get your tickets online ahead of time. Gourds\, mini pumpkins\, and decorating supplies will be provided and you keep your creation. Treats to feed the goats are included as well.\nIf you would like a private session\, you are welcome to buy out all tickets for that time slot\, or contact us to set up a special session time. Please arrive 5 minutes early to sign waivers. A ticketed adult MUST accompany children 12 years of age and under at all times. Children 24 months and under get in free. Human attendees only\, no dogs/pets/outside animals of any kind.\nPlease wear clothes and shoes or boots that you won’t mind getting a little dirty. There is no public restroom on site\, so please plan accordingly.\nNOTE: These tickets are non-refundable. We will hold this event rain or shine.\nSaturdays: October 12th-November 2ndTime slots are 40 minutes each at 10am\, 11am\, 12pm\, 1pm\, and 2pm\nhttps://www.blazingbearhomestead.net/goatevents
URL:https://upbarreview.com/event/blazing-bear-homestead-goats-gourds-family-event-peshtigo/2024-10-05/
LOCATION:Blazing Bear Homestead\, W3070 Hale School Rd\, Peshtigo\, WI\, 54157
CATEGORIES:Menominee
END:VEVENT
BEGIN:VEVENT
DTSTART;TZID=UTC:20241005T100000
DTEND;TZID=UTC:20241005T150000
DTSTAMP:20260423T173643
CREATED:20241001T160607Z
LAST-MODIFIED:20241001T160607Z
UID:10001978-1728122400-1728140400@upbarreview.com
SUMMARY:The Maxx Entertainment Center - Flea Market - Iron Mountain
DESCRIPTION:flea market!
URL:https://upbarreview.com/event/the-maxx-entertainment-center-flea-market-iron-mountain/
LOCATION:The Maxx Entertainment Center\, 2202 Aragon St\, Iron Mountain\, MI\, 49801
CATEGORIES:Ironmountain
END:VEVENT
BEGIN:VEVENT
DTSTART;TZID=UTC:20241005T100000
DTEND;TZID=UTC:20241005T150000
DTSTAMP:20260423T173643
CREATED:20241001T161628Z
LAST-MODIFIED:20241001T161628Z
UID:10001998-1728122400-1728140400@upbarreview.com
SUMMARY:Echo Boutique - Semi Annual Color Tag Sale - Iron Mountain
DESCRIPTION:Join us at Echo Boutique for our Semi-Annual Color Tag Sale!Discover incredible discounts on a wide range of items!\nDon’t miss out on this exciting opportunity to refresh your wardrobe with fabulous deals! Hurry in while the colors last!\n**Thursday 10/3 take 40% off entire store**Friday 10/4 take 60% off entire store**Saturday 10/5 take 75% off entire store\n*Some exclusions may apply*[BLUE tags are excluded = NEW just in]
URL:https://upbarreview.com/event/echo-boutique-semi-annual-color-tag-sale-iron-mountain/2024-10-05/
LOCATION:Echo Boutique\, 408 S Stephenson Ave\, Iron Mountain\, MI\, 49801
CATEGORIES:Ironmountain
END:VEVENT
BEGIN:VEVENT
DTSTART;TZID=UTC:20241005T100000
DTEND;TZID=UTC:20241005T160000
DTSTAMP:20260423T173643
CREATED:20240930T180858Z
LAST-MODIFIED:20240930T180944Z
UID:10001758-1728122400-1728144000@upbarreview.com
SUMMARY:DeYoung Family Zoo - Boo at The Zoo - Wallace
DESCRIPTION:Join us for our annual��Boo at The Zoo ��Oct. 5th and 6th the zoo will be open 10am-4pm ticket booth closes at 3pmWear your costume!�Please no blow up costumes �\nAdults $16Seniors $15Kids $14Children 2 years old and under are freeVeterans are free with Military ID
URL:https://upbarreview.com/event/deyoung-family-zoo-boo-at-the-zoo-wallace/2024-10-05/
LOCATION:DeYoung Family Zoo\, N5406 County Road 577\, Wallace\, WI\, 49893
CATEGORIES:Menominee
END:VEVENT
BEGIN:VEVENT
DTSTART;TZID=UTC:20241005T100000
DTEND;TZID=UTC:20241005T170000
DTSTAMP:20260423T173643
CREATED:20241001T033544Z
LAST-MODIFIED:20241001T033544Z
UID:10001842-1728122400-1728147600@upbarreview.com
SUMMARY:Swansons Big Red Barn - PumpkinFest - Niagara
DESCRIPTION:A fun fall family event!  All the sights\, smells and flavors of the autumn season! A Pumpkin Patch\, Corn Maze\, Game Zone and unique activities for the kids you won’t find anywhere else along with amazing homemade treats! Indulge in Pumpkin Pie in a Cup\, grab a cup of Edelweiss Coffee then watch the kids have a blast finding their way through our corn maze!
URL:https://upbarreview.com/event/swansons-big-red-barn-pumpkinfest-niagara/
LOCATION:Swansons Big Red Barn\, 7484 Valerio Rd\, Niagara\, WI\, 54141
CATEGORIES:Menominee
END:VEVENT
BEGIN:VEVENT
DTSTART;TZID=UTC:20241005T110000
DTEND;TZID=UTC:20241005T150000
DTSTAMP:20260423T173643
CREATED:20241001T015911Z
LAST-MODIFIED:20241001T015911Z
UID:10001774-1728126000-1728140400@upbarreview.com
SUMMARY:Oconto Humane Society - BBQ Food Trailer
DESCRIPTION:Hey BBQ fans come join us in front of the Oconto humane society this Saturday from 10-2
URL:https://upbarreview.com/event/oconto-humane-society-bbq-food-trailer/
LOCATION:3138 Wood Rd\, Oconto\, WI\, 54153
CATEGORIES:Menominee
END:VEVENT
BEGIN:VEVENT
DTSTART;TZID=UTC:20241005T120000
DTEND;TZID=UTC:20241005T130000
DTSTAMP:20260423T173643
CREATED:20241001T022145Z
LAST-MODIFIED:20241001T022145Z
UID:10001790-1728129600-1728133200@upbarreview.com
SUMMARY:DNR Pocket Park - Mushroom Identification Workshop - Escanaba
DESCRIPTION:A comprehensive overview of mushrooms. The benefits of foraging\, how to identify mushrooms\, how to get certified to sell mushrooms and a mushroom scavenger hunt.
URL:https://upbarreview.com/event/dnr-pocket-park-mushroom-identification-workshop-escanaba/
LOCATION:Michigan DNR Pocket Park\, 2401 12th Avenue North\, Escanaba\, MI\, 49829
CATEGORIES:Menominee
END:VEVENT
BEGIN:VEVENT
DTSTART;TZID=UTC:20241005T120000
DTEND;TZID=UTC:20241005T140000
DTSTAMP:20260423T173643
CREATED:20241001T021446Z
LAST-MODIFIED:20241001T021446Z
UID:10001785-1728129600-1728136800@upbarreview.com
SUMMARY:Escanaba Public Library - Lego Club Spooky
DESCRIPTION:October’s Lego Club will take place on Saturday\, October 5 at 1:00 p.m. Come on down and join the fun with the theme “Spooky” or build something out of your own imagination!\nYou can be entered into a prize drawing\, too.\nPlease bring one container of Legos per child.\n(Next month we will resume the usual second Saturday for Lego Club.)
URL:https://upbarreview.com/event/escanaba-public-library-lego-club-spooky/
LOCATION:Escanaba Public Library\, 400 Ludington St\, Escanaba\, WI\, 49829
CATEGORIES:Menominee
END:VEVENT
BEGIN:VEVENT
DTSTART;TZID=UTC:20241005T120000
DTEND;TZID=UTC:20241005T153000
DTSTAMP:20260423T173643
CREATED:20240930T171117Z
LAST-MODIFIED:20240930T171117Z
UID:10001727-1728129600-1728142200@upbarreview.com
SUMMARY:Marinette Rec Center - Boos and Books
DESCRIPTION:An event open to all authors and vendors. Share with your crafty friends and author friends\, we would love to see them! They can register with the link below!
URL:https://upbarreview.com/event/marinette-rec-center-boos-and-books/
LOCATION:Marinette Recreation Center\, 2501 Pierce Avenue\, Marinette\, WI\, 54143\, United States
CATEGORIES:Menominee
END:VEVENT
BEGIN:VEVENT
DTSTART;TZID=UTC:20241005T120000
DTEND;TZID=UTC:20241005T160000
DTSTAMP:20260423T173643
CREATED:20240930T153108Z
LAST-MODIFIED:20240930T153108Z
UID:10001709-1728129600-1728144000@upbarreview.com
SUMMARY:Cedars Edge Wine & Gifts - Oktoberfest - Niagara
DESCRIPTION:What is October without German Wine! Join us for our 2nd Oktoberfest! Don your Lederhosen and jig to Safe Sax! The Niagara Lions will be providing brats (for donation). Looking forward to seeing repeat guests and friend as well as new faces
URL:https://upbarreview.com/event/cedars-edge-wine-gifts-oktoberfest-niagara/
LOCATION:Cedars Edge Wine & Gifts\, W6014 Chapman Rd\, Niagara\, WI\, 54151
CATEGORIES:Ironmountain
END:VEVENT
BEGIN:VEVENT
DTSTART;TZID=UTC:20241005T140000
DTEND;TZID=UTC:20241005T180000
DTSTAMP:20260423T173643
CREATED:20241001T030821Z
LAST-MODIFIED:20241001T030821Z
UID:10001831-1728136800-1728151200@upbarreview.com
SUMMARY:The Outback - Mark Peterson Live - Marinette
DESCRIPTION:THIS WEEKEND 10/5/24 we have Mark Peterson playing live music The Outback!!\n\n\n2:00-6:00 pm
URL:https://upbarreview.com/event/the-outback-mark-peterson-live-marinette/
LOCATION:The Outback\, 1997 Old Peshtigo Rd\, Marinette\, WI\, 54143\, United States
CATEGORIES:Menominee
END:VEVENT
BEGIN:VEVENT
DTSTART;TZID=UTC:20241005T140000
DTEND;TZID=UTC:20241005T180000
DTSTAMP:20260423T173643
CREATED:20241002T120744Z
LAST-MODIFIED:20241002T120744Z
UID:10002067-1728136800-1728151200@upbarreview.com
SUMMARY:The Outback - Toast for Tori - Marinette
DESCRIPTION:Come join us this Saturday 10/5 for a Toast For Tori\, a dear friend of ours who passed away.
URL:https://upbarreview.com/event/the-outback-toast-for-tori-marinette/
LOCATION:The Outback\, 1997 Old Peshtigo Rd\, Marinette\, WI\, 54143\, United States
CATEGORIES:Menominee
END:VEVENT
BEGIN:VEVENT
DTSTART;TZID=UTC:20241005T160000
DTEND;TZID=UTC:20241005T190000
DTSTAMP:20260423T173643
CREATED:20241001T015249Z
LAST-MODIFIED:20241001T015249Z
UID:10001770-1728144000-1728154800@upbarreview.com
SUMMARY:Crivellos - Southside Reunion - Oconto
DESCRIPTION:Attention all original Southsiders from Oconto. If you resided on the Southside in the 40’s\, 50’s and the 60’s it is time for our reunion. It will be held on Saturday\, October 5th at Crivello’s in Oconto. Social hour is at 4 PM with dinner at 5 PM. Feel free to bring your favorite dessert if you wish. If you have any questions call Debbie at 834-3769.
URL:https://upbarreview.com/event/crivellos-southside-reunion-oconto/
LOCATION:Crivello’s\, 818 Main St\, Oconto\, WI\, 54153
CATEGORIES:Menominee
END:VEVENT
BEGIN:VEVENT
DTSTART;TZID=UTC:20241005T170000
DTEND;TZID=UTC:20241005T190000
DTSTAMP:20260423T173643
CREATED:20240930T154519Z
LAST-MODIFIED:20240930T154519Z
UID:10001714-1728147600-1728154800@upbarreview.com
SUMMARY:Spirit House - Salsa Saturday - Menominee
DESCRIPTION:SALSA SATURDAY Oct 5th at SPIRIT HOUSE!  7pm Dance lesson.  8pm Latin social dance party! Practice salsa\, bachata\, merengue\, cumbia\, cha cha\, etc. with Fox Valley Latin Dancers.  Pay $10 for class (cash preferred). Social dance party FREE for Hispanic Heritage month!  Buy 1 drink minimum. All levels welcome! No partner needed. No experience necessary.  No carry-ins please.
URL:https://upbarreview.com/event/spirit-house-salsa-saturday-menominee/
LOCATION:Spirit House\, 533 10th Ave\, Menominee\, MI 49858\, Menominee\, MI\, 49858\, United States
CATEGORIES:Menominee
END:VEVENT
END:VCALENDAR