BEGIN:VCALENDAR
VERSION:2.0
PRODID:-//UP BAR REVIEW - ECPv6.14.2//NONSGML v1.0//EN
CALSCALE:GREGORIAN
METHOD:PUBLISH
X-WR-CALNAME:UP BAR REVIEW
X-ORIGINAL-URL:https://upbarreview.com
X-WR-CALDESC:Events for UP BAR REVIEW
REFRESH-INTERVAL;VALUE=DURATION:PT1H
X-Robots-Tag:noindex
X-PUBLISHED-TTL:PT1H
BEGIN:VTIMEZONE
TZID:UTC
BEGIN:STANDARD
TZOFFSETFROM:+0000
TZOFFSETTO:+0000
TZNAME:UTC
DTSTART:20240101T000000
END:STANDARD
END:VTIMEZONE
BEGIN:VEVENT
DTSTART;TZID=UTC:20241004T080000
DTEND;TZID=UTC:20241004T100000
DTSTAMP:20260423T154615
CREATED:20241001T160053Z
LAST-MODIFIED:20241001T160053Z
UID:10001974-1728028800-1728036000@upbarreview.com
SUMMARY:Mom to Mom Sale Fall 2024 - Iron Mountain
DESCRIPTION:Get ready for the next season! Baby/Kids clothes of all sizes.Mom to Mom tables all items $1 each.\n$2 Suggested admission. Children Free.\nProfits to benefit the MOM TO MOM of Dickinson county. The task of parenting is possible & it can be filled with joy. We come together as a faith-based community to seek authentic connections\, support in motherhood\, and growth in our faith walk. All moms are welcome to join us at our Monthly meeting!\nVendor tables are available for rent.Message us for details.\nWe are accepting gently used baby and kids clothes donations. Message us to coordinate.\nfccmomtomom.org
URL:https://upbarreview.com/event/mom-to-mom-sale-fall-2024-iron-mountain/
LOCATION:125 E H St\, Iron Mountain\, MI\, 49801
CATEGORIES:Ironmountain
END:VEVENT
BEGIN:VEVENT
DTSTART;TZID=UTC:20241004T100000
DTEND;TZID=UTC:20241004T150000
DTSTAMP:20260423T154615
CREATED:20241001T161628Z
LAST-MODIFIED:20241001T161628Z
UID:10001997-1728036000-1728054000@upbarreview.com
SUMMARY:Echo Boutique - Semi Annual Color Tag Sale - Iron Mountain
DESCRIPTION:Join us at Echo Boutique for our Semi-Annual Color Tag Sale!Discover incredible discounts on a wide range of items!\nDon’t miss out on this exciting opportunity to refresh your wardrobe with fabulous deals! Hurry in while the colors last!\n**Thursday 10/3 take 40% off entire store**Friday 10/4 take 60% off entire store**Saturday 10/5 take 75% off entire store\n*Some exclusions may apply*[BLUE tags are excluded = NEW just in]
URL:https://upbarreview.com/event/echo-boutique-semi-annual-color-tag-sale-iron-mountain/2024-10-04/
LOCATION:Echo Boutique\, 408 S Stephenson Ave\, Iron Mountain\, MI\, 49801
CATEGORIES:Ironmountain
END:VEVENT
BEGIN:VEVENT
DTSTART;TZID=UTC:20241004T150000
DTEND;TZID=UTC:20241004T200000
DTSTAMP:20260423T154615
CREATED:20240930T181548Z
LAST-MODIFIED:20240930T181548Z
UID:10001762-1728054000-1728072000@upbarreview.com
SUMMARY:Upper Hand Brewery - Plaidurday - Escanaba
DESCRIPTION:Who doesn’t love a good plaid!? Visit us in the Taproom wearing your favorite plaid to celebrate Plaidurday. We will be taking a group photo at 7:30 PM. Enjoy some food and tunes with all of your fellow plaid lovers!
URL:https://upbarreview.com/event/upper-hand-brewery-plaidurday-escanaba/
LOCATION:Upper Hand Brewery\, 3525 Airport Rd\, Escanaba\, WI\, 49829
CATEGORIES:Menominee
END:VEVENT
BEGIN:VEVENT
DTSTART;TZID=UTC:20241004T173000
DTEND;TZID=UTC:20241004T203000
DTSTAMP:20260423T154615
CREATED:20240827T012633Z
LAST-MODIFIED:20240827T012633Z
UID:10001518-1728063000-1728073800@upbarreview.com
SUMMARY:NSRCC BINGO - Pembine
DESCRIPTION:Join us for a fun-filled evening of bingo!Doors open at 5:30pmGames start at 6:00pm\nFood\, drinks\, and daubers will be available for purchase.This event is fun for the whole family! – We look forward to seeing you soon!\nTHIS EVENT HAS FREE WIFI
URL:https://upbarreview.com/event/nsrcc-bingo-pembine/2024-10-04/
LOCATION:NSRCC\, 17112 US-141\, Pembine\, WI\, 54156
CATEGORIES:Menominee
END:VEVENT
BEGIN:VEVENT
DTSTART;TZID=UTC:20241004T173000
DTEND;TZID=UTC:20241004T203000
DTSTAMP:20260423T154615
CREATED:20240930T171953Z
LAST-MODIFIED:20240930T171953Z
UID:10001733-1728063000-1728073800@upbarreview.com
SUMMARY:McCrafties - Autumn Leaves Canvas Painting - Menominee
DESCRIPTION:Join us for a fun and relaxing evening painting autumn leaves! This acrylic painting class is perfect for beginners\, so no experience is necessary. We’ll provide all the supplies\, including a 16×20 canvas\, so just bring your creativity\, food and drinks and let’s have a great time!\nPRE-PAYMENT of $40 is required to save your spot. Feel free to call the studio or stop in with payment.\n715-440-5959\n\nCLASS REFUND POLICY\n-full in studio credit if cancellation is 1 week prior to the class-50% in studio credit up to 24 hours prior to class.-less than 24 hours notice\, no credit-NO SHOW/ NO CALL/NO CREDIT
URL:https://upbarreview.com/event/mccrafties-autumn-leaves-canvas-painting-menominee/
LOCATION:McCrafties\, 625 1st St\, Menominee\, MI\, 49858\, United States
CATEGORIES:Menominee
END:VEVENT
BEGIN:VEVENT
DTSTART;TZID=UTC:20241004T180000
DTEND;TZID=UTC:20241004T193000
DTSTAMP:20260423T154615
CREATED:20241001T025603Z
LAST-MODIFIED:20241001T025603Z
UID:10001812-1728064800-1728070200@upbarreview.com
SUMMARY:Calvary Church - Womens Event - Marinette
DESCRIPTION:Register today! Here is the link to register online: https://give.egive-usa.com/…/e495307f-5905-413f-b2ed…
URL:https://upbarreview.com/event/calvary-church-womens-event-marinette/2024-10-04/
LOCATION:Calvary Church\, W1498 State Highway 64\, Marinette\, WI
CATEGORIES:Menominee
END:VEVENT
BEGIN:VEVENT
DTSTART;TZID=UTC:20241004T180000
DTEND;TZID=UTC:20241004T203000
DTSTAMP:20260423T154615
CREATED:20240814T212827Z
LAST-MODIFIED:20240814T212827Z
UID:10001446-1728064800-1728073800@upbarreview.com
SUMMARY:Embers 1871 - Evening With a Medium - Peshtigo
DESCRIPTION:LoriAnn is back for an evening with a Medium\nBack from her Residency in Las Vegas\nFriday October 4\, 2024\nDoors Open at 6pm\nStarts at 7pm\nTickets $75 Purchase here \nhttps://events.eventgroove.com/event/Loriann-Midwest-Medium-98187?fbclid=IwY2xjawEqAJRleHRuA2FlbQIxMAABHRQOt473JWZlt5oLXVlg9JU_l_xu2YxNgHAkeBi4jOqyO3jCcgCMBD0L4A_aem_lIaTQ3Yzldr5R9Bz66_FMg
URL:https://upbarreview.com/event/embers-1871-evening-with-a-medium-peshtigo/
LOCATION:Embers 1871\, W3529 Co Rd B\, Peshtigo\, WI\, 54157\, United States
CATEGORIES:Menominee
END:VEVENT
BEGIN:VEVENT
DTSTART;TZID=UTC:20241004T180000
DTEND;TZID=UTC:20241004T210000
DTSTAMP:20260423T154615
CREATED:20240728T193648Z
LAST-MODIFIED:20240728T193838Z
UID:10001140-1728064800-1728075600@upbarreview.com
SUMMARY:Four Seasons Island Resort - Melanie Rose in The Lounge Bar - Pembine
DESCRIPTION:Join us in The Lounge Bar from 6:00 PM – 9:00 PM with a live performance by Melanie Rose!\nMelanie Rose is a Singer/Songwriter out of the Upper Peninsula of Michigan. Her passion for music has encouraged her to perform Live cover shows\, as well as write and perform her own songs. Melanie has released one album “So Long” within the last 2 years\, and is currently recording her second!
URL:https://upbarreview.com/event/four-seasons-island-resort-melanie-rose-in-the-lounge-bar-pembine/2024-10-04/
LOCATION:Four Seasons Island Resort\, 16800 Shoreline Dr\, Pembine\, WI\, 54156\, United States
CATEGORIES:Menominee
END:VEVENT
BEGIN:VEVENT
DTSTART;TZID=UTC:20241004T180000
DTEND;TZID=UTC:20241004T210000
DTSTAMP:20260423T154615
CREATED:20241001T035116Z
LAST-MODIFIED:20241001T035116Z
UID:10001852-1728064800-1728075600@upbarreview.com
SUMMARY:Sandstone Terrace - Live Music - Iron Mountain
DESCRIPTION:October is just around the corner! Swing by the Terrace this week for some great live music. Check out the schedule below. See you on the Terrace!\n\n\nWednesday\, October 2nd: Money Shot Acoustic 6p-9p (open 4p-close)\nThursday\, October 3rd: Mark Young 6p-9p (open 4p-close)\nFriday\, October 4th: Norton and Chartier 6p-9p (open 4p-close)\nSaturday\, October 5th: Winnie Brave 6p-9p (open 4p-close)
URL:https://upbarreview.com/event/sandstone-terrace-live-music-iron-mountain/2024-10-04/
LOCATION:Sandstone Terrace Rooftop Bar\, 220 Iron Mountain St\, Iron Mountain\, MI\, 49801
CATEGORIES:Ironmountain
END:VEVENT
BEGIN:VEVENT
DTSTART;TZID=UTC:20241004T190000
DTEND;TZID=UTC:20241004T203000
DTSTAMP:20260423T154615
CREATED:20240930T171723Z
LAST-MODIFIED:20240930T171723Z
UID:10001731-1728068400-1728073800@upbarreview.com
SUMMARY:Embers 1871 - Loriann The Midwest Medium - Peshtigo
DESCRIPTION:Evening with a MediumBack from her Residency in Las VegasFriday October 4\, 2024Doors Open at 6pmStarts at 7pmTickets $75https://events.eventgroove.com/…/Loriann-Midwest-Medium…Seating is First Come First Serve
URL:https://upbarreview.com/event/embers-1871-loriann-the-midwest-medium-peshtigo/
LOCATION:Embers 1871\, W3529 Co Rd B\, Peshtigo\, WI\, 54157\, United States
CATEGORIES:Menominee
END:VEVENT
BEGIN:VEVENT
DTSTART;TZID=UTC:20241004T190000
DTEND;TZID=UTC:20241004T213000
DTSTAMP:20260423T154615
CREATED:20241001T033333Z
LAST-MODIFIED:20241001T033333Z
UID:10001841-1728068400-1728077400@upbarreview.com
SUMMARY:Moose Lodge - Haunted House - Marinette
DESCRIPTION:The Marinette Moose Lodge #2327 will be holding their 20th annual Haunted House and Haunted Trail. A Four Night event conducted the last weekend (Friday/Saturday) of September (27 & 28) and the first weekend (Friday/Saturday) of October (4 & 5) with the first victims allowed to enter at 7:00 PM and the last going through at 9:15 PM. Victims that survive the Haunted House and Haunted Trail normally take about 90 minutes to complete both the Haunted House and Haunted trail. There is a No Scare “Behind the Scenes” tour on the two Saturdays 9/28 & 10/5) from 5:30 PM to 6:30 PM. The Behind the Scenes Tour is guided\, and only $5.00 for families. During the No Scare\, Behind the Scenes Tour no actors will be scaring during this time\, which allows for scene maintenance. You will still get to see the Haunted House scenes without all the sounds and scaring! Proceeds of the 2024 event will be going to the Marinette/Menominee YMCA and the Machickanee Players. The Haunted House is a guided walk through with up to 32 different themed rooms. This is followed by an unguided Haunted Trail that is over 1500 feet with over 30 haunted scenes. The cost is $15.00\, which includes an R.I.P. pass. This pass allows for $5.00 off all future Moose Lodge Haunted House admissions.
URL:https://upbarreview.com/event/moose-lodge-haunted-house-marinette/2024-10-04/
LOCATION:Marinette Moose Lodge\, N5233 E. Nettleton Road\, Marinette\, WI\, 54143
CATEGORIES:Menominee
END:VEVENT
BEGIN:VEVENT
DTSTART;TZID=UTC:20241004T190000
DTEND;TZID=UTC:20241004T213000
DTSTAMP:20260423T154616
CREATED:20241001T170220Z
LAST-MODIFIED:20241001T170220Z
UID:10002051-1728068400-1728077400@upbarreview.com
SUMMARY:Island Resort & Casino - The Heart of Rock & Roll - Harris
DESCRIPTION:The Heart of Rock and Roll goes beyond mere tribute with a frontman who brings to life the look and sound of Huey Lewis so accurately it’s uncanny. After seeing them live\, Sean Hopper\, founding member of Huey Lewis and the News called it\, “A surreal experience. Their attention to detail\, both vocally and every other way is astounding.” This wildly popular tribute band brings Huey Lewis and the News’ infectious blend of rock\, pop\, blues and soul to audiences of all ages. With unforgettable hits like\, “Hip to Be Square\,” “Stuck with You\,” “I Want a New Drug\,” “The Power of Love\,” and of course\, “The Heart of Rock & Roll.”\nThe show is a non-stop multimedia ride through all of Huey Lewis and the News’ biggest hits in a colorful and exciting concert complete with video\, costume changes and engaging audience interaction
URL:https://upbarreview.com/event/island-resort-casino-the-heart-of-rock-roll-harris/
LOCATION:Island Resort & Casino\, W 399 US-2\, Harris\, MI\, 49845\, United States
CATEGORIES:Ironmountain
END:VEVENT
BEGIN:VEVENT
DTSTART;TZID=UTC:20241004T200000
DTEND;TZID=UTC:20241004T230000
DTSTAMP:20260423T154616
CREATED:20241001T025712Z
LAST-MODIFIED:20241001T025712Z
UID:10001814-1728072000-1728082800@upbarreview.com
SUMMARY:Cactus - Live Sweetalk & Keith Daniel Psycho Swamp Stomp Band - Marinette
DESCRIPTION:Keith Daniel’s Psycho Swamp Stomp Band and Sweetalk return to Cactus Menekaunee to rip the roof off. NO COVER. 21+. Doors at 7 PM. Music at 8 PM.\nKeith Daniel’s Psycho Swamp Stomp Band – Northern gothic troubadour from Green Bay\, WIListen here —> https://open.spotify.com/album/6SomUPgWS9UV8GKM428BeC…\nSweetalk – Three-piece rock band from Green Bay\, WI. FFO: Deftones\, Thrice\, Glassjaw\, At the Drive InListen here —> linktr.ee/sweetalkband
URL:https://upbarreview.com/event/cactus-live-sweetalk-keith-daniel-psycho-swamp-stomp-band-marinette/
LOCATION:The Cactus\, 40 W Hosmer St\, Marinette\, WI\, 54143
CATEGORIES:Menominee
END:VEVENT
END:VCALENDAR