BEGIN:VCALENDAR
VERSION:2.0
PRODID:-//UP BAR REVIEW - ECPv6.14.2//NONSGML v1.0//EN
CALSCALE:GREGORIAN
METHOD:PUBLISH
X-ORIGINAL-URL:https://upbarreview.com
X-WR-CALDESC:Events for UP BAR REVIEW
REFRESH-INTERVAL;VALUE=DURATION:PT1H
X-Robots-Tag:noindex
X-PUBLISHED-TTL:PT1H
BEGIN:VTIMEZONE
TZID:UTC
BEGIN:STANDARD
TZOFFSETFROM:+0000
TZOFFSETTO:+0000
TZNAME:UTC
DTSTART:20240101T000000
END:STANDARD
END:VTIMEZONE
BEGIN:VEVENT
DTSTART;TZID=UTC:20240918T080000
DTEND;TZID=UTC:20240918T170000
DTSTAMP:20260424T200218
CREATED:20240827T030723Z
LAST-MODIFIED:20240827T030723Z
UID:10001624-1726646400-1726678800@upbarreview.com
SUMMARY:Take A Peek LLC - Open House - Coleman
DESCRIPTION:Enjoy fall shopping at our local small business that features gifts and home decor. Enjoy samples and free gift with purchase.
URL:https://upbarreview.com/event/take-a-peek-llc-open-house-coleman/2024-09-18/
LOCATION:Take A Peek LLC\, 218 Sunset Ave\, Coleman\, WI
CATEGORIES:Menominee
END:VEVENT
BEGIN:VEVENT
DTSTART;TZID=UTC:20240918T150000
DTEND;TZID=UTC:20240918T180000
DTSTAMP:20260424T200218
CREATED:20240626T145913Z
LAST-MODIFIED:20240728T212922Z
UID:10000564-1726671600-1726682400@upbarreview.com
SUMMARY:Escanaba Farmers Market
DESCRIPTION:The Escanaba Farmers Market runs from 3 to 6 p.m. at the Marketplace on Wednesdays. Catch music from 11:30am-1:30pm beforehand. Come check it out!
URL:https://upbarreview.com/event/escanaba-farmers-market/2024-09-18/
LOCATION:Escanaba Marketplace\, 1501 Ludington St\, Escanaba\, MI\, 49829
CATEGORIES:Menominee
END:VEVENT
BEGIN:VEVENT
DTSTART;TZID=UTC:20240918T160000
DTEND;TZID=UTC:20240918T193000
DTSTAMP:20260424T200218
CREATED:20240827T133046Z
LAST-MODIFIED:20240827T133046Z
UID:10001690-1726675200-1726687800@upbarreview.com
SUMMARY:Knights of Columbus - Bingo Wednesday - Iron Mountain
DESCRIPTION:The Columbus Club operates the hall and hosts Charity Bingo every Wednesday night. \n\nDoors open at 4:00 PM\nBingo Games start at 6:30 PM.\nFood is available for purchase at the hall.\n\nThe Columbus Club uses all proceeds to maintain the building and support the good works of the council.  Bingo is operated under the regulations set by the State of Michigan Charitable Gaming.
URL:https://upbarreview.com/event/knights-of-columbus-bingo-wednesday-iron-mountain/2024-09-18/
LOCATION:Knights of Columbus Kingsford\, 520 West Breitung Ave\, Kingsford\, MI
CATEGORIES:Ironmountain
END:VEVENT
BEGIN:VEVENT
DTSTART;TZID=UTC:20240918T173000
DTEND;TZID=UTC:20240918T210000
DTSTAMP:20260424T200218
CREATED:20240826T233123Z
LAST-MODIFIED:20240826T233123Z
UID:10001458-1726680600-1726693200@upbarreview.com
SUMMARY:Spirit House - Menominee Animal Shelter Paw-tay
DESCRIPTION:Join us on Wednesday September 18th for a silent auction \, 50/50 raffles and some excellent eats provided by Tasty Traveler! All proceeds benefit the MAS expansion 
URL:https://upbarreview.com/event/spirit-house-menominee-animal-shelter-paw-tay/
LOCATION:Spirit House\, 533 10th Ave\, Menominee\, MI 49858\, Menominee\, MI\, 49858\, United States
CATEGORIES:Menominee
END:VEVENT
BEGIN:VEVENT
DTSTART;TZID=UTC:20240918T180000
DTEND;TZID=UTC:20240918T200000
DTSTAMP:20260424T200218
CREATED:20240827T013654Z
LAST-MODIFIED:20240827T013654Z
UID:10001539-1726682400-1726689600@upbarreview.com
SUMMARY:NSRCC - Scrapbooking Class - Pembine
DESCRIPTION:EVENT DETAILS COMING SOON!
URL:https://upbarreview.com/event/nsrcc-scrapbooking-class-pembine/2024-09-18/
LOCATION:NSRCC\, 17112 US-141\, Pembine\, WI\, 54156
CATEGORIES:Menominee
END:VEVENT
BEGIN:VEVENT
DTSTART;TZID=UTC:20240918T200000
DTEND;TZID=UTC:20240918T220000
DTSTAMP:20260424T200218
CREATED:20240802T135941Z
LAST-MODIFIED:20240802T135941Z
UID:10001431-1726689600-1726696800@upbarreview.com
SUMMARY:House of Ludington - House Band - Escanaba
DESCRIPTION:hear some live music from the House Band at the House of Ludington! Every Wednesday 8-10pm!
URL:https://upbarreview.com/event/house-of-ludington-house-band-escanaba/2024-09-18/
LOCATION:House of Ludington\, 223 Ludington St\, Escanaba\, MI\, 49829
CATEGORIES:Menominee
END:VEVENT
END:VCALENDAR